BEGIN:VCALENDAR
VERSION:2.0
PRODID:-//Bungendore Showground - ECPv6.15.17//NONSGML v1.0//EN
CALSCALE:GREGORIAN
METHOD:PUBLISH
X-WR-CALNAME:Bungendore Showground
X-ORIGINAL-URL:https://bungendoreshowground.com.au
X-WR-CALDESC:Events for Bungendore Showground
REFRESH-INTERVAL;VALUE=DURATION:PT1H
X-Robots-Tag:noindex
X-PUBLISHED-TTL:PT1H
BEGIN:VTIMEZONE
TZID:Australia/Sydney
BEGIN:STANDARD
TZOFFSETFROM:+1100
TZOFFSETTO:+1000
TZNAME:AEST
DTSTART:20250405T160000
END:STANDARD
BEGIN:DAYLIGHT
TZOFFSETFROM:+1000
TZOFFSETTO:+1100
TZNAME:AEDT
DTSTART:20251004T160000
END:DAYLIGHT
BEGIN:STANDARD
TZOFFSETFROM:+1100
TZOFFSETTO:+1000
TZNAME:AEST
DTSTART:20260404T160000
END:STANDARD
BEGIN:DAYLIGHT
TZOFFSETFROM:+1000
TZOFFSETTO:+1100
TZNAME:AEDT
DTSTART:20261003T160000
END:DAYLIGHT
BEGIN:STANDARD
TZOFFSETFROM:+1100
TZOFFSETTO:+1000
TZNAME:AEST
DTSTART:20270403T160000
END:STANDARD
BEGIN:DAYLIGHT
TZOFFSETFROM:+1000
TZOFFSETTO:+1100
TZNAME:AEDT
DTSTART:20271002T160000
END:DAYLIGHT
END:VTIMEZONE
BEGIN:VEVENT
DTSTART;VALUE=DATE:20261101
DTEND;VALUE=DATE:20261102
DTSTAMP:20260425T140951
CREATED:20260220T043716Z
LAST-MODIFIED:20260220T043716Z
UID:3874-1793491200-1793577599@bungendoreshowground.com.au
SUMMARY:Bungendore Adult Riding Club training day
DESCRIPTION:
URL:https://bungendoreshowground.com.au/event/bungendore-adult-riding-club-training-day/
END:VEVENT
BEGIN:VEVENT
DTSTART;VALUE=DATE:20261106
DTEND;VALUE=DATE:20261109
DTSTAMP:20260425T140951
CREATED:20260114T003059Z
LAST-MODIFIED:20260114T003059Z
UID:3858-1793923200-1794182399@bungendoreshowground.com.au
SUMMARY:Lake George Kennel Club Dog Show
DESCRIPTION:
URL:https://bungendoreshowground.com.au/event/lake-george-kennel-club-dog-show-2/
END:VEVENT
BEGIN:VEVENT
DTSTART;VALUE=DATE:20261108
DTEND;VALUE=DATE:20261109
DTSTAMP:20260425T140951
CREATED:20250707T082107Z
LAST-MODIFIED:20251019T194050Z
UID:3148-1794096000-1794182399@bungendoreshowground.com.au
SUMMARY:Bungendore Pony Club
DESCRIPTION:
URL:https://bungendoreshowground.com.au/event/bungendore-pony-club-6-2026-11-08/
LOCATION:Mathews Lane off Bungendore Rd\, Bungendore\, NSW\, Australia
CATEGORIES:1 - Main Arena,2 - Equestrian Parking,20 - Container/Shed Storage,4 - Covered Arena,42 - Equestrian Parking,6 - Dressage Arena,7 - Jumping Arena,8 - Cross Country Course
END:VEVENT
BEGIN:VEVENT
DTSTART;VALUE=DATE:20261113
DTEND;VALUE=DATE:20261116
DTSTAMP:20260425T140951
CREATED:20260421T014506Z
LAST-MODIFIED:20260421T014506Z
UID:3914-1794528000-1794787199@bungendoreshowground.com.au
SUMMARY:Fields of Gold event hosted by SCA Canberra
DESCRIPTION:
URL:https://bungendoreshowground.com.au/event/fields-of-gold-event-hosted-by-sca-canberra/
CATEGORIES:10 - Cattle Judging Arena,16 - South/East Camping Area,23 - Jockey's Room,24 - Stage,25 - Covered Sail Area,26 - Kitchen and Dining Hall,27 - Breezeway Area,28 - Show Pavilion,29 - Main Bar/Cool room,30 - Disabled Access Toilet,31 - Outdoor Bar,32 - Southern Toilet/Showers,39 - Cattle Stalls
END:VEVENT
BEGIN:VEVENT
DTSTART;VALUE=DATE:20261127
DTEND;VALUE=DATE:20261128
DTSTAMP:20260425T140951
CREATED:20260220T043935Z
LAST-MODIFIED:20260220T043935Z
UID:3878-1795737600-1795823999@bungendoreshowground.com.au
SUMMARY:Bungendore Adult Riding Club Camp setup
DESCRIPTION:
URL:https://bungendoreshowground.com.au/event/bungendore-adult-riding-club-camp-setup/
END:VEVENT
BEGIN:VEVENT
DTSTART;VALUE=DATE:20261128
DTEND;VALUE=DATE:20261130
DTSTAMP:20260425T140951
CREATED:20250716T231912Z
LAST-MODIFIED:20260220T043830Z
UID:3172-1795824000-1795996799@bungendoreshowground.com.au
SUMMARY:Bungendore Adult Riding Club Camp - Covered arena not available
DESCRIPTION:
URL:https://bungendoreshowground.com.au/event/bungendore-adult-riding-club-2026-11-29/
END:VEVENT
BEGIN:VEVENT
DTSTART;VALUE=DATE:20261128
DTEND;VALUE=DATE:20261129
DTSTAMP:20260425T140951
CREATED:20251103T091436Z
LAST-MODIFIED:20251103T091743Z
UID:3239-1795824000-1795910399@bungendoreshowground.com.au
SUMMARY:BADSA Training Day (Northern Paddock not available)
DESCRIPTION:
URL:https://bungendoreshowground.com.au/event/basda-training-day-northern-paddock-not-available-2026-11-28/
LOCATION:Mathews Lane off Bungendore Rd\, Bungendore\, NSW\, Australia
CATEGORIES:3 - Northern Arena,9 - Sheep Yards
END:VEVENT
END:VCALENDAR