BEGIN:VCALENDAR
VERSION:2.0
PRODID:-//Bungendore Showground - ECPv6.15.17//NONSGML v1.0//EN
CALSCALE:GREGORIAN
METHOD:PUBLISH
X-WR-CALNAME:Bungendore Showground
X-ORIGINAL-URL:https://bungendoreshowground.com.au
X-WR-CALDESC:Events for Bungendore Showground
REFRESH-INTERVAL;VALUE=DURATION:PT1H
X-Robots-Tag:noindex
X-PUBLISHED-TTL:PT1H
BEGIN:VTIMEZONE
TZID:Australia/Sydney
BEGIN:STANDARD
TZOFFSETFROM:+1100
TZOFFSETTO:+1000
TZNAME:AEST
DTSTART:20250405T160000
END:STANDARD
BEGIN:DAYLIGHT
TZOFFSETFROM:+1000
TZOFFSETTO:+1100
TZNAME:AEDT
DTSTART:20251004T160000
END:DAYLIGHT
BEGIN:STANDARD
TZOFFSETFROM:+1100
TZOFFSETTO:+1000
TZNAME:AEST
DTSTART:20260404T160000
END:STANDARD
BEGIN:DAYLIGHT
TZOFFSETFROM:+1000
TZOFFSETTO:+1100
TZNAME:AEDT
DTSTART:20261003T160000
END:DAYLIGHT
BEGIN:STANDARD
TZOFFSETFROM:+1100
TZOFFSETTO:+1000
TZNAME:AEST
DTSTART:20270403T160000
END:STANDARD
BEGIN:DAYLIGHT
TZOFFSETFROM:+1000
TZOFFSETTO:+1100
TZNAME:AEDT
DTSTART:20271002T160000
END:DAYLIGHT
END:VTIMEZONE
BEGIN:VEVENT
DTSTART;VALUE=DATE:20261002
DTEND;VALUE=DATE:20261006
DTSTAMP:20260425T123237
CREATED:20260127T224731Z
LAST-MODIFIED:20260127T224731Z
UID:3865-1790899200-1791244799@bungendoreshowground.com.au
SUMMARY:Bungendore Penning & Sorting - Covered arena not available
DESCRIPTION:
URL:https://bungendoreshowground.com.au/event/bungendore-penning-sorting-covered-arena-not-available/
END:VEVENT
BEGIN:VEVENT
DTSTART;VALUE=DATE:20261006
DTEND;VALUE=DATE:20261010
DTSTAMP:20260425T123237
CREATED:20250716T232452Z
LAST-MODIFIED:20250716T232452Z
UID:3173-1791244800-1791590399@bungendoreshowground.com.au
SUMMARY:Mark Langley Horsemanship
DESCRIPTION:
URL:https://bungendoreshowground.com.au/event/mark-langley-horsemanship/
LOCATION:Mathews Lane off Bungendore Rd\, Bungendore\, NSW\, Australia
END:VEVENT
BEGIN:VEVENT
DTSTART;VALUE=DATE:20261011
DTEND;VALUE=DATE:20261012
DTSTAMP:20260425T123237
CREATED:20250707T082107Z
LAST-MODIFIED:20251019T194049Z
UID:3147-1791676800-1791763199@bungendoreshowground.com.au
SUMMARY:Bungendore Pony Club
DESCRIPTION:
URL:https://bungendoreshowground.com.au/event/bungendore-pony-club-6-2026-10-11/
LOCATION:Mathews Lane off Bungendore Rd\, Bungendore\, NSW\, Australia
CATEGORIES:1 - Main Arena,2 - Equestrian Parking,20 - Container/Shed Storage,4 - Covered Arena,42 - Equestrian Parking,6 - Dressage Arena,7 - Jumping Arena,8 - Cross Country Course
END:VEVENT
BEGIN:VEVENT
DTSTART;VALUE=DATE:20261014
DTEND;VALUE=DATE:20261017
DTSTAMP:20260425T123237
CREATED:20250716T232519Z
LAST-MODIFIED:20250716T232519Z
UID:3176-1791936000-1792195199@bungendoreshowground.com.au
SUMMARY:Mark Langley Horsemanship
DESCRIPTION:
URL:https://bungendoreshowground.com.au/event/mark-langley-horsemanship-2/
LOCATION:Mathews Lane off Bungendore Rd\, Bungendore\, NSW\, Australia
END:VEVENT
BEGIN:VEVENT
DTSTART;VALUE=DATE:20261017
DTEND;VALUE=DATE:20261019
DTSTAMP:20260425T123237
CREATED:20251110T092526Z
LAST-MODIFIED:20251110T092526Z
UID:3259-1792195200-1792367999@bungendoreshowground.com.au
SUMMARY:Penning and Sorting (Covered arena not available)
DESCRIPTION:
URL:https://bungendoreshowground.com.au/event/penning-and-sorting-covered-arena-not-available-3/
LOCATION:Mathews Lane off Bungendore Rd\, Bungendore\, NSW\, Australia
CATEGORIES:16 - South/East Camping Area,17 - Equestrian Parking,18 - Horse Yards South West,19 - Horse Yards South East,2 - Equestrian Parking,32 - Southern Toilet/Showers,4 - Covered Arena,42 - Equestrian Parking
END:VEVENT
BEGIN:VEVENT
DTSTART;VALUE=DATE:20261022
DTEND;VALUE=DATE:20261027
DTSTAMP:20260425T123237
CREATED:20251219T085559Z
LAST-MODIFIED:20251219T085559Z
UID:3821-1792627200-1793059199@bungendoreshowground.com.au
SUMMARY:Bungendore Show - Grounds closed to all other events and camping
DESCRIPTION:
URL:https://bungendoreshowground.com.au/event/bungendore-show-grounds-closed-to-all-other-events-and-camping/
CATEGORIES:Exclusive Use Closed to Casual Camping,Major Event
END:VEVENT
BEGIN:VEVENT
DTSTART;VALUE=DATE:20261031
DTEND;VALUE=DATE:20261101
DTSTAMP:20260425T123237
CREATED:20251103T091436Z
LAST-MODIFIED:20251103T091742Z
UID:3238-1793404800-1793491199@bungendoreshowground.com.au
SUMMARY:BADSA Training Day (Northern Paddock not available)
DESCRIPTION:
URL:https://bungendoreshowground.com.au/event/basda-training-day-northern-paddock-not-available-2026-10-31/
LOCATION:Mathews Lane off Bungendore Rd\, Bungendore\, NSW\, Australia
CATEGORIES:3 - Northern Arena,9 - Sheep Yards
END:VEVENT
END:VCALENDAR