BEGIN:VCALENDAR
VERSION:2.0
PRODID:-//Bungendore Showground - ECPv6.15.17//NONSGML v1.0//EN
CALSCALE:GREGORIAN
METHOD:PUBLISH
X-WR-CALNAME:Bungendore Showground
X-ORIGINAL-URL:https://bungendoreshowground.com.au
X-WR-CALDESC:Events for Bungendore Showground
REFRESH-INTERVAL;VALUE=DURATION:PT1H
X-Robots-Tag:noindex
X-PUBLISHED-TTL:PT1H
BEGIN:VTIMEZONE
TZID:Australia/Sydney
BEGIN:STANDARD
TZOFFSETFROM:+1100
TZOFFSETTO:+1000
TZNAME:AEST
DTSTART:20250405T160000
END:STANDARD
BEGIN:DAYLIGHT
TZOFFSETFROM:+1000
TZOFFSETTO:+1100
TZNAME:AEDT
DTSTART:20251004T160000
END:DAYLIGHT
BEGIN:STANDARD
TZOFFSETFROM:+1100
TZOFFSETTO:+1000
TZNAME:AEST
DTSTART:20260404T160000
END:STANDARD
BEGIN:DAYLIGHT
TZOFFSETFROM:+1000
TZOFFSETTO:+1100
TZNAME:AEDT
DTSTART:20261003T160000
END:DAYLIGHT
BEGIN:STANDARD
TZOFFSETFROM:+1100
TZOFFSETTO:+1000
TZNAME:AEST
DTSTART:20270403T160000
END:STANDARD
BEGIN:DAYLIGHT
TZOFFSETFROM:+1000
TZOFFSETTO:+1100
TZNAME:AEDT
DTSTART:20271002T160000
END:DAYLIGHT
END:VTIMEZONE
BEGIN:VEVENT
DTSTART;VALUE=DATE:20260308
DTEND;VALUE=DATE:20260309
DTSTAMP:20260425T041835
CREATED:20250707T082107Z
LAST-MODIFIED:20251019T194044Z
UID:3140-1772928000-1773014399@bungendoreshowground.com.au
SUMMARY:Bungendore Pony Club
DESCRIPTION:
URL:https://bungendoreshowground.com.au/event/bungendore-pony-club-6-2026-03-08/
LOCATION:Mathews Lane off Bungendore Rd\, Bungendore\, NSW\, Australia
CATEGORIES:1 - Main Arena,2 - Equestrian Parking,20 - Container/Shed Storage,4 - Covered Arena,42 - Equestrian Parking,6 - Dressage Arena,7 - Jumping Arena,8 - Cross Country Course
END:VEVENT
BEGIN:VEVENT
DTSTART;VALUE=DATE:20260314
DTEND;VALUE=DATE:20260316
DTSTAMP:20260425T041835
CREATED:20220801T194749Z
LAST-MODIFIED:20260222T214626Z
UID:2171-1773446400-1773619199@bungendoreshowground.com.au
SUMMARY:Lake George PoloX Carnival
DESCRIPTION:
URL:https://bungendoreshowground.com.au/event/lake-george-polox-carnival-3-2026-03-21/
CATEGORIES:1 - Main Arena,14 - North/West Camping Area,15 - Northern Camping Area,17 - Equestrian Parking,19 - Horse Yards South East,2 - Equestrian Parking,31 - Outdoor Bar,32 - Southern Toilet/Showers,42 - Equestrian Parking,43 - Northern Horse Yards,5 - Carpark,Major Event
END:VEVENT
BEGIN:VEVENT
DTSTART;VALUE=DATE:20260321
DTEND;VALUE=DATE:20260323
DTSTAMP:20260425T041835
CREATED:20260319T054513Z
LAST-MODIFIED:20260319T054513Z
UID:3908-1774051200-1774223999@bungendoreshowground.com.au
SUMMARY:Pony Club Mounted Games Squad
DESCRIPTION:
URL:https://bungendoreshowground.com.au/event/pony-club-mounted-games-squad/
CATEGORIES:1 - Main Arena,17 - Equestrian Parking,42 - Equestrian Parking
END:VEVENT
BEGIN:VEVENT
DTSTART;VALUE=DATE:20260322
DTEND;VALUE=DATE:20260323
DTSTAMP:20260425T041835
CREATED:20260127T224528Z
LAST-MODIFIED:20260127T224528Z
UID:3863-1774137600-1774223999@bungendoreshowground.com.au
SUMMARY:Bungendore Pony Club Rally Day - Covered arena not available
DESCRIPTION:
URL:https://bungendoreshowground.com.au/event/bungendore-pony-club-rally-day-covered-arena-not-available/
END:VEVENT
BEGIN:VEVENT
DTSTART;VALUE=DATE:20260329
DTEND;VALUE=DATE:20260330
DTSTAMP:20260425T041835
CREATED:20250716T231912Z
LAST-MODIFIED:20250716T231912Z
UID:3164-1774742400-1774828799@bungendoreshowground.com.au
SUMMARY:Bungendore Adult Riding Club
DESCRIPTION:
URL:https://bungendoreshowground.com.au/event/bungendore-adult-riding-club-2026-03-29/
LOCATION:Mathews Lane off Bungendore Rd\, Bungendore\, NSW\, Australia
END:VEVENT
END:VCALENDAR