BEGIN:VCALENDAR
VERSION:2.0
PRODID:-//Bungendore Showground - ECPv6.15.17//NONSGML v1.0//EN
CALSCALE:GREGORIAN
METHOD:PUBLISH
X-ORIGINAL-URL:https://bungendoreshowground.com.au
X-WR-CALDESC:Events for Bungendore Showground
REFRESH-INTERVAL;VALUE=DURATION:PT1H
X-Robots-Tag:noindex
X-PUBLISHED-TTL:PT1H
BEGIN:VTIMEZONE
TZID:Australia/Sydney
BEGIN:STANDARD
TZOFFSETFROM:+1100
TZOFFSETTO:+1000
TZNAME:AEST
DTSTART:20240406T160000
END:STANDARD
BEGIN:DAYLIGHT
TZOFFSETFROM:+1000
TZOFFSETTO:+1100
TZNAME:AEDT
DTSTART:20241005T160000
END:DAYLIGHT
BEGIN:STANDARD
TZOFFSETFROM:+1100
TZOFFSETTO:+1000
TZNAME:AEST
DTSTART:20250405T160000
END:STANDARD
BEGIN:DAYLIGHT
TZOFFSETFROM:+1000
TZOFFSETTO:+1100
TZNAME:AEDT
DTSTART:20251004T160000
END:DAYLIGHT
BEGIN:STANDARD
TZOFFSETFROM:+1100
TZOFFSETTO:+1000
TZNAME:AEST
DTSTART:20260404T160000
END:STANDARD
BEGIN:DAYLIGHT
TZOFFSETFROM:+1000
TZOFFSETTO:+1100
TZNAME:AEDT
DTSTART:20261003T160000
END:DAYLIGHT
END:VTIMEZONE
BEGIN:VEVENT
DTSTART;VALUE=DATE:20251101
DTEND;VALUE=DATE:20251103
DTSTAMP:20260425T104734
CREATED:20250623T094537Z
LAST-MODIFIED:20250623T094537Z
UID:3119-1761955200-1762127999@bungendoreshowground.com.au
SUMMARY:PCANSW Instructors School (Undercover Arena not available)
DESCRIPTION:
URL:https://bungendoreshowground.com.au/event/pcansw-instructors-school-undercover-arena-not-available/
LOCATION:Mathews Lane off Bungendore Rd\, Bungendore\, NSW\, Australia
CATEGORIES:19 - Horse Yards South East,4 - Covered Arena,42 - Equestrian Parking,6 - Dressage Arena,7 - Jumping Arena,8 - Cross Country Course
END:VEVENT
BEGIN:VEVENT
DTSTART;VALUE=DATE:20251107
DTEND;VALUE=DATE:20251110
DTSTAMP:20260425T104734
CREATED:20250505T095628Z
LAST-MODIFIED:20250505T095704Z
UID:3098-1762473600-1762732799@bungendoreshowground.com.au
SUMMARY:Lake George Kennel Club Dog Show
DESCRIPTION:
URL:https://bungendoreshowground.com.au/event/lake-george-kennel-club-dog-show/
LOCATION:Mathews Lane off Bungendore Rd\, Bungendore\, NSW\, Australia
CATEGORIES:12 - Dog Show Arena,13 - Camping Area,16 - South/East Camping Area
END:VEVENT
BEGIN:VEVENT
DTSTART;VALUE=DATE:20251109
DTEND;VALUE=DATE:20251110
DTSTAMP:20260425T104734
CREATED:20240820T020234Z
LAST-MODIFIED:20251019T193857Z
UID:2840-1762646400-1762732799@bungendoreshowground.com.au
SUMMARY:Bungendore Pony Club Rally Day
DESCRIPTION:
URL:https://bungendoreshowground.com.au/event/bungendore-pony-club-rally-day-18/
LOCATION:Mathews Lane off Bungendore Rd\, Bungendore\, NSW\, Australia
CATEGORIES:1 - Main Arena,19 - Horse Yards South East,2 - Equestrian Parking,20 - Container/Shed Storage,4 - Covered Arena,6 - Dressage Arena,7 - Jumping Arena,8 - Cross Country Course
END:VEVENT
BEGIN:VEVENT
DTSTART;VALUE=DATE:20251110
DTEND;VALUE=DATE:20251115
DTSTAMP:20260425T104734
CREATED:20251006T000201Z
LAST-MODIFIED:20251006T000201Z
UID:3204-1762732800-1763164799@bungendoreshowground.com.au
SUMMARY:TRYP Camp
DESCRIPTION:
URL:https://bungendoreshowground.com.au/event/tryp-camp/
LOCATION:Mathews Lane off Bungendore Rd\, Bungendore\, NSW\, Australia
CATEGORIES:24 - Stage,25 - Covered Sail Area,26 - Kitchen and Dining Hall,28 - Show Pavilion,32 - Southern Toilet/Showers
END:VEVENT
BEGIN:VEVENT
DTSTART;VALUE=DATE:20251121
DTEND;VALUE=DATE:20251124
DTSTAMP:20260425T104734
CREATED:20241010T150732Z
LAST-MODIFIED:20251120T060832Z
UID:2917-1763683200-1763942399@bungendoreshowground.com.au
SUMMARY:BRC Camp Weekend (Covered Arena unavailable)
DESCRIPTION:
URL:https://bungendoreshowground.com.au/event/brc-derby-day-weekend-covered-arena-unavailable/
LOCATION:Mathews Lane off Bungendore Rd\, Bungendore\, NSW\, Australia
CATEGORIES:1 - Main Arena,17 - Equestrian Parking,18 - Horse Yards South West,19 - Horse Yards South East,2 - Equestrian Parking,28 - Show Pavilion,3 - Northern Arena,32 - Southern Toilet/Showers,4 - Covered Arena,42 - Equestrian Parking,6 - Dressage Arena,7 - Jumping Arena,8 - Cross Country Course
END:VEVENT
BEGIN:VEVENT
DTSTART;VALUE=DATE:20251128
DTEND;VALUE=DATE:20251201
DTSTAMP:20260425T104734
CREATED:20250220T031931Z
LAST-MODIFIED:20251019T193124Z
UID:3043-1764288000-1764547199@bungendoreshowground.com.au
SUMMARY:Bungendore Team Penning and Sorting (Covered Arena not available)
DESCRIPTION:
URL:https://bungendoreshowground.com.au/event/bungendore-team-penning-and-sorting-covered-arena-not-available/
LOCATION:Mathews Lane off Bungendore Rd\, Bungendore\, NSW\, Australia
CATEGORIES:1 - Main Arena,17 - Equestrian Parking,18 - Horse Yards South West,19 - Horse Yards South East,2 - Equestrian Parking,20 - Container/Shed Storage,32 - Southern Toilet/Showers,4 - Covered Arena,42 - Equestrian Parking,5 - Cattle Yards
END:VEVENT
BEGIN:VEVENT
DTSTART;VALUE=DATE:20251128
DTEND;VALUE=DATE:20251201
DTSTAMP:20260425T104734
CREATED:20250414T213901Z
LAST-MODIFIED:20251019T193517Z
UID:3086-1764288000-1764547199@bungendoreshowground.com.au
SUMMARY:Fields of Gold - SCA
DESCRIPTION:
URL:https://bungendoreshowground.com.au/event/fields-of-gold-sca/
LOCATION:Mathews Lane off Bungendore Rd\, Bungendore\, NSW\, Australia
CATEGORIES:10 - Cattle Judging Arena,16 - South/East Camping Area,23 - Jockey's Room,24 - Stage,25 - Covered Sail Area,26 - Kitchen and Dining Hall,27 - Breezeway Area,28 - Show Pavilion,29 - Main Bar/Cool room,30 - Disabled Access Toilet,31 - Outdoor Bar,32 - Southern Toilet/Showers,39 - Cattle Stalls
END:VEVENT
BEGIN:VEVENT
DTSTART;TZID=Australia/Sydney:20251129T080000
DTEND;TZID=Australia/Sydney:20251129T170000
DTSTAMP:20260425T104734
CREATED:20241218T222817Z
LAST-MODIFIED:20251019T193600Z
UID:3010-1764403200-1764435600@bungendoreshowground.com.au
SUMMARY:BADSA (Northern Arena unavailable for casual use)
DESCRIPTION:
URL:https://bungendoreshowground.com.au/event/badsa-northern-arena-unavailable-for-casual-use-7/
LOCATION:Mathews Lane off Bungendore Rd\, Bungendore\, NSW\, Australia
CATEGORIES:3 - Northern Arena,9 - Sheep Yards
END:VEVENT
END:VCALENDAR