BEGIN:VCALENDAR
VERSION:2.0
PRODID:-//Bungendore Showground - ECPv6.15.17//NONSGML v1.0//EN
CALSCALE:GREGORIAN
METHOD:PUBLISH
X-ORIGINAL-URL:https://bungendoreshowground.com.au
X-WR-CALDESC:Events for Bungendore Showground
REFRESH-INTERVAL;VALUE=DURATION:PT1H
X-Robots-Tag:noindex
X-PUBLISHED-TTL:PT1H
BEGIN:VTIMEZONE
TZID:Australia/Sydney
BEGIN:STANDARD
TZOFFSETFROM:+1100
TZOFFSETTO:+1000
TZNAME:AEST
DTSTART:20200404T160000
END:STANDARD
BEGIN:DAYLIGHT
TZOFFSETFROM:+1000
TZOFFSETTO:+1100
TZNAME:AEDT
DTSTART:20201003T160000
END:DAYLIGHT
BEGIN:STANDARD
TZOFFSETFROM:+1100
TZOFFSETTO:+1000
TZNAME:AEST
DTSTART:20210403T160000
END:STANDARD
BEGIN:DAYLIGHT
TZOFFSETFROM:+1000
TZOFFSETTO:+1100
TZNAME:AEDT
DTSTART:20211002T160000
END:DAYLIGHT
BEGIN:STANDARD
TZOFFSETFROM:+1100
TZOFFSETTO:+1000
TZNAME:AEST
DTSTART:20220402T160000
END:STANDARD
BEGIN:DAYLIGHT
TZOFFSETFROM:+1000
TZOFFSETTO:+1100
TZNAME:AEDT
DTSTART:20221001T160000
END:DAYLIGHT
END:VTIMEZONE
BEGIN:VEVENT
DTSTART;VALUE=DATE:20210501
DTEND;VALUE=DATE:20210502
DTSTAMP:20260425T082417
CREATED:20200810T223918Z
LAST-MODIFIED:20200811T034352Z
UID:1604-1619827200-1619913599@bungendoreshowground.com.au
SUMMARY:Bungendore C of C Meet and Make Day
DESCRIPTION:[column width=”1/1″ last=”true” title=”” title_type=”single” animation=”none” implicit=”true”] \n  \n[/column] \n[column width=”1/1″ last=”true” title=”” title_type=”single” animation=”none” implicit=”true”] \n[/column] \n[column width=”1/1″ last=”true” title=”” title_type=”single” animation=”none” implicit=”true”] \n  \n[/column]
URL:https://bungendoreshowground.com.au/event/bungendore-c-of-c-meet-and-make-day/
LOCATION:Mathews Lane off Bungendore Rd\, Bungendore\, NSW\, Australia
CATEGORIES:5 - Carpark
END:VEVENT
BEGIN:VEVENT
DTSTART;TZID=Australia/Sydney:20210501T080000
DTEND;TZID=Australia/Sydney:20210501T170000
DTSTAMP:20260425T082417
CREATED:20210311T223459Z
LAST-MODIFIED:20210311T223459Z
UID:1852-1619856000-1619888400@bungendoreshowground.com.au
SUMMARY:Set Up for BRC Tentative Major Event
DESCRIPTION:[column width=”1/1″ last=”true” title=”” title_type=”single” animation=”none” implicit=”true”] \n  \n[/column]
URL:https://bungendoreshowground.com.au/event/set-up-for-brc-tentative-major-event/
LOCATION:Mathews Lane off Bungendore Rd\, Bungendore\, NSW\, Australia
END:VEVENT
BEGIN:VEVENT
DTSTART;TZID=Australia/Sydney:20210501T080000
DTEND;TZID=Australia/Sydney:20210502T170000
DTSTAMP:20260425T082417
CREATED:20210422T050517Z
LAST-MODIFIED:20210422T050517Z
UID:1879-1619856000-1619974800@bungendoreshowground.com.au
SUMMARY:Z16 Mounted Games Development Squad
DESCRIPTION:[column width=”1/1″ last=”true” title=”” title_type=”single” animation=”none” implicit=”true”] \n  \n[/column]
URL:https://bungendoreshowground.com.au/event/z16-mounted-games-development-squad/
LOCATION:Mathews Lane off Bungendore Rd\, Bungendore\, NSW\, Australia
CATEGORIES:5 - Carpark
END:VEVENT
BEGIN:VEVENT
DTSTART;VALUE=DATE:20210502
DTEND;VALUE=DATE:20210503
DTSTAMP:20260425T082417
CREATED:20210311T223337Z
LAST-MODIFIED:20210311T223337Z
UID:1848-1619913600-1619999999@bungendoreshowground.com.au
SUMMARY:BRC Tentative Major Event
DESCRIPTION:[column width=”1/1″ last=”true” title=”” title_type=”single” animation=”none” implicit=”true”] \n  \n[/column]
URL:https://bungendoreshowground.com.au/event/brc-tentative-major-event/
LOCATION:Mathews Lane off Bungendore Rd\, Bungendore\, NSW\, Australia
END:VEVENT
BEGIN:VEVENT
DTSTART;VALUE=DATE:20210509
DTEND;VALUE=DATE:20210510
DTSTAMP:20260425T082417
CREATED:20201219T231335Z
LAST-MODIFIED:20210203T205921Z
UID:1772-1620518400-1620604799@bungendoreshowground.com.au
SUMMARY:Bungendore Riding Club Training Day
DESCRIPTION:[column width=”1/1″ last=”true” title=”” title_type=”single” animation=”none” implicit=”true”] \n  \n[/column] \n[column width=”1/1″ last=”true” title=”” title_type=”single” animation=”none” implicit=”true”] \n[/column] \n[column width=”1/1″ last=”true” title=”” title_type=”single” animation=”none” implicit=”true”] \n  \n[/column]
URL:https://bungendoreshowground.com.au/event/bungendore-riding-club-training-day-2021-05-23/
LOCATION:Mathews Lane off Bungendore Rd\, Bungendore\, NSW\, Australia
END:VEVENT
BEGIN:VEVENT
DTSTART;VALUE=DATE:20210509
DTEND;VALUE=DATE:20210510
DTSTAMP:20260425T082417
CREATED:20210113T200521Z
LAST-MODIFIED:20210113T200521Z
UID:1798-1620518400-1620604799@bungendoreshowground.com.au
SUMMARY:Bungendore Pony Club
DESCRIPTION:[column width=”1/1″ last=”true” title=”” title_type=”single” animation=”none” implicit=”true”] \n  \n[/column]
URL:https://bungendoreshowground.com.au/event/bungendore-pony-club-4-2021-05-09/
LOCATION:Mathews Lane off Bungendore Rd\, Bungendore\, NSW\, Australia
END:VEVENT
BEGIN:VEVENT
DTSTART;TZID=Australia/Sydney:20210515T080000
DTEND;TZID=Australia/Sydney:20210515T170000
DTSTAMP:20260425T082417
CREATED:20210311T223459Z
LAST-MODIFIED:20210311T223459Z
UID:1855-1621065600-1621098000@bungendoreshowground.com.au
SUMMARY:Set Up for BRC Tentative Major Event
DESCRIPTION:[column width=”1/1″ last=”true” title=”” title_type=”single” animation=”none” implicit=”true”] \n  \n[/column]
URL:https://bungendoreshowground.com.au/event/set-up-for-brc-tentative-major-event-2021-05-15/
LOCATION:Mathews Lane off Bungendore Rd\, Bungendore\, NSW\, Australia
END:VEVENT
BEGIN:VEVENT
DTSTART;VALUE=DATE:20210516
DTEND;VALUE=DATE:20210517
DTSTAMP:20260425T082417
CREATED:20210311T223337Z
LAST-MODIFIED:20210311T223337Z
UID:1851-1621123200-1621209599@bungendoreshowground.com.au
SUMMARY:BRC Tentative Major Event
DESCRIPTION:[column width=”1/1″ last=”true” title=”” title_type=”single” animation=”none” implicit=”true”] \n  \n[/column]
URL:https://bungendoreshowground.com.au/event/brc-tentative-major-event-2021-05-16/
LOCATION:Mathews Lane off Bungendore Rd\, Bungendore\, NSW\, Australia
END:VEVENT
BEGIN:VEVENT
DTSTART;TZID=Australia/Sydney:20210519T140000
DTEND;TZID=Australia/Sydney:20210525T100000
DTSTAMP:20260425T082417
CREATED:20201102T102802Z
LAST-MODIFIED:20201102T102802Z
UID:1738-1621432800-1621936800@bungendoreshowground.com.au
SUMMARY:Ullyses Caravan Club
DESCRIPTION:[column width=”1/1″ last=”true” title=”” title_type=”single” animation=”none” implicit=”true”] \n  \n[/column]
URL:https://bungendoreshowground.com.au/event/ullyses-caravan-club/
LOCATION:Mathews Lane off Bungendore Rd\, Bungendore\, NSW\, Australia
END:VEVENT
BEGIN:VEVENT
DTSTART;VALUE=DATE:20210522
DTEND;VALUE=DATE:20210524
DTSTAMP:20260425T082417
CREATED:20200913T213545Z
LAST-MODIFIED:20210115T045754Z
UID:1643-1621641600-1621814399@bungendoreshowground.com.au
SUMMARY:Canberra Royals PoloX Carnival
DESCRIPTION:[column width=”1/1″ last=”true” title=”” title_type=”single” animation=”none” implicit=”true”] \n  \n[/column] \n[column width=”1/1″ last=”true” title=”” title_type=”single” animation=”none” implicit=”true”] \n[/column] \n[column width=”1/1″ last=”true” title=”” title_type=”single” animation=”none” implicit=”true”] \n  \n[/column] \n[column width=”1/1″ last=”true” title=”” title_type=”single” animation=”none” implicit=”true”] \n[/column]
URL:https://bungendoreshowground.com.au/event/canberra-royals-polox-carnival-2021-05-22/
LOCATION:Mathews Lane off Bungendore Rd\, Bungendore\, NSW\, Australia
CATEGORIES:5 - Carpark
END:VEVENT
BEGIN:VEVENT
DTSTART;VALUE=DATE:20210530
DTEND;VALUE=DATE:20210531
DTSTAMP:20260425T082417
CREATED:20201005T000821Z
LAST-MODIFIED:20201005T000840Z
UID:1714-1622332800-1622419199@bungendoreshowground.com.au
SUMMARY:Wamboin PC Mounted Games
DESCRIPTION:[column width=”1/1″ last=”true” title=”” title_type=”single” animation=”none” implicit=”true”] \n  \n[/column] \n[column width=”1/1″ last=”true” title=”” title_type=”single” animation=”none” implicit=”true”] \n[/column] \n[column width=”1/1″ last=”true” title=”” title_type=”single” animation=”none” implicit=”true”] \n  \n[/column]
URL:https://bungendoreshowground.com.au/event/wamboin-pc-mounted-games-2/
LOCATION:Mathews Lane off Bungendore Rd\, Bungendore\, NSW\, Australia
END:VEVENT
END:VCALENDAR