BEGIN:VCALENDAR
VERSION:2.0
PRODID:-//Bungendore Showground - ECPv6.15.17//NONSGML v1.0//EN
CALSCALE:GREGORIAN
METHOD:PUBLISH
X-WR-CALNAME:Bungendore Showground
X-ORIGINAL-URL:https://bungendoreshowground.com.au
X-WR-CALDESC:Events for Bungendore Showground
REFRESH-INTERVAL;VALUE=DURATION:PT1H
X-Robots-Tag:noindex
X-PUBLISHED-TTL:PT1H
BEGIN:VTIMEZONE
TZID:Australia/Sydney
BEGIN:STANDARD
TZOFFSETFROM:+1100
TZOFFSETTO:+1000
TZNAME:AEST
DTSTART:20180331T160000
END:STANDARD
BEGIN:DAYLIGHT
TZOFFSETFROM:+1000
TZOFFSETTO:+1100
TZNAME:AEDT
DTSTART:20181006T160000
END:DAYLIGHT
BEGIN:STANDARD
TZOFFSETFROM:+1100
TZOFFSETTO:+1000
TZNAME:AEST
DTSTART:20190406T160000
END:STANDARD
BEGIN:DAYLIGHT
TZOFFSETFROM:+1000
TZOFFSETTO:+1100
TZNAME:AEDT
DTSTART:20191005T160000
END:DAYLIGHT
BEGIN:STANDARD
TZOFFSETFROM:+1100
TZOFFSETTO:+1000
TZNAME:AEST
DTSTART:20200404T160000
END:STANDARD
BEGIN:DAYLIGHT
TZOFFSETFROM:+1000
TZOFFSETTO:+1100
TZNAME:AEDT
DTSTART:20201003T160000
END:DAYLIGHT
END:VTIMEZONE
BEGIN:VEVENT
DTSTART;VALUE=DATE:20190112
DTEND;VALUE=DATE:20190114
DTSTAMP:20260426T062440
CREATED:20181029T203515Z
LAST-MODIFIED:20181029T203515Z
UID:1033-1547251200-1547423999@bungendoreshowground.com.au
SUMMARY:Lake George and Wamboin Dog Club Show
DESCRIPTION:
URL:https://bungendoreshowground.com.au/event/lake-george-and-wamboin-dog-club-show/
LOCATION:Mathews Lane off Bungendore Rd\, Bungendore\, NSW\, Australia
END:VEVENT
BEGIN:VEVENT
DTSTART;VALUE=DATE:20190113
DTEND;VALUE=DATE:20190114
DTSTAMP:20260426T062440
CREATED:20180518T222446Z
LAST-MODIFIED:20181113T042245Z
UID:945-1547337600-1547423999@bungendoreshowground.com.au
SUMMARY:Bungendore Pony Club
DESCRIPTION:
URL:https://bungendoreshowground.com.au/event/bungendore-pony-club-3-2019-01-13/
LOCATION:Mathews Lane off Bungendore Rd\, Bungendore\, NSW\, Australia
END:VEVENT
BEGIN:VEVENT
DTSTART;TZID=Australia/Sydney:20190119T080000
DTEND;TZID=Australia/Sydney:20190128T120000
DTSTAMP:20260426T062440
CREATED:20181026T232232Z
LAST-MODIFIED:20181026T232232Z
UID:1027-1547884800-1548676800@bungendoreshowground.com.au
SUMMARY:Bungendore Show
DESCRIPTION:[column width=”1/1″ last=”true” title=”” title_type=”single” animation=”none” implicit=”true”] \n  \n[/column]
URL:https://bungendoreshowground.com.au/event/bungendore-show/
LOCATION:Mathews Lane off Bungendore Rd\, Bungendore\, NSW\, Australia
CATEGORIES:Exclusive Use Closed to Casual Camping,Major Event
ORGANIZER;CN="Bungendore PAH Society":MAILTO:bungendoreshowsec@gmail.com 
END:VEVENT
BEGIN:VEVENT
DTSTART;TZID=Australia/Sydney:20190128T120000
DTEND;TZID=Australia/Sydney:20190204T170000
DTSTAMP:20260426T062440
CREATED:20181026T232520Z
LAST-MODIFIED:20181026T232520Z
UID:1030-1548676800-1549299600@bungendoreshowground.com.au
SUMMARY:Bungendore Country Muster
DESCRIPTION:[column width=”1/1″ last=”true” title=”” title_type=”single” animation=”none” implicit=”true”] \n  \n[/column]
URL:https://bungendoreshowground.com.au/event/bungendore-country-muster-2/
LOCATION:Mathews Lane off Bungendore Rd\, Bungendore\, NSW\, Australia
END:VEVENT
END:VCALENDAR