BEGIN:VCALENDAR
VERSION:2.0
PRODID:-//Bungendore Showground - ECPv6.15.17//NONSGML v1.0//EN
CALSCALE:GREGORIAN
METHOD:PUBLISH
X-WR-CALNAME:Bungendore Showground
X-ORIGINAL-URL:https://bungendoreshowground.com.au
X-WR-CALDESC:Events for Bungendore Showground
REFRESH-INTERVAL;VALUE=DURATION:PT1H
X-Robots-Tag:noindex
X-PUBLISHED-TTL:PT1H
BEGIN:VTIMEZONE
TZID:Australia/Sydney
BEGIN:STANDARD
TZOFFSETFROM:+1100
TZOFFSETTO:+1000
TZNAME:AEST
DTSTART:20230401T160000
END:STANDARD
BEGIN:DAYLIGHT
TZOFFSETFROM:+1000
TZOFFSETTO:+1100
TZNAME:AEDT
DTSTART:20230930T160000
END:DAYLIGHT
BEGIN:STANDARD
TZOFFSETFROM:+1100
TZOFFSETTO:+1000
TZNAME:AEST
DTSTART:20240406T160000
END:STANDARD
BEGIN:DAYLIGHT
TZOFFSETFROM:+1000
TZOFFSETTO:+1100
TZNAME:AEDT
DTSTART:20241005T160000
END:DAYLIGHT
BEGIN:STANDARD
TZOFFSETFROM:+1100
TZOFFSETTO:+1000
TZNAME:AEST
DTSTART:20250405T160000
END:STANDARD
BEGIN:DAYLIGHT
TZOFFSETFROM:+1000
TZOFFSETTO:+1100
TZNAME:AEDT
DTSTART:20251004T160000
END:DAYLIGHT
BEGIN:STANDARD
TZOFFSETFROM:+1100
TZOFFSETTO:+1000
TZNAME:AEST
DTSTART:20260404T160000
END:STANDARD
BEGIN:DAYLIGHT
TZOFFSETFROM:+1000
TZOFFSETTO:+1100
TZNAME:AEDT
DTSTART:20261003T160000
END:DAYLIGHT
END:VTIMEZONE
BEGIN:VEVENT
DTSTART;TZID=Australia/Sydney:20250111T080000
DTEND;TZID=Australia/Sydney:20250111T170000
DTSTAMP:20260425T230549
CREATED:20241210T090945Z
LAST-MODIFIED:20241210T090945Z
UID:2943-1736582400-1736614800@bungendoreshowground.com.au
SUMMARY:Amerigo Clinic - covered arena closed to casual use
DESCRIPTION:
URL:https://bungendoreshowground.com.au/event/amerigo-clinic-covered-arena-closed-to-casual-use-10/
LOCATION:Mathews Lane off Bungendore Rd\, Bungendore\, NSW\, Australia
END:VEVENT
BEGIN:VEVENT
DTSTART;VALUE=DATE:20241215
DTEND;VALUE=DATE:20241216
DTSTAMP:20260425T230549
CREATED:20230927T013604Z
LAST-MODIFIED:20241206T050012Z
UID:2491-1734220800-1734307199@bungendoreshowground.com.au
SUMMARY:Bungendore Pony Club (covered arena not available for casual use)
DESCRIPTION:
URL:https://bungendoreshowground.com.au/event/bungendore-pony-club-5-2024-12-08/
LOCATION:Mathews Lane off Bungendore Rd\, Bungendore\, NSW\, Australia
END:VEVENT
BEGIN:VEVENT
DTSTART;VALUE=DATE:20241214
DTEND;VALUE=DATE:20241215
DTSTAMP:20260425T230549
CREATED:20230927T011205Z
LAST-MODIFIED:20240807T041802Z
UID:2525-1734134400-1734220799@bungendoreshowground.com.au
SUMMARY:Bungendore Sheepdogs (northern arena and sheepyards closed to casual use)
DESCRIPTION:
URL:https://bungendoreshowground.com.au/event/bungendore-sheepdogs-9-2024-12-14/
LOCATION:Mathews Lane off Bungendore Rd\, Bungendore\, NSW\, Australia
CATEGORIES:5 - Carpark
END:VEVENT
BEGIN:VEVENT
DTSTART;VALUE=DATE:20241210
DTEND;VALUE=DATE:20241215
DTSTAMP:20260425T230549
CREATED:20240304T073952Z
LAST-MODIFIED:20240306T222310Z
UID:2651-1733788800-1734220799@bungendoreshowground.com.au
SUMMARY:Mark Langley Horsemanship Arena Closed for Public Use Tuesday to Saturday
DESCRIPTION:
URL:https://bungendoreshowground.com.au/event/mark-langley-horsemanship-arena-closed-for-public-use-tuesday-to-saturday/
LOCATION:Mathews Lane off Bungendore Rd\, Bungendore\, NSW\, Australia
END:VEVENT
BEGIN:VEVENT
DTSTART;VALUE=DATE:20241207
DTEND;VALUE=DATE:20241209
DTSTAMP:20260425T230549
CREATED:20240724T064451Z
LAST-MODIFIED:20240724T064451Z
UID:2786-1733529600-1733702399@bungendoreshowground.com.au
SUMMARY:Amerigo Clinic – covered arena closed to casual use
DESCRIPTION:
URL:https://bungendoreshowground.com.au/event/amerigo-clinic-covered-arena-closed-to-casual-use-11/
LOCATION:Mathews Lane off Bungendore Rd\, Bungendore\, NSW\, Australia
END:VEVENT
BEGIN:VEVENT
DTSTART;VALUE=DATE:20241130
DTEND;VALUE=DATE:20241201
DTSTAMP:20260425T230549
CREATED:20230927T011205Z
LAST-MODIFIED:20240807T041802Z
UID:2524-1732924800-1733011199@bungendoreshowground.com.au
SUMMARY:Bungendore Sheepdogs (northern arena and sheepyards closed to casual use)
DESCRIPTION:
URL:https://bungendoreshowground.com.au/event/bungendore-sheepdogs-9-2024-11-30/
LOCATION:Mathews Lane off Bungendore Rd\, Bungendore\, NSW\, Australia
CATEGORIES:5 - Carpark
END:VEVENT
BEGIN:VEVENT
DTSTART;VALUE=DATE:20241130
DTEND;VALUE=DATE:20241202
DTSTAMP:20260425T230549
CREATED:20240203T223220Z
LAST-MODIFIED:20240203T223220Z
UID:2637-1732924800-1733097599@bungendoreshowground.com.au
SUMMARY:Team Penning and Sorting - Covered Arena Closed for Casual Use
DESCRIPTION:
URL:https://bungendoreshowground.com.au/event/team-penning-and-sorting-covered-arena-closed-for-casual-use/
LOCATION:Mathews Lane off Bungendore Rd\, Bungendore\, NSW\, Australia
END:VEVENT
BEGIN:VEVENT
DTSTART;VALUE=DATE:20241129
DTEND;VALUE=DATE:20241202
DTSTAMP:20260425T230549
CREATED:20240203T205601Z
LAST-MODIFIED:20240203T205601Z
UID:2634-1732838400-1733097599@bungendoreshowground.com.au
SUMMARY:Society for Creative Anachronism
DESCRIPTION:
URL:https://bungendoreshowground.com.au/event/society-for-creative-anachronism/
LOCATION:Mathews Lane off Bungendore Rd\, Bungendore\, NSW\, Australia
CATEGORIES:5 - Carpark
END:VEVENT
BEGIN:VEVENT
DTSTART;VALUE=DATE:20241126
DTEND;VALUE=DATE:20241127
DTSTAMP:20260425T230549
CREATED:20241019T055821Z
LAST-MODIFIED:20241019T055821Z
UID:2923-1732579200-1732665599@bungendoreshowground.com.au
SUMMARY:Pavilion booking
DESCRIPTION:
URL:https://bungendoreshowground.com.au/event/pavilion-booking/
LOCATION:Mathews Lane off Bungendore Rd\, Bungendore\, NSW\, Australia
END:VEVENT
BEGIN:VEVENT
DTSTART;VALUE=DATE:20241124
DTEND;VALUE=DATE:20241125
DTSTAMP:20260425T230549
CREATED:20230927T012059Z
LAST-MODIFIED:20230927T012059Z
UID:2466-1732406400-1732492799@bungendoreshowground.com.au
SUMMARY:Bungendore Riding Club Major Event
DESCRIPTION:
URL:https://bungendoreshowground.com.au/event/bungendore-riding-club-major-event-5-2024-11-24/
LOCATION:Mathews Lane off Bungendore Rd\, Bungendore\, NSW\, Australia
CATEGORIES:Major Event
END:VEVENT
BEGIN:VEVENT
DTSTART;VALUE=DATE:20241123
DTEND;VALUE=DATE:20241124
DTSTAMP:20260425T230549
CREATED:20230927T011854Z
LAST-MODIFIED:20230927T011854Z
UID:2462-1732320000-1732406399@bungendoreshowground.com.au
SUMMARY:Bungendore Riding Club Major Event Set-Up
DESCRIPTION:
URL:https://bungendoreshowground.com.au/event/bungendore-riding-club-major-event-set-up-2024-11-23/
LOCATION:Mathews Lane off Bungendore Rd\, Bungendore\, NSW\, Australia
END:VEVENT
BEGIN:VEVENT
DTSTART;VALUE=DATE:20241117
DTEND;VALUE=DATE:20241118
DTSTAMP:20260425T230549
CREATED:20230927T013604Z
LAST-MODIFIED:20240824T020704Z
UID:2490-1731801600-1731887999@bungendoreshowground.com.au
SUMMARY:Bungendore Pony Club
DESCRIPTION:
URL:https://bungendoreshowground.com.au/event/bungendore-pony-club-5-2024-11-10/
LOCATION:Mathews Lane off Bungendore Rd\, Bungendore\, NSW\, Australia
END:VEVENT
BEGIN:VEVENT
DTSTART;VALUE=DATE:20241116
DTEND;VALUE=DATE:20241118
DTSTAMP:20260425T230549
CREATED:20240626T180701Z
LAST-MODIFIED:20240626T180701Z
UID:2774-1731715200-1731887999@bungendoreshowground.com.au
SUMMARY:Amerigo Clinic – covered arena closed to casual use
DESCRIPTION:
URL:https://bungendoreshowground.com.au/event/amerigo-clinic-covered-arena-closed-to-casual-use-8/
LOCATION:Mathews Lane off Bungendore Rd\, Bungendore\, NSW\, Australia
END:VEVENT
BEGIN:VEVENT
DTSTART;VALUE=DATE:20241113
DTEND;VALUE=DATE:20241115
DTSTAMP:20260425T230549
CREATED:20241105T101000Z
LAST-MODIFIED:20241105T101000Z
UID:2931-1731456000-1731628799@bungendoreshowground.com.au
SUMMARY:Lagoballo (Covered Arena closed to casual use) (provisional booking)
DESCRIPTION:
URL:https://bungendoreshowground.com.au/event/lagoballo-covered-arena-closed-to-casual-use-provisional-booking/
LOCATION:Mathews Lane off Bungendore Rd\, Bungendore\, NSW\, Australia
END:VEVENT
BEGIN:VEVENT
DTSTART;VALUE=DATE:20241108
DTEND;VALUE=DATE:20241111
DTSTAMP:20260425T230549
CREATED:20230927T014723Z
LAST-MODIFIED:20240820T021554Z
UID:2496-1731024000-1731283199@bungendoreshowground.com.au
SUMMARY:Lake George and Wamboin District Kennel Club
DESCRIPTION:
URL:https://bungendoreshowground.com.au/event/bungendore-and-palerang-dog-show-3/
LOCATION:Mathews Lane off Bungendore Rd\, Bungendore\, NSW\, Australia
END:VEVENT
BEGIN:VEVENT
DTSTART;VALUE=DATE:20241107
DTEND;VALUE=DATE:20241108
DTSTAMP:20260425T230549
CREATED:20240820T034113Z
LAST-MODIFIED:20240820T034113Z
UID:2850-1730937600-1731023999@bungendoreshowground.com.au
SUMMARY:Lake George and Wamboin District Kennel Club setup
DESCRIPTION:
URL:https://bungendoreshowground.com.au/event/lake-george-and-wamboin-district-kennel-club-setup/
LOCATION:Mathews Lane off Bungendore Rd\, Bungendore\, NSW\, Australia
END:VEVENT
BEGIN:VEVENT
DTSTART;TZID=Australia/Sydney:20241105T080000
DTEND;TZID=Australia/Sydney:20241105T170000
DTSTAMP:20260425T230549
CREATED:20241105T101714Z
LAST-MODIFIED:20241105T101714Z
UID:2934-1730793600-1730826000@bungendoreshowground.com.au
SUMMARY:Lagoballo (Covered Arena closed for casual use) (provisional booking)
DESCRIPTION:
URL:https://bungendoreshowground.com.au/event/lagoballo-covered-arena-closed-for-casual-use-provisional-booking/
LOCATION:Mathews Lane off Bungendore Rd\, Bungendore\, NSW\, Australia
END:VEVENT
BEGIN:VEVENT
DTSTART;VALUE=DATE:20241102
DTEND;VALUE=DATE:20241105
DTSTAMP:20260425T230549
CREATED:20231107T205920Z
LAST-MODIFIED:20231107T210052Z
UID:2534-1730505600-1730764799@bungendoreshowground.com.au
SUMMARY:Reata Ranch Horse Clinic. Covered Arena Closed to Casual Use
DESCRIPTION:
URL:https://bungendoreshowground.com.au/event/reart-horse-clinic-covered-arena-closed-to-casual-use/
LOCATION:Mathews Lane off Bungendore Rd\, Bungendore\, NSW\, Australia
END:VEVENT
BEGIN:VEVENT
DTSTART;VALUE=DATE:20241028
DTEND;VALUE=DATE:20241102
DTSTAMP:20260425T230549
CREATED:20240527T053510Z
LAST-MODIFIED:20240527T053510Z
UID:2750-1730073600-1730505599@bungendoreshowground.com.au
SUMMARY:TRYP Boot Camp (Kitchen\, Hall\, Breezeway\, Pavilion)
DESCRIPTION:
URL:https://bungendoreshowground.com.au/event/tryp-boot-camp-kitchen-hall-breezeway-pavilion-4/
LOCATION:Mathews Lane off Bungendore Rd\, Bungendore\, NSW\, Australia
END:VEVENT
BEGIN:VEVENT
DTSTART;VALUE=DATE:20241028
DTEND;VALUE=DATE:20241101
DTSTAMP:20260425T230549
CREATED:20240131T052009Z
LAST-MODIFIED:20240131T052009Z
UID:2626-1730073600-1730419199@bungendoreshowground.com.au
SUMMARY:Kasey Kennedy 6 horses Covered Arena
DESCRIPTION:
URL:https://bungendoreshowground.com.au/event/kasey-kennedy-6-horses-covered-arena-2/
LOCATION:Mathews Lane off Bungendore Rd\, Bungendore\, NSW\, Australia
END:VEVENT
BEGIN:VEVENT
DTSTART;VALUE=DATE:20241021
DTEND;VALUE=DATE:20241029
DTSTAMP:20260425T230549
CREATED:20190327T015145Z
LAST-MODIFIED:20230109T213400Z
UID:2320-1729468800-1730159999@bungendoreshowground.com.au
SUMMARY:Bungendore Show 4th Sunday
DESCRIPTION:[column width=”1/1″ last=”true” title=”” title_type=”single” animation=”none” implicit=”true”] \n  \n[/column] \n[column width=”1/1″ last=”true” title=”” title_type=”single” animation=”none” implicit=”true”] \n[/column] \n[column width=”1/1″ last=”true” title=”” title_type=”single” animation=”none” implicit=”true”] \n  \n[/column] \n[column width=”1/1″ last=”true” title=”” title_type=”single” animation=”none” implicit=”true”] \n[/column]
URL:https://bungendoreshowground.com.au/event/bungendore-show-2-2023-10-14-2024-10-19/
LOCATION:Mathews Lane off Bungendore Rd\, Bungendore\, NSW\, Australia
CATEGORIES:Exclusive Use Closed to Casual Camping
ORGANIZER;CN="Bungendore PAH Society":MAILTO:bungendoreshowsec@gmail.com 
END:VEVENT
BEGIN:VEVENT
DTSTART;VALUE=DATE:20241019
DTEND;VALUE=DATE:20241021
DTSTAMP:20260425T230549
CREATED:20240902T002907Z
LAST-MODIFIED:20240930T201044Z
UID:2860-1729296000-1729468799@bungendoreshowground.com.au
SUMMARY:Bungendore Show setup (main arena\, livestock areas\, pavilion\, hall)
DESCRIPTION:
URL:https://bungendoreshowground.com.au/event/bungendore-show-setup-livestock-areas-pavilion-hall/
LOCATION:Mathews Lane off Bungendore Rd\, Bungendore\, NSW\, Australia
END:VEVENT
BEGIN:VEVENT
DTSTART;VALUE=DATE:20241019
DTEND;VALUE=DATE:20241020
DTSTAMP:20260425T230549
CREATED:20240626T180347Z
LAST-MODIFIED:20240626T180347Z
UID:2771-1729296000-1729382399@bungendoreshowground.com.au
SUMMARY:Amerigo Clinic – covered arena closed to casual use
DESCRIPTION:
URL:https://bungendoreshowground.com.au/event/amerigo-clinic-covered-arena-closed-to-casual-use-7/
LOCATION:Mathews Lane off Bungendore Rd\, Bungendore\, NSW\, Australia
END:VEVENT
BEGIN:VEVENT
DTSTART;VALUE=DATE:20241013
DTEND;VALUE=DATE:20241014
DTSTAMP:20260425T230549
CREATED:20230927T013604Z
LAST-MODIFIED:20230927T013604Z
UID:2489-1728777600-1728863999@bungendoreshowground.com.au
SUMMARY:Bungendore Pony Club
DESCRIPTION:
URL:https://bungendoreshowground.com.au/event/bungendore-pony-club-5-2024-10-13/
LOCATION:Mathews Lane off Bungendore Rd\, Bungendore\, NSW\, Australia
END:VEVENT
BEGIN:VEVENT
DTSTART;VALUE=DATE:20241013
DTEND;VALUE=DATE:20241014
DTSTAMP:20260425T230549
CREATED:20240913T074459Z
LAST-MODIFIED:20240913T074459Z
UID:2878-1728777600-1728863999@bungendoreshowground.com.au
SUMMARY:Amerigo Clinic – covered arena closed to casual use
DESCRIPTION:
URL:https://bungendoreshowground.com.au/event/amerigo-clinic-covered-arena-closed-to-casual-use-12/
LOCATION:Mathews Lane off Bungendore Rd\, Bungendore\, NSW\, Australia
END:VEVENT
BEGIN:VEVENT
DTSTART;VALUE=DATE:20241012
DTEND;VALUE=DATE:20241013
DTSTAMP:20260425T230549
CREATED:20240724T064348Z
LAST-MODIFIED:20240724T064348Z
UID:2780-1728691200-1728777599@bungendoreshowground.com.au
SUMMARY:Amerigo Clinic – covered arena closed to casual use
DESCRIPTION:
URL:https://bungendoreshowground.com.au/event/amerigo-clinic-covered-arena-closed-to-casual-use-9/
LOCATION:Mathews Lane off Bungendore Rd\, Bungendore\, NSW\, Australia
END:VEVENT
BEGIN:VEVENT
DTSTART;VALUE=DATE:20241005
DTEND;VALUE=DATE:20241007
DTSTAMP:20260425T230549
CREATED:20240605T113946Z
LAST-MODIFIED:20240619T173833Z
UID:2764-1728086400-1728259199@bungendoreshowground.com.au
SUMMARY:Riding with Sticks (Covered Arena not available for casual use)
DESCRIPTION:
URL:https://bungendoreshowground.com.au/event/riding-with-sticks-provisional-booking-covered-arena-not-available-for-casual-use/
LOCATION:Mathews Lane off Bungendore Rd\, Bungendore\, NSW\, Australia
END:VEVENT
BEGIN:VEVENT
DTSTART;VALUE=DATE:20240929
DTEND;VALUE=DATE:20240930
DTSTAMP:20260425T230549
CREATED:20230927T012638Z
LAST-MODIFIED:20230927T012638Z
UID:2475-1727568000-1727654399@bungendoreshowground.com.au
SUMMARY:Bungendore Riding Club Training Day
DESCRIPTION:
URL:https://bungendoreshowground.com.au/event/bungendore-riding-club-training-day-4-2024-09-29/
LOCATION:Mathews Lane off Bungendore Rd\, Bungendore\, NSW\, Australia
END:VEVENT
BEGIN:VEVENT
DTSTART;VALUE=DATE:20240928
DTEND;VALUE=DATE:20240929
DTSTAMP:20260425T230549
CREATED:20230927T011205Z
LAST-MODIFIED:20240807T041800Z
UID:2522-1727481600-1727567999@bungendoreshowground.com.au
SUMMARY:Bungendore Sheepdogs (northern arena and sheepyards closed to casual use)
DESCRIPTION:
URL:https://bungendoreshowground.com.au/event/bungendore-sheepdogs-9-2024-09-28/
LOCATION:Mathews Lane off Bungendore Rd\, Bungendore\, NSW\, Australia
CATEGORIES:5 - Carpark
END:VEVENT
BEGIN:VEVENT
DTSTART;VALUE=DATE:20240928
DTEND;VALUE=DATE:20241002
DTSTAMP:20260425T230549
CREATED:20240527T053433Z
LAST-MODIFIED:20240527T053433Z
UID:2747-1727481600-1727827199@bungendoreshowground.com.au
SUMMARY:TRYP Boot Camp (Kitchen\, Hall\, Breezeway\, Pavilion)
DESCRIPTION:
URL:https://bungendoreshowground.com.au/event/tryp-boot-camp-kitchen-hall-breezeway-pavilion-3/
LOCATION:Mathews Lane off Bungendore Rd\, Bungendore\, NSW\, Australia
END:VEVENT
END:VCALENDAR