BEGIN:VCALENDAR
VERSION:2.0
PRODID:-//Bungendore Showground - ECPv6.15.17//NONSGML v1.0//EN
CALSCALE:GREGORIAN
METHOD:PUBLISH
X-WR-CALNAME:Bungendore Showground
X-ORIGINAL-URL:https://bungendoreshowground.com.au
X-WR-CALDESC:Events for Bungendore Showground
REFRESH-INTERVAL;VALUE=DURATION:PT1H
X-Robots-Tag:noindex
X-PUBLISHED-TTL:PT1H
BEGIN:VTIMEZONE
TZID:Australia/Sydney
BEGIN:STANDARD
TZOFFSETFROM:+1100
TZOFFSETTO:+1000
TZNAME:AEST
DTSTART:20180331T160000
END:STANDARD
BEGIN:DAYLIGHT
TZOFFSETFROM:+1000
TZOFFSETTO:+1100
TZNAME:AEDT
DTSTART:20181006T160000
END:DAYLIGHT
BEGIN:STANDARD
TZOFFSETFROM:+1100
TZOFFSETTO:+1000
TZNAME:AEST
DTSTART:20190406T160000
END:STANDARD
BEGIN:DAYLIGHT
TZOFFSETFROM:+1000
TZOFFSETTO:+1100
TZNAME:AEDT
DTSTART:20191005T160000
END:DAYLIGHT
BEGIN:STANDARD
TZOFFSETFROM:+1100
TZOFFSETTO:+1000
TZNAME:AEST
DTSTART:20200404T160000
END:STANDARD
BEGIN:DAYLIGHT
TZOFFSETFROM:+1000
TZOFFSETTO:+1100
TZNAME:AEDT
DTSTART:20201003T160000
END:DAYLIGHT
BEGIN:STANDARD
TZOFFSETFROM:+1100
TZOFFSETTO:+1000
TZNAME:AEST
DTSTART:20210403T160000
END:STANDARD
BEGIN:DAYLIGHT
TZOFFSETFROM:+1000
TZOFFSETTO:+1100
TZNAME:AEDT
DTSTART:20211002T160000
END:DAYLIGHT
END:VTIMEZONE
BEGIN:VEVENT
DTSTART;VALUE=DATE:20200314
DTEND;VALUE=DATE:20200316
DTSTAMP:20260425T210229
CREATED:20191015T195923Z
LAST-MODIFIED:20191015T195923Z
UID:1309-1584144000-1584316799@bungendoreshowground.com.au
SUMMARY:Lake George Polocrosse Rally
DESCRIPTION:[column width=”1/1″ last=”true” title=”” title_type=”single” animation=”none” implicit=”true”] \n  \n[/column]
URL:https://bungendoreshowground.com.au/event/lake-george-polocrosse-rally/
LOCATION:Mathews Lane off Bungendore Rd\, Bungendore\, NSW\, Australia
CATEGORIES:Major Event
END:VEVENT
BEGIN:VEVENT
DTSTART;TZID=Australia/Sydney:20200307T080000
DTEND;TZID=Australia/Sydney:20200307T170000
DTSTAMP:20260425T210229
CREATED:20200305T224645Z
LAST-MODIFIED:20200305T224645Z
UID:1449-1583568000-1583600400@bungendoreshowground.com.au
SUMMARY:Pony Club Mounted Games Practice
DESCRIPTION:[column width=”1/1″ last=”true” title=”” title_type=”single” animation=”none” implicit=”true”] \n  \n[/column]
URL:https://bungendoreshowground.com.au/event/pony-club-mounted-games-practice/
LOCATION:Mathews Lane off Bungendore Rd\, Bungendore\, NSW\, Australia
CATEGORIES:5 - Carpark
END:VEVENT
BEGIN:VEVENT
DTSTART;VALUE=DATE:20200301
DTEND;VALUE=DATE:20200302
DTSTAMP:20260425T210229
CREATED:20200109T211519Z
LAST-MODIFIED:20200109T211519Z
UID:1413-1583020800-1583107199@bungendoreshowground.com.au
SUMMARY:Sheep dogs training
DESCRIPTION:[column width=”1/1″ last=”true” title=”” title_type=”single” animation=”none” implicit=”true”] \n  \n[/column]
URL:https://bungendoreshowground.com.au/event/sheep-dogs-training/
LOCATION:Mathews Lane off Bungendore Rd\, Bungendore\, NSW\, Australia
END:VEVENT
BEGIN:VEVENT
DTSTART;VALUE=DATE:20200229
DTEND;VALUE=DATE:20200301
DTSTAMP:20260425T210229
CREATED:20191021T220153Z
LAST-MODIFIED:20191021T220153Z
UID:1345-1582934400-1583020799@bungendoreshowground.com.au
SUMMARY:Bungendore Sheepdogs
DESCRIPTION:[column width=”1/1″ last=”true” title=”” title_type=”single” animation=”none” implicit=”true”] \n  \n[/column]
URL:https://bungendoreshowground.com.au/event/bungendore-sheepdogs-3/
LOCATION:Mathews Lane off Bungendore Rd\, Bungendore\, NSW\, Australia
END:VEVENT
BEGIN:VEVENT
DTSTART;VALUE=DATE:20200223
DTEND;VALUE=DATE:20200224
DTSTAMP:20260425T210229
CREATED:20191021T212231Z
LAST-MODIFIED:20191021T212231Z
UID:1323-1582416000-1582502399@bungendoreshowground.com.au
SUMMARY:Bungendore Riding Club
DESCRIPTION:[column width=”1/1″ last=”true” title=”” title_type=”single” animation=”none” implicit=”true”] \n  \n[/column]
URL:https://bungendoreshowground.com.au/event/bungendore-riding-club-2/
LOCATION:Mathews Lane off Bungendore Rd\, Bungendore\, NSW\, Australia
END:VEVENT
BEGIN:VEVENT
DTSTART;VALUE=DATE:20200127
DTEND;VALUE=DATE:20200204
DTSTAMP:20260425T210229
CREATED:20191020T214112Z
LAST-MODIFIED:20191020T214112Z
UID:1316-1580083200-1580774399@bungendoreshowground.com.au
SUMMARY:Bungendore Country Muster
DESCRIPTION:[column width=”1/1″ last=”true” title=”” title_type=”single” animation=”none” implicit=”true”] \n  \n[/column]
URL:https://bungendoreshowground.com.au/event/bungendore-country-muster-3/
LOCATION:Mathews Lane off Bungendore Rd\, Bungendore\, NSW\, Australia
CATEGORIES:Exclusive Use Closed to Casual Camping,Major Event
END:VEVENT
BEGIN:VEVENT
DTSTART;VALUE=DATE:20200111
DTEND;VALUE=DATE:20200113
DTSTAMP:20260425T210229
CREATED:20191023T011137Z
LAST-MODIFIED:20191023T011137Z
UID:1364-1578700800-1578873599@bungendoreshowground.com.au
SUMMARY:Lake George and Wamboin Kennel Club Dog Show
DESCRIPTION:[column width=”1/1″ last=”true” title=”” title_type=”single” animation=”none” implicit=”true”] \n  \n[/column]
URL:https://bungendoreshowground.com.au/event/lake-george-and-wamboin-kennel-club-dog-show/
LOCATION:Mathews Lane off Bungendore Rd\, Bungendore\, NSW\, Australia
END:VEVENT
BEGIN:VEVENT
DTSTART;VALUE=DATE:20191206
DTEND;VALUE=DATE:20191209
DTSTAMP:20260425T210229
CREATED:20181115T035654Z
LAST-MODIFIED:20191022T213256Z
UID:1141-1575590400-1575849599@bungendoreshowground.com.au
SUMMARY:Team Sorting
DESCRIPTION:[column width=”1/1″ last=”true” title=”” title_type=”single” animation=”none” implicit=”true”] \n  \n[/column]
URL:https://bungendoreshowground.com.au/event/team-sorting/
LOCATION:Mathews Lane off Bungendore Rd\, Bungendore\, NSW\, Australia
END:VEVENT
BEGIN:VEVENT
DTSTART;TZID=Australia/Sydney:20191129T080000
DTEND;TZID=Australia/Sydney:20191202T120000
DTSTAMP:20260425T210229
CREATED:20190213T032747Z
LAST-MODIFIED:20190213T032747Z
UID:1222-1575014400-1575288000@bungendoreshowground.com.au
SUMMARY:SCA (Medieval) Society
DESCRIPTION:[column width=”1/1″ last=”true” title=”” title_type=”single” animation=”none” implicit=”true”] \n  \n[/column]
URL:https://bungendoreshowground.com.au/event/sca-medieval-society-2/
LOCATION:Mathews Lane off Bungendore Rd\, Bungendore\, NSW\, Australia
CATEGORIES:5 - Carpark,Major Event
END:VEVENT
BEGIN:VEVENT
DTSTART;VALUE=DATE:20191129
DTEND;VALUE=DATE:20191202
DTSTAMP:20260425T210229
CREATED:20190203T012219Z
LAST-MODIFIED:20190203T012219Z
UID:1202-1574985600-1575244799@bungendoreshowground.com.au
SUMMARY:SCA Medieval Society
DESCRIPTION:[column width=”1/1″ last=”true” title=”” title_type=”single” animation=”none” implicit=”true”] \n  \n[/column]
URL:https://bungendoreshowground.com.au/event/sca-medieval-society/
LOCATION:Mathews Lane off Bungendore Rd\, Bungendore\, NSW\, Australia
CATEGORIES:Major Event,Share MAY be negotiated IF suitable
END:VEVENT
BEGIN:VEVENT
DTSTART;VALUE=DATE:20191109
DTEND;VALUE=DATE:20191111
DTSTAMP:20260425T210229
CREATED:20181208T211754Z
LAST-MODIFIED:20181212T232057Z
UID:1184-1573257600-1573430399@bungendoreshowground.com.au
SUMMARY:Adult Mounted Games NSW Tentative
DESCRIPTION:[column width=”1/1″ last=”true” title=”” title_type=”single” animation=”none” implicit=”true”] \n  \n[/column]
URL:https://bungendoreshowground.com.au/event/adult-mounted-games-nsw-tentative-2019-11-09/
LOCATION:Mathews Lane off Bungendore Rd\, Bungendore\, NSW\, Australia
CATEGORIES:5 - Carpark
END:VEVENT
BEGIN:VEVENT
DTSTART;VALUE=DATE:20191108
DTEND;VALUE=DATE:20191111
DTSTAMP:20260425T210229
CREATED:20190213T025430Z
LAST-MODIFIED:20190213T025430Z
UID:1213-1573171200-1573430399@bungendoreshowground.com.au
SUMMARY:Dog Show - Illawarra and SE
DESCRIPTION:[column width=”1/1″ last=”true” title=”” title_type=”single” animation=”none” implicit=”true”] \n  \n[/column]
URL:https://bungendoreshowground.com.au/event/dog-show-illawarra-and-se-2/
LOCATION:Mathews Lane off Bungendore Rd\, Bungendore\, NSW\, Australia
END:VEVENT
BEGIN:VEVENT
DTSTART;VALUE=DATE:20191016
DTEND;VALUE=DATE:20191018
DTSTAMP:20260425T210229
CREATED:20190910T231640Z
LAST-MODIFIED:20190910T231640Z
UID:1300-1571184000-1571356799@bungendoreshowground.com.au
SUMMARY:QPRC WHS Event
DESCRIPTION:[column width=”1/1″ last=”true” title=”” title_type=”single” animation=”none” implicit=”true”] \n  \n[/column]
URL:https://bungendoreshowground.com.au/event/qprc-whs-event/
LOCATION:Mathews Lane off Bungendore Rd\, Bungendore\, NSW\, Australia
END:VEVENT
BEGIN:VEVENT
DTSTART;VALUE=DATE:20191013
DTEND;VALUE=DATE:20191014
DTSTAMP:20260425T210229
CREATED:20180518T222446Z
LAST-MODIFIED:20190501T055322Z
UID:954-1570924800-1571011199@bungendoreshowground.com.au
SUMMARY:Bungendore Pony Club
DESCRIPTION:
URL:https://bungendoreshowground.com.au/event/bungendore-pony-club-3-2019-05-12-2019-10-13/
LOCATION:Mathews Lane off Bungendore Rd\, Bungendore\, NSW\, Australia
END:VEVENT
BEGIN:VEVENT
DTSTART;VALUE=DATE:20191004
DTEND;VALUE=DATE:20191008
DTSTAMP:20260425T210229
CREATED:20180204T214101Z
LAST-MODIFIED:20180204T214101Z
UID:866-1570147200-1570492799@bungendoreshowground.com.au
SUMMARY:South Coast and Tablelands Scouts
DESCRIPTION:
URL:https://bungendoreshowground.com.au/event/south-coast-tablelands-scouts/
LOCATION:Mathews Lane off Bungendore Rd\, Bungendore\, NSW\, Australia
CATEGORIES:Exclusive Use Closed to Casual Camping,Four Day Major Event - closed to casual camping
END:VEVENT
BEGIN:VEVENT
DTSTART;VALUE=DATE:20190928
DTEND;VALUE=DATE:20190930
DTSTAMP:20260425T210229
CREATED:20181110T013003Z
LAST-MODIFIED:20181110T013003Z
UID:1081-1569628800-1569801599@bungendoreshowground.com.au
SUMMARY:Zone 16 Jamboree
DESCRIPTION:[column width=”1/1″ last=”true” title=”” title_type=”single” animation=”none” implicit=”true”] \n  \n[/column]
URL:https://bungendoreshowground.com.au/event/zone-16-jamboree/
LOCATION:Mathews Lane off Bungendore Rd\, Bungendore\, NSW\, Australia
CATEGORIES:5 - Carpark,Major Event
END:VEVENT
BEGIN:VEVENT
DTSTART;VALUE=DATE:20190915
DTEND;VALUE=DATE:20190916
DTSTAMP:20260425T210229
CREATED:20181110T012035Z
LAST-MODIFIED:20190501T055118Z
UID:1075-1568505600-1568591999@bungendoreshowground.com.au
SUMMARY:BRC Major Event Dressage
DESCRIPTION:[column width=”1/1″ last=”true” title=”” title_type=”single” animation=”none” implicit=”true”] \n  \n[/column] \n[column width=”1/1″ last=”true” title=”” title_type=”single” animation=”none” implicit=”true”] \n[/column] \n[column width=”1/1″ last=”true” title=”” title_type=”single” animation=”none” implicit=”true”] \n  \n[/column] \n[column width=”1/1″ last=”true” title=”” title_type=”single” animation=”none” implicit=”true”] \n[/column]
URL:https://bungendoreshowground.com.au/event/brc-major-event-dressage/
LOCATION:Mathews Lane off Bungendore Rd\, Bungendore\, NSW\, Australia
CATEGORIES:Major Event
END:VEVENT
BEGIN:VEVENT
DTSTART;VALUE=DATE:20190914
DTEND;VALUE=DATE:20190915
DTSTAMP:20260425T210229
CREATED:20181110T011412Z
LAST-MODIFIED:20190501T054955Z
UID:1068-1568419200-1568505599@bungendoreshowground.com.au
SUMMARY:BRC Set Up For Major Event
DESCRIPTION:[column width=”1/1″ last=”true” title=”” title_type=”single” animation=”none” implicit=”true”] \n  \n[/column] \n[column width=”1/1″ last=”true” title=”” title_type=”single” animation=”none” implicit=”true”] \n[/column] \n[column width=”1/1″ last=”true” title=”” title_type=”single” animation=”none” implicit=”true”] \n  \n[/column]
URL:https://bungendoreshowground.com.au/event/brc-set-up-for-major-event/
LOCATION:Mathews Lane off Bungendore Rd\, Bungendore\, NSW\, Australia
END:VEVENT
BEGIN:VEVENT
DTSTART;VALUE=DATE:20190817
DTEND;VALUE=DATE:20190819
DTSTAMP:20260425T210229
CREATED:20190501T061712Z
LAST-MODIFIED:20190501T063155Z
UID:1277-1566000000-1566172799@bungendoreshowground.com.au
SUMMARY:Private Horse Clinic
DESCRIPTION:[column width=”1/1″ last=”true” title=”” title_type=”single” animation=”none” implicit=”true”] \n  \n[/column] \n[column width=”1/1″ last=”true” title=”” title_type=”single” animation=”none” implicit=”true”] \n[/column] \n[column width=”1/1″ last=”true” title=”” title_type=”single” animation=”none” implicit=”true”] \n  \n[/column]
URL:https://bungendoreshowground.com.au/event/private-horse-clinic/
LOCATION:Mathews Lane off Bungendore Rd\, Bungendore\, NSW\, Australia
CATEGORIES:Share MAY be negotiated IF suitable
END:VEVENT
BEGIN:VEVENT
DTSTART;VALUE=DATE:20190720
DTEND;VALUE=DATE:20190722
DTSTAMP:20260425T210229
CREATED:20190213T043913Z
LAST-MODIFIED:20190213T043913Z
UID:1234-1563580800-1563753599@bungendoreshowground.com.au
SUMMARY:Horsemanship
DESCRIPTION:[column width=”1/1″ last=”true” title=”” title_type=”single” animation=”none” implicit=”true”] \n  \n[/column]
URL:https://bungendoreshowground.com.au/event/horsemanship/
LOCATION:Mathews Lane off Bungendore Rd\, Bungendore\, NSW\, Australia
ORGANIZER;CN="Myf Clark":MAILTO:myclark@csu.edu.au
END:VEVENT
BEGIN:VEVENT
DTSTART;VALUE=DATE:20190712
DTEND;VALUE=DATE:20190715
DTSTAMP:20260425T210229
CREATED:20181112T014218Z
LAST-MODIFIED:20181112T030922Z
UID:1118-1562889600-1563148799@bungendoreshowground.com.au
SUMMARY:Dog Show
DESCRIPTION:
URL:https://bungendoreshowground.com.au/event/dog-show-placeholder/
LOCATION:Mathews Lane off Bungendore Rd\, Bungendore\, NSW\, Australia
END:VEVENT
BEGIN:VEVENT
DTSTART;VALUE=DATE:20190704
DTEND;VALUE=DATE:20190708
DTSTAMP:20260425T210229
CREATED:20181110T005329Z
LAST-MODIFIED:20181129T203138Z
UID:1057-1562198400-1562543999@bungendoreshowground.com.au
SUMMARY:Australia NZ Sheepdog Trials
DESCRIPTION:[column width=”1/1″ last=”true” title=”” title_type=”single” animation=”none” implicit=”true”] \n[/column]
URL:https://bungendoreshowground.com.au/event/australia-nz-sheepdog-trials-2/
LOCATION:Mathews Lane off Bungendore Rd\, Bungendore\, NSW\, Australia
END:VEVENT
BEGIN:VEVENT
DTSTART;VALUE=DATE:20190630
DTEND;VALUE=DATE:20190701
DTSTAMP:20260425T210229
CREATED:20181110T011055Z
LAST-MODIFIED:20190321T205132Z
UID:1064-1561852800-1561939199@bungendoreshowground.com.au
SUMMARY:BRC Major Event (Southern Tablelands Adult Riding Clubs)
DESCRIPTION:[column width=”1/1″ last=”true” title=”” title_type=”single” animation=”none” implicit=”true”] \n  \n[/column] \n[column width=”1/1″ last=”true” title=”” title_type=”single” animation=”none” implicit=”true”] \n[/column] \n[column width=”1/1″ last=”true” title=”” title_type=”single” animation=”none” implicit=”true”] \n  \n[/column] \n[column width=”1/1″ last=”true” title=”” title_type=”single” animation=”none” implicit=”true”] \n[/column]
URL:https://bungendoreshowground.com.au/event/brc-training-day-2-2019-06-30/
LOCATION:Mathews Lane off Bungendore Rd\, Bungendore\, NSW\, Australia
CATEGORIES:Major Event
END:VEVENT
BEGIN:VEVENT
DTSTART;VALUE=DATE:20190629
DTEND;VALUE=DATE:20190630
DTSTAMP:20260425T210229
CREATED:20190321T205011Z
LAST-MODIFIED:20190321T205011Z
UID:1250-1561766400-1561852799@bungendoreshowground.com.au
SUMMARY:BRC Setup for 30 June
DESCRIPTION:[column width=”1/1″ last=”true” title=”” title_type=”single” animation=”none” implicit=”true”] \n  \n[/column]
URL:https://bungendoreshowground.com.au/event/brc-setup-for-30-june/
LOCATION:Mathews Lane off Bungendore Rd\, Bungendore\, NSW\, Australia
END:VEVENT
BEGIN:VEVENT
DTSTART;VALUE=DATE:20190623
DTEND;VALUE=DATE:20190624
DTSTAMP:20260425T210229
CREATED:20181115T000244Z
LAST-MODIFIED:20181115T001010Z
UID:1128-1561248000-1561334399@bungendoreshowground.com.au
SUMMARY:Zone 16 Mounted Games
DESCRIPTION:
URL:https://bungendoreshowground.com.au/event/zone-16-mounted-games/
LOCATION:Mathews Lane off Bungendore Rd\, Bungendore\, NSW\, Australia
CATEGORIES:Major Event
END:VEVENT
BEGIN:VEVENT
DTSTART;VALUE=DATE:20190622
DTEND;VALUE=DATE:20190623
DTSTAMP:20260425T210229
CREATED:20181110T004642Z
LAST-MODIFIED:20190430T062004Z
UID:1049-1561161600-1561247999@bungendoreshowground.com.au
SUMMARY:Bungendore Sheepdogs
DESCRIPTION:[column width=”1/1″ last=”true” title=”” title_type=”single” animation=”none” implicit=”true”] \n  \n[/column] \n[column width=”1/1″ last=”true” title=”” title_type=”single” animation=”none” implicit=”true”] \n[/column] \n[column width=”1/1″ last=”true” title=”” title_type=”single” animation=”none” implicit=”true”] \n  \n[/column] \n[column width=”1/1″ last=”true” title=”” title_type=”single” animation=”none” implicit=”true”] \n[/column]
URL:https://bungendoreshowground.com.au/event/bungendore-sheepdogs-2019-06-29/
LOCATION:Mathews Lane off Bungendore Rd\, Bungendore\, NSW\, Australia
END:VEVENT
BEGIN:VEVENT
DTSTART;VALUE=DATE:20190622
DTEND;VALUE=DATE:20190623
DTSTAMP:20260425T210229
CREATED:20181115T000430Z
LAST-MODIFIED:20181115T000430Z
UID:1131-1561161600-1561247999@bungendoreshowground.com.au
SUMMARY:Zone 16 Mounted Games Set Up
DESCRIPTION:
URL:https://bungendoreshowground.com.au/event/zone-16-mounted-games-set-up/
LOCATION:Mathews Lane off Bungendore Rd\, Bungendore\, NSW\, Australia
END:VEVENT
BEGIN:VEVENT
DTSTART;VALUE=DATE:20190615
DTEND;VALUE=DATE:20190617
DTSTAMP:20260425T210229
CREATED:20181208T211512Z
LAST-MODIFIED:20181208T211512Z
UID:1178-1560556800-1560729599@bungendoreshowground.com.au
SUMMARY:Adult Mounted Games NSW
DESCRIPTION:[column width=”1/1″ last=”true” title=”” title_type=”single” animation=”none” implicit=”true”] \n  \n[/column]
URL:https://bungendoreshowground.com.au/event/adult-mounted-games-nsw/
LOCATION:Mathews Lane off Bungendore Rd\, Bungendore\, NSW\, Australia
CATEGORIES:5 - Carpark
END:VEVENT
BEGIN:VEVENT
DTSTART;VALUE=DATE:20190602
DTEND;VALUE=DATE:20190603
DTSTAMP:20260425T210229
CREATED:20180518T222446Z
LAST-MODIFIED:20180523T060250Z
UID:950-1559433600-1559519999@bungendoreshowground.com.au
SUMMARY:Bungendore Pony Club
DESCRIPTION:
URL:https://bungendoreshowground.com.au/event/bungendore-pony-club-3-2019-06-09/
LOCATION:Mathews Lane off Bungendore Rd\, Bungendore\, NSW\, Australia
END:VEVENT
BEGIN:VEVENT
DTSTART;VALUE=DATE:20190526
DTEND;VALUE=DATE:20190527
DTSTAMP:20260425T210229
CREATED:20181115T000745Z
LAST-MODIFIED:20181115T000745Z
UID:1135-1558828800-1558915199@bungendoreshowground.com.au
SUMMARY:Wamboin Pony Club Mounted Games
DESCRIPTION:
URL:https://bungendoreshowground.com.au/event/wamboin-pony-club-mounted-games-2/
LOCATION:Mathews Lane off Bungendore Rd\, Bungendore\, NSW\, Australia
CATEGORIES:Major Event
END:VEVENT
END:VCALENDAR