BEGIN:VCALENDAR
VERSION:2.0
PRODID:-//Bungendore Showground - ECPv6.15.17//NONSGML v1.0//EN
CALSCALE:GREGORIAN
METHOD:PUBLISH
X-WR-CALNAME:Bungendore Showground
X-ORIGINAL-URL:https://bungendoreshowground.com.au
X-WR-CALDESC:Events for Bungendore Showground
REFRESH-INTERVAL;VALUE=DURATION:PT1H
X-Robots-Tag:noindex
X-PUBLISHED-TTL:PT1H
BEGIN:VTIMEZONE
TZID:Australia/Sydney
BEGIN:STANDARD
TZOFFSETFROM:+1100
TZOFFSETTO:+1000
TZNAME:AEST
DTSTART:20170401T160000
END:STANDARD
BEGIN:DAYLIGHT
TZOFFSETFROM:+1000
TZOFFSETTO:+1100
TZNAME:AEDT
DTSTART:20170930T160000
END:DAYLIGHT
BEGIN:STANDARD
TZOFFSETFROM:+1100
TZOFFSETTO:+1000
TZNAME:AEST
DTSTART:20180331T160000
END:STANDARD
BEGIN:DAYLIGHT
TZOFFSETFROM:+1000
TZOFFSETTO:+1100
TZNAME:AEDT
DTSTART:20181006T160000
END:DAYLIGHT
BEGIN:STANDARD
TZOFFSETFROM:+1100
TZOFFSETTO:+1000
TZNAME:AEST
DTSTART:20190406T160000
END:STANDARD
BEGIN:DAYLIGHT
TZOFFSETFROM:+1000
TZOFFSETTO:+1100
TZNAME:AEDT
DTSTART:20191005T160000
END:DAYLIGHT
BEGIN:STANDARD
TZOFFSETFROM:+1100
TZOFFSETTO:+1000
TZNAME:AEST
DTSTART:20200404T160000
END:STANDARD
BEGIN:DAYLIGHT
TZOFFSETFROM:+1000
TZOFFSETTO:+1100
TZNAME:AEDT
DTSTART:20201003T160000
END:DAYLIGHT
END:VTIMEZONE
BEGIN:VEVENT
DTSTART;TZID=Australia/Sydney:20190128T120000
DTEND;TZID=Australia/Sydney:20190204T170000
DTSTAMP:20260425T210356
CREATED:20181026T232520Z
LAST-MODIFIED:20181026T232520Z
UID:1030-1548676800-1549299600@bungendoreshowground.com.au
SUMMARY:Bungendore Country Muster
DESCRIPTION:[column width=”1/1″ last=”true” title=”” title_type=”single” animation=”none” implicit=”true”] \n  \n[/column]
URL:https://bungendoreshowground.com.au/event/bungendore-country-muster-2/
LOCATION:Mathews Lane off Bungendore Rd\, Bungendore\, NSW\, Australia
END:VEVENT
BEGIN:VEVENT
DTSTART;TZID=Australia/Sydney:20190119T080000
DTEND;TZID=Australia/Sydney:20190128T120000
DTSTAMP:20260425T210356
CREATED:20181026T232232Z
LAST-MODIFIED:20181026T232232Z
UID:1027-1547884800-1548676800@bungendoreshowground.com.au
SUMMARY:Bungendore Show
DESCRIPTION:[column width=”1/1″ last=”true” title=”” title_type=”single” animation=”none” implicit=”true”] \n  \n[/column]
URL:https://bungendoreshowground.com.au/event/bungendore-show/
LOCATION:Mathews Lane off Bungendore Rd\, Bungendore\, NSW\, Australia
CATEGORIES:Exclusive Use Closed to Casual Camping,Major Event
ORGANIZER;CN="Bungendore PAH Society":MAILTO:bungendoreshowsec@gmail.com 
END:VEVENT
BEGIN:VEVENT
DTSTART;VALUE=DATE:20190113
DTEND;VALUE=DATE:20190114
DTSTAMP:20260425T210356
CREATED:20180518T222446Z
LAST-MODIFIED:20181113T042245Z
UID:945-1547337600-1547423999@bungendoreshowground.com.au
SUMMARY:Bungendore Pony Club
DESCRIPTION:
URL:https://bungendoreshowground.com.au/event/bungendore-pony-club-3-2019-01-13/
LOCATION:Mathews Lane off Bungendore Rd\, Bungendore\, NSW\, Australia
END:VEVENT
BEGIN:VEVENT
DTSTART;VALUE=DATE:20190112
DTEND;VALUE=DATE:20190114
DTSTAMP:20260425T210356
CREATED:20181029T203515Z
LAST-MODIFIED:20181029T203515Z
UID:1033-1547251200-1547423999@bungendoreshowground.com.au
SUMMARY:Lake George and Wamboin Dog Club Show
DESCRIPTION:
URL:https://bungendoreshowground.com.au/event/lake-george-and-wamboin-dog-club-show/
LOCATION:Mathews Lane off Bungendore Rd\, Bungendore\, NSW\, Australia
END:VEVENT
BEGIN:VEVENT
DTSTART;VALUE=DATE:20181209
DTEND;VALUE=DATE:20181210
DTSTAMP:20260425T210356
CREATED:20180107T075904Z
LAST-MODIFIED:20180107T075904Z
UID:827-1544313600-1544399999@bungendoreshowground.com.au
SUMMARY:Bungendore Pony Club Rally Day and Christmas Party
DESCRIPTION:
URL:https://bungendoreshowground.com.au/event/bungendore-pony-club-rally-day-christmas-party/
LOCATION:Mathews Lane off Bungendore Rd\, Bungendore\, NSW\, Australia
END:VEVENT
BEGIN:VEVENT
DTSTART;VALUE=DATE:20181203
DTEND;VALUE=DATE:20181206
DTSTAMP:20260425T210356
CREATED:20180116T085619Z
LAST-MODIFIED:20180116T092640Z
UID:833-1543795200-1544054399@bungendoreshowground.com.au
SUMMARY:Canberra Caravan Club
DESCRIPTION:
URL:https://bungendoreshowground.com.au/event/canberra-caravan-club/
LOCATION:Mathews Lane off Bungendore Rd\, Bungendore\, NSW\, Australia
ORGANIZER;CN="Richard & Maureen Hay Canberra Caravan Club":MAILTO:secretary@canberracaravanclub.org
END:VEVENT
BEGIN:VEVENT
DTSTART;VALUE=DATE:20181130
DTEND;VALUE=DATE:20181203
DTSTAMP:20260425T210356
CREATED:20180518T221727Z
LAST-MODIFIED:20181110T022553Z
UID:939-1543536000-1543795199@bungendoreshowground.com.au
SUMMARY:SCA Medieval Society
DESCRIPTION:[column width=”1/1″ last=”true” title=”” title_type=”single” animation=”none” implicit=”true”] \n  \n[/column]
URL:https://bungendoreshowground.com.au/event/closed-trust-use/
LOCATION:Mathews Lane off Bungendore Rd\, Bungendore\, NSW\, Australia
CATEGORIES:Major Event
END:VEVENT
BEGIN:VEVENT
DTSTART;TZID=Australia/Sydney:20181127T170000
DTEND;TZID=Australia/Sydney:20181127T210000
DTSTAMP:20260425T210356
CREATED:20181114T074503Z
LAST-MODIFIED:20181114T074503Z
UID:1125-1543338000-1543352400@bungendoreshowground.com.au
SUMMARY:Bungendore Show Showgirl Event
DESCRIPTION:[column width=”1/1″ last=”true” title=”” title_type=”single” animation=”none” implicit=”true”] \n  \n[/column]
URL:https://bungendoreshowground.com.au/event/bungendore-show-showgirl-event/
LOCATION:Mathews Lane off Bungendore Rd\, Bungendore\, NSW\, Australia
END:VEVENT
BEGIN:VEVENT
DTSTART;TZID=Australia/Sydney:20181123T120000
DTEND;TZID=Australia/Sydney:20181124T230000
DTSTAMP:20260425T210356
CREATED:20180630T230352Z
LAST-MODIFIED:20180630T230352Z
UID:992-1542974400-1543100400@bungendoreshowground.com.au
SUMMARY:NSW Adult Mounted Games
DESCRIPTION:
URL:https://bungendoreshowground.com.au/event/nsw-adult-mounted-games/
LOCATION:Mathews Lane off Bungendore Rd\, Bungendore\, NSW\, Australia
CATEGORIES:5 - Carpark
ORGANIZER;CN="Robyn Slater":MAILTO:slater3@aapt.net.au
END:VEVENT
BEGIN:VEVENT
DTSTART;VALUE=DATE:20181117
DTEND;VALUE=DATE:20181119
DTSTAMP:20260425T210356
CREATED:20180116T094734Z
LAST-MODIFIED:20180116T094734Z
UID:839-1542412800-1542585599@bungendoreshowground.com.au
SUMMARY:Family Reunion
DESCRIPTION:
URL:https://bungendoreshowground.com.au/event/family-reunion/
LOCATION:Mathews Lane off Bungendore Rd\, Bungendore\, NSW\, Australia
END:VEVENT
BEGIN:VEVENT
DTSTART;VALUE=DATE:20181110
DTEND;VALUE=DATE:20181112
DTSTAMP:20260425T210356
CREATED:20181026T231756Z
LAST-MODIFIED:20181026T231756Z
UID:1024-1541808000-1541980799@bungendoreshowground.com.au
SUMMARY:Dog Grooming by the Dogwhiskerer
DESCRIPTION:[column width=”1/1″ last=”true” title=”” title_type=”single” animation=”none” implicit=”true”] \n  \n[/column]
URL:https://bungendoreshowground.com.au/event/dog-grooming-by-the-dogwhiskerer/
LOCATION:Mathews Lane off Bungendore Rd\, Bungendore\, NSW\, Australia
END:VEVENT
BEGIN:VEVENT
DTSTART;VALUE=DATE:20181101
DTEND;VALUE=DATE:20181105
DTSTAMP:20260425T210356
CREATED:20180504T225325Z
LAST-MODIFIED:20181026T022015Z
UID:921-1541030400-1541375999@bungendoreshowground.com.au
SUMMARY:Schools Equestrian
DESCRIPTION:
URL:https://bungendoreshowground.com.au/event/schools-equestrian/
LOCATION:Mathews Lane off Bungendore Rd\, Bungendore\, NSW\, Australia
CATEGORIES:Major Event
END:VEVENT
BEGIN:VEVENT
DTSTART;VALUE=DATE:20181019
DTEND;VALUE=DATE:20181022
DTSTAMP:20260425T210356
CREATED:20170711T061257Z
LAST-MODIFIED:20171013T045608Z
UID:518-1539907200-1540166399@bungendoreshowground.com.au
SUMMARY:Wood Wood and Woodwork Show
DESCRIPTION:
URL:https://bungendoreshowground.com.au/event/wood-wood-woodwork-show/
LOCATION:Mathews Lane off Bungendore Rd\, Bungendore\, NSW\, Australia
CATEGORIES:Major Event
END:VEVENT
BEGIN:VEVENT
DTSTART;VALUE=DATE:20181017
DTEND;VALUE=DATE:20181019
DTSTAMP:20260425T210356
CREATED:20180202T212352Z
LAST-MODIFIED:20180202T212352Z
UID:859-1539734400-1539907199@bungendoreshowground.com.au
SUMMARY:Woodwork Show Setup
DESCRIPTION:
URL:https://bungendoreshowground.com.au/event/woodwork-show-setup/
LOCATION:Mathews Lane off Bungendore Rd\, Bungendore\, NSW\, Australia
END:VEVENT
BEGIN:VEVENT
DTSTART;VALUE=DATE:20181001
DTEND;VALUE=DATE:20181009
DTSTAMP:20260425T210356
CREATED:20180220T065400Z
LAST-MODIFIED:20180220T065400Z
UID:872-1538352000-1539043199@bungendoreshowground.com.au
SUMMARY:Australian Camper-Trailer Group
DESCRIPTION:
URL:https://bungendoreshowground.com.au/event/australian-camper-trailer-group-2/
LOCATION:Mathews Lane off Bungendore Rd\, Bungendore\, NSW\, Australia
CATEGORIES:Major Event
END:VEVENT
BEGIN:VEVENT
DTSTART;VALUE=DATE:20180928
DTEND;VALUE=DATE:20181009
DTSTAMP:20260425T210356
CREATED:20171013T044337Z
LAST-MODIFIED:20171013T045756Z
UID:627-1538092800-1539043199@bungendoreshowground.com.au
SUMMARY:Australian Camper-Trailer Group
DESCRIPTION:
URL:https://bungendoreshowground.com.au/event/australian-camper-trailer-group/
LOCATION:Mathews Lane off Bungendore Rd\, Bungendore\, NSW\, Australia
CATEGORIES:Major Event
END:VEVENT
BEGIN:VEVENT
DTSTART;VALUE=DATE:20180922
DTEND;VALUE=DATE:20180924
DTSTAMP:20260425T210356
CREATED:20171024T094935Z
LAST-MODIFIED:20180116T101641Z
UID:764-1537574400-1537747199@bungendoreshowground.com.au
SUMMARY:BRC ODE
DESCRIPTION:
URL:https://bungendoreshowground.com.au/event/brc-training-day-2018-09-23/
LOCATION:Mathews Lane off Bungendore Rd\, Bungendore\, NSW\, Australia
CATEGORIES:Shared Hire
END:VEVENT
BEGIN:VEVENT
DTSTART;VALUE=DATE:20180916
DTEND;VALUE=DATE:20180917
DTSTAMP:20260425T210356
CREATED:20171103T035556Z
LAST-MODIFIED:20171103T035556Z
UID:801-1537056000-1537142399@bungendoreshowground.com.au
SUMMARY:Bungendore Pony Club
DESCRIPTION:
URL:https://bungendoreshowground.com.au/event/bungendore-pony-club/
LOCATION:Mathews Lane off Bungendore Rd\, Bungendore\, NSW\, Australia
END:VEVENT
BEGIN:VEVENT
DTSTART;VALUE=DATE:20180913
DTEND;VALUE=DATE:20180918
DTSTAMP:20260425T210356
CREATED:20180518T221302Z
LAST-MODIFIED:20180518T221302Z
UID:931-1536796800-1537228799@bungendoreshowground.com.au
SUMMARY:Prospect Caravan Club
DESCRIPTION:
URL:https://bungendoreshowground.com.au/event/prospect-caravan-club/
LOCATION:Mathews Lane off Bungendore Rd\, Bungendore\, NSW\, Australia
END:VEVENT
BEGIN:VEVENT
DTSTART;VALUE=DATE:20180901
DTEND;VALUE=DATE:20180903
DTSTAMP:20260425T210356
CREATED:20171010T091828Z
LAST-MODIFIED:20171010T091828Z
UID:564-1535760000-1535932799@bungendoreshowground.com.au
SUMMARY:Adult Mounted Games
DESCRIPTION:
URL:https://bungendoreshowground.com.au/event/adult-mounted-games/
LOCATION:Mathews Lane off Bungendore Rd\, Bungendore\, NSW\, Australia
CATEGORIES:5 - Carpark
END:VEVENT
BEGIN:VEVENT
DTSTART;VALUE=DATE:20180805
DTEND;VALUE=DATE:20180806
DTSTAMP:20260425T210356
CREATED:20180220T063208Z
LAST-MODIFIED:20180220T063208Z
UID:869-1533427200-1533513599@bungendoreshowground.com.au
SUMMARY:NSW Dog Lure Event
DESCRIPTION:
URL:https://bungendoreshowground.com.au/event/nsw-dog-lure-event/
LOCATION:Mathews Lane off Bungendore Rd\, Bungendore\, NSW\, Australia
CATEGORIES:Major Event,Share MAY be negotiated IF suitable
END:VEVENT
BEGIN:VEVENT
DTSTART;VALUE=DATE:20180713
DTEND;VALUE=DATE:20180716
DTSTAMP:20260425T210356
CREATED:20171022T010104Z
LAST-MODIFIED:20171022T013141Z
UID:710-1531440000-1531699199@bungendoreshowground.com.au
SUMMARY:Bungendore and Palerang Dog Kennel Club - Show
DESCRIPTION:
URL:https://bungendoreshowground.com.au/event/bungendore-palerang-dog-kennel-club-show/
LOCATION:Mathews Lane off Bungendore Rd\, Bungendore\, NSW\, Australia
END:VEVENT
BEGIN:VEVENT
DTSTART;TZID=Australia/Sydney:20180624T080000
DTEND;TZID=Australia/Sydney:20180624T170000
DTSTAMP:20260425T210356
CREATED:20171118T233338Z
LAST-MODIFIED:20171118T233338Z
UID:809-1529827200-1529859600@bungendoreshowground.com.au
SUMMARY:Zone 16 Possible Share with BRC
DESCRIPTION:
URL:https://bungendoreshowground.com.au/event/zone-16-possible-share-brc/
LOCATION:Mathews Lane off Bungendore Rd\, Bungendore\, NSW\, Australia
END:VEVENT
BEGIN:VEVENT
DTSTART;VALUE=DATE:20180609
DTEND;VALUE=DATE:20180611
DTSTAMP:20260425T210356
CREATED:20171010T204254Z
LAST-MODIFIED:20171022T012407Z
UID:597-1528502400-1528675199@bungendoreshowground.com.au
SUMMARY:Dogs NSW - Lure Coursing
DESCRIPTION:
URL:https://bungendoreshowground.com.au/event/palerang-kennel-club-lure-coursing/
LOCATION:Mathews Lane off Bungendore Rd\, Bungendore\, NSW\, Australia
END:VEVENT
BEGIN:VEVENT
DTSTART;VALUE=DATE:20180603
DTEND;VALUE=DATE:20180604
DTSTAMP:20260425T210356
CREATED:20180518T221450Z
LAST-MODIFIED:20180518T221450Z
UID:935-1527984000-1528070399@bungendoreshowground.com.au
SUMMARY:Bungendore Pony Club
DESCRIPTION:
URL:https://bungendoreshowground.com.au/event/bungendore-pony-club-2/
LOCATION:Mathews Lane off Bungendore Rd\, Bungendore\, NSW\, Australia
END:VEVENT
BEGIN:VEVENT
DTSTART;VALUE=DATE:20180527
DTEND;VALUE=DATE:20180528
DTSTAMP:20260425T210356
CREATED:20171028T014800Z
LAST-MODIFIED:20171029T212209Z
UID:786-1527379200-1527465599@bungendoreshowground.com.au
SUMMARY:Wamboin Pony Club Mounted Games
DESCRIPTION:
URL:https://bungendoreshowground.com.au/event/wamboin-pony-club-mounted-games/
LOCATION:Mathews Lane off Bungendore Rd\, Bungendore\, NSW\, Australia
ORGANIZER;CN="Wamboin Pony Club":MAILTO:wamboinsecretary@gmail.com
END:VEVENT
BEGIN:VEVENT
DTSTART;TZID=Australia/Sydney:20180519T080000
DTEND;TZID=Australia/Sydney:20180520T170000
DTSTAMP:20260425T210356
CREATED:20170821T001432Z
LAST-MODIFIED:20170821T001432Z
UID:542-1526716800-1526835600@bungendoreshowground.com.au
SUMMARY:Canberra Royals Polocrosse Carnival
DESCRIPTION:
URL:https://bungendoreshowground.com.au/event/canberra-royals-polocrosse-carnival/
LOCATION:Main Arena\, Horse Yards\, Dining Hall\, Mathews Lane off Bungendore Rd\, Bungendore\, NSW\, Australia
CATEGORIES:Major Event
END:VEVENT
BEGIN:VEVENT
DTSTART;VALUE=DATE:20180508
DTEND;VALUE=DATE:20180509
DTSTAMP:20260425T210356
CREATED:20180508T073720Z
LAST-MODIFIED:20180508T073720Z
UID:927-1525737600-1525823999@bungendoreshowground.com.au
SUMMARY:Scouts and RFS
DESCRIPTION:
URL:https://bungendoreshowground.com.au/event/scouts-and-rfs/
LOCATION:Mathews Lane off Bungendore Rd\, Bungendore\, NSW\, Australia
END:VEVENT
BEGIN:VEVENT
DTSTART;VALUE=DATE:20180504
DTEND;VALUE=DATE:20180507
DTSTAMP:20260425T210356
CREATED:20180302T105507Z
LAST-MODIFIED:20180302T105507Z
UID:915-1525392000-1525651199@bungendoreshowground.com.au
SUMMARY:Bungendore Cubs and Scouts
DESCRIPTION:
URL:https://bungendoreshowground.com.au/event/bungendore-cubs-scouts/
LOCATION:Mathews Lane off Bungendore Rd\, Bungendore\, NSW\, Australia
END:VEVENT
BEGIN:VEVENT
DTSTART;VALUE=DATE:20180429
DTEND;VALUE=DATE:20180430
DTSTAMP:20260425T210356
CREATED:20171024T094935Z
LAST-MODIFIED:20180314T204918Z
UID:759-1524960000-1525046399@bungendoreshowground.com.au
SUMMARY:BRC Training Day
DESCRIPTION:
URL:https://bungendoreshowground.com.au/event/brc-training-day-2018-04-22/
LOCATION:Mathews Lane off Bungendore Rd\, Bungendore\, NSW\, Australia
CATEGORIES:Shared Hire
END:VEVENT
END:VCALENDAR