BEGIN:VCALENDAR
VERSION:2.0
PRODID:-//Bungendore Showground - ECPv6.15.17//NONSGML v1.0//EN
CALSCALE:GREGORIAN
METHOD:PUBLISH
X-WR-CALNAME:Bungendore Showground
X-ORIGINAL-URL:https://bungendoreshowground.com.au
X-WR-CALDESC:Events for Bungendore Showground
REFRESH-INTERVAL;VALUE=DURATION:PT1H
X-Robots-Tag:noindex
X-PUBLISHED-TTL:PT1H
BEGIN:VTIMEZONE
TZID:Australia/Sydney
BEGIN:STANDARD
TZOFFSETFROM:+1100
TZOFFSETTO:+1000
TZNAME:AEST
DTSTART:20250405T160000
END:STANDARD
BEGIN:DAYLIGHT
TZOFFSETFROM:+1000
TZOFFSETTO:+1100
TZNAME:AEDT
DTSTART:20251004T160000
END:DAYLIGHT
BEGIN:STANDARD
TZOFFSETFROM:+1100
TZOFFSETTO:+1000
TZNAME:AEST
DTSTART:20260404T160000
END:STANDARD
BEGIN:DAYLIGHT
TZOFFSETFROM:+1000
TZOFFSETTO:+1100
TZNAME:AEDT
DTSTART:20261003T160000
END:DAYLIGHT
BEGIN:STANDARD
TZOFFSETFROM:+1100
TZOFFSETTO:+1000
TZNAME:AEST
DTSTART:20270403T160000
END:STANDARD
BEGIN:DAYLIGHT
TZOFFSETFROM:+1000
TZOFFSETTO:+1100
TZNAME:AEDT
DTSTART:20271002T160000
END:DAYLIGHT
END:VTIMEZONE
BEGIN:VEVENT
DTSTART;VALUE=DATE:20260418
DTEND;VALUE=DATE:20260419
DTSTAMP:20260425T223921
CREATED:20251103T091436Z
LAST-MODIFIED:20251103T091739Z
UID:3233-1776470400-1776556799@bungendoreshowground.com.au
SUMMARY:BADSA Training Day (Northern Paddock not available)
DESCRIPTION:
URL:https://bungendoreshowground.com.au/event/basda-training-day-northern-paddock-not-available-2026-04-18/
LOCATION:Mathews Lane off Bungendore Rd\, Bungendore\, NSW\, Australia
CATEGORIES:3 - Northern Arena,9 - Sheep Yards
END:VEVENT
BEGIN:VEVENT
DTSTART;VALUE=DATE:20260426
DTEND;VALUE=DATE:20260427
DTSTAMP:20260425T223921
CREATED:20250716T231912Z
LAST-MODIFIED:20250716T231912Z
UID:3165-1777161600-1777247999@bungendoreshowground.com.au
SUMMARY:Bungendore Adult Riding Club
DESCRIPTION:
URL:https://bungendoreshowground.com.au/event/bungendore-adult-riding-club-2026-04-26/
LOCATION:Mathews Lane off Bungendore Rd\, Bungendore\, NSW\, Australia
END:VEVENT
BEGIN:VEVENT
DTSTART;VALUE=DATE:20260502
DTEND;VALUE=DATE:20260503
DTSTAMP:20260425T223921
CREATED:20250707T082107Z
LAST-MODIFIED:20260114T001658Z
UID:3142-1777680000-1777766399@bungendoreshowground.com.au
SUMMARY:Bungendore Pony Club
DESCRIPTION:
URL:https://bungendoreshowground.com.au/event/bungendore-pony-club-6-2026-05-03/
LOCATION:NSW
CATEGORIES:1 - Main Arena,2 - Equestrian Parking,20 - Container/Shed Storage,4 - Covered Arena,42 - Equestrian Parking,6 - Dressage Arena,7 - Jumping Arena,8 - Cross Country Course
END:VEVENT
BEGIN:VEVENT
DTSTART;VALUE=DATE:20260508
DTEND;VALUE=DATE:20260511
DTSTAMP:20260425T223921
CREATED:20250825T032647Z
LAST-MODIFIED:20260406T012317Z
UID:3181-1778198400-1778457599@bungendoreshowground.com.au
SUMMARY:Bungendore Polocrosse Club Carnival
DESCRIPTION:
URL:https://bungendoreshowground.com.au/event/bungendore-polocrosse-club-carnival/
LOCATION:NSW
CATEGORIES:1 - Main Arena,15 - Northern Camping Area,16 - South/East Camping Area,17 - Equestrian Parking,18 - Horse Yards South West,19 - Horse Yards South East,2 - Equestrian Parking,20 - Container/Shed Storage,29 - Main Bar/Cool room,31 - Outdoor Bar,32 - Southern Toilet/Showers,42 - Equestrian Parking,Major Event
END:VEVENT
BEGIN:VEVENT
DTSTART;VALUE=DATE:20260516
DTEND;VALUE=DATE:20260518
DTSTAMP:20260425T223921
CREATED:20241222T061456Z
LAST-MODIFIED:20241222T061456Z
UID:3017-1778889600-1779062399@bungendoreshowground.com.au
SUMMARY:Canberra Royals Polocrosse Club Carnival
DESCRIPTION:
URL:https://bungendoreshowground.com.au/event/canberra-royals-polocrosse-club-carnival/
LOCATION:Mathews Lane off Bungendore Rd\, Bungendore\, NSW\, Australia
END:VEVENT
BEGIN:VEVENT
DTSTART;VALUE=DATE:20260516
DTEND;VALUE=DATE:20260518
DTSTAMP:20260425T223921
CREATED:20250506T040136Z
LAST-MODIFIED:20260406T012416Z
UID:3101-1778889600-1779062399@bungendoreshowground.com.au
SUMMARY:Canberra Royals Polocrosse
DESCRIPTION:
URL:https://bungendoreshowground.com.au/event/canberra-royals-polocrosse/
LOCATION:NSW
CATEGORIES:1 - Main Arena,15 - Northern Camping Area,16 - South/East Camping Area,17 - Equestrian Parking,18 - Horse Yards South West,19 - Horse Yards South East,2 - Equestrian Parking,20 - Container/Shed Storage,25 - Covered Sail Area,26 - Kitchen and Dining Hall,27 - Breezeway Area,29 - Main Bar/Cool room,3 - Northern Arena,30 - Disabled Access Toilet,31 - Outdoor Bar,32 - Southern Toilet/Showers,42 - Equestrian Parking,Major Event = Limited Camping
END:VEVENT
BEGIN:VEVENT
DTSTART;VALUE=DATE:20260523
DTEND;VALUE=DATE:20260524
DTSTAMP:20260425T223921
CREATED:20251103T091436Z
LAST-MODIFIED:20251103T091739Z
UID:3234-1779494400-1779580799@bungendoreshowground.com.au
SUMMARY:BADSA Training Day (Northern Paddock not available)
DESCRIPTION:
URL:https://bungendoreshowground.com.au/event/basda-training-day-northern-paddock-not-available-2026-05-23/
LOCATION:Mathews Lane off Bungendore Rd\, Bungendore\, NSW\, Australia
CATEGORIES:3 - Northern Arena,9 - Sheep Yards
END:VEVENT
BEGIN:VEVENT
DTSTART;VALUE=DATE:20260525
DTEND;VALUE=DATE:20260530
DTSTAMP:20260425T223921
CREATED:20260220T043233Z
LAST-MODIFIED:20260220T043233Z
UID:3872-1779667200-1780099199@bungendoreshowground.com.au
SUMMARY:TRYP Camp
DESCRIPTION:
URL:https://bungendoreshowground.com.au/event/tryp-camp-2/
LOCATION:NSW
END:VEVENT
BEGIN:VEVENT
DTSTART;VALUE=DATE:20260530
DTEND;VALUE=DATE:20260531
DTSTAMP:20260425T223921
CREATED:20260220T043959Z
LAST-MODIFIED:20260220T044029Z
UID:3880-1780099200-1780185599@bungendoreshowground.com.au
SUMMARY:Bungendore Adult Riding Club Derby setup
DESCRIPTION:
URL:https://bungendoreshowground.com.au/event/bungendore-adult-riding-club-derby-setup/
LOCATION:NSW
END:VEVENT
BEGIN:VEVENT
DTSTART;VALUE=DATE:20260531
DTEND;VALUE=DATE:20260601
DTSTAMP:20260425T223921
CREATED:20250716T231912Z
LAST-MODIFIED:20260406T012707Z
UID:3166-1780185600-1780271999@bungendoreshowground.com.au
SUMMARY:Bungendore Adult Riding Club - Covered arena not available
DESCRIPTION:
URL:https://bungendoreshowground.com.au/event/bungendore-adult-riding-club-2026-05-31/
LOCATION:NSW
CATEGORIES:1 - Main Arena,18 - Horse Yards South West,19 - Horse Yards South East,2 - Equestrian Parking,20 - Container/Shed Storage,4 - Covered Arena,42 - Equestrian Parking,6 - Dressage Arena,7 - Jumping Arena,8 - Cross Country Course
END:VEVENT
BEGIN:VEVENT
DTSTART;VALUE=DATE:20260613
DTEND;VALUE=DATE:20260615
DTSTAMP:20260425T223921
CREATED:20251110T092207Z
LAST-MODIFIED:20251110T092207Z
UID:3253-1781308800-1781481599@bungendoreshowground.com.au
SUMMARY:Penning and Sorting (Covered arena not available)
DESCRIPTION:
URL:https://bungendoreshowground.com.au/event/penning-and-sorting-covered-arena-not-available/
LOCATION:Mathews Lane off Bungendore Rd\, Bungendore\, NSW\, Australia
CATEGORIES:16 - South/East Camping Area,17 - Equestrian Parking,18 - Horse Yards South West,19 - Horse Yards South East,2 - Equestrian Parking,32 - Southern Toilet/Showers,4 - Covered Arena,42 - Equestrian Parking
END:VEVENT
BEGIN:VEVENT
DTSTART;VALUE=DATE:20260617
DTEND;VALUE=DATE:20260622
DTSTAMP:20260425T223921
CREATED:20251103T091653Z
LAST-MODIFIED:20251103T091653Z
UID:3241-1781654400-1782086399@bungendoreshowground.com.au
SUMMARY:BADSA Sheepdog Trial (Northern Paddock not available)
DESCRIPTION:
URL:https://bungendoreshowground.com.au/event/badsa-sheepdog-trial-northern-paddock-not-available/
LOCATION:Mathews Lane off Bungendore Rd\, Bungendore\, NSW\, Australia
CATEGORIES:10 - Cattle Judging Arena,14 - North/West Camping Area,15 - Northern Camping Area,23 - Jockey's Room,3 - Northern Arena,9 - Sheep Yards
END:VEVENT
BEGIN:VEVENT
DTSTART;VALUE=DATE:20260620
DTEND;VALUE=DATE:20260621
DTSTAMP:20260425T223921
CREATED:20250707T082107Z
LAST-MODIFIED:20260114T001738Z
UID:3143-1781913600-1781999999@bungendoreshowground.com.au
SUMMARY:Bungendore Pony Club
DESCRIPTION:
URL:https://bungendoreshowground.com.au/event/bungendore-pony-club-6-2026-06-07/
LOCATION:NSW
CATEGORIES:1 - Main Arena,2 - Equestrian Parking,20 - Container/Shed Storage,4 - Covered Arena,42 - Equestrian Parking,6 - Dressage Arena,7 - Jumping Arena,8 - Cross Country Course
END:VEVENT
BEGIN:VEVENT
DTSTART;VALUE=DATE:20260628
DTEND;VALUE=DATE:20260629
DTSTAMP:20260425T223921
CREATED:20250716T231912Z
LAST-MODIFIED:20250716T231912Z
UID:3167-1782604800-1782691199@bungendoreshowground.com.au
SUMMARY:Bungendore Adult Riding Club
DESCRIPTION:
URL:https://bungendoreshowground.com.au/event/bungendore-adult-riding-club-2026-06-28/
LOCATION:Mathews Lane off Bungendore Rd\, Bungendore\, NSW\, Australia
END:VEVENT
BEGIN:VEVENT
DTSTART;VALUE=DATE:20260710
DTEND;VALUE=DATE:20260712
DTSTAMP:20260425T223921
CREATED:20260421T013818Z
LAST-MODIFIED:20260421T013818Z
UID:3912-1783641600-1783814399@bungendoreshowground.com.au
SUMMARY:Bungendore & Palerang District All Breeds Kennel Club Championship
DESCRIPTION:
URL:https://bungendoreshowground.com.au/event/bungendore-palerang-district-all-breeds-kennel-club-championship/
LOCATION:NSW
CATEGORIES:12 - Dog Show Arena,16 - South/East Camping Area,32 - Southern Toilet/Showers
END:VEVENT
BEGIN:VEVENT
DTSTART;VALUE=DATE:20260711
DTEND;VALUE=DATE:20260712
DTSTAMP:20260425T223921
CREATED:20250707T082107Z
LAST-MODIFIED:20260114T001810Z
UID:3144-1783728000-1783814399@bungendoreshowground.com.au
SUMMARY:Bungendore Pony Club
DESCRIPTION:
URL:https://bungendoreshowground.com.au/event/bungendore-pony-club-6-2026-07-12/
LOCATION:NSW
CATEGORIES:1 - Main Arena,2 - Equestrian Parking,20 - Container/Shed Storage,4 - Covered Arena,42 - Equestrian Parking,6 - Dressage Arena,7 - Jumping Arena,8 - Cross Country Course
END:VEVENT
BEGIN:VEVENT
DTSTART;VALUE=DATE:20260725
DTEND;VALUE=DATE:20260726
DTSTAMP:20260425T223921
CREATED:20251103T091436Z
LAST-MODIFIED:20251103T091740Z
UID:3235-1784937600-1785023999@bungendoreshowground.com.au
SUMMARY:BADSA Training Day (Northern Paddock not available)
DESCRIPTION:
URL:https://bungendoreshowground.com.au/event/basda-training-day-northern-paddock-not-available-2026-07-25/
LOCATION:Mathews Lane off Bungendore Rd\, Bungendore\, NSW\, Australia
CATEGORIES:3 - Northern Arena,9 - Sheep Yards
END:VEVENT
BEGIN:VEVENT
DTSTART;VALUE=DATE:20260726
DTEND;VALUE=DATE:20260727
DTSTAMP:20260425T223921
CREATED:20250716T231912Z
LAST-MODIFIED:20250716T231912Z
UID:3168-1785024000-1785110399@bungendoreshowground.com.au
SUMMARY:Bungendore Adult Riding Club
DESCRIPTION:
URL:https://bungendoreshowground.com.au/event/bungendore-adult-riding-club-2026-07-26/
LOCATION:Mathews Lane off Bungendore Rd\, Bungendore\, NSW\, Australia
END:VEVENT
BEGIN:VEVENT
DTSTART;VALUE=DATE:20260801
DTEND;VALUE=DATE:20260802
DTSTAMP:20260425T223921
CREATED:20251019T195452Z
LAST-MODIFIED:20251019T195452Z
UID:3224-1785542400-1785628799@bungendoreshowground.com.au
SUMMARY:Bungendore Scent Work Trial
DESCRIPTION:
URL:https://bungendoreshowground.com.au/event/bungendore-scent-work-trial-2/
LOCATION:Mathews Lane off Bungendore Rd\, Bungendore\, NSW\, Australia
CATEGORIES:10 - Cattle Judging Arena,15 - Northern Camping Area,23 - Jockey's Room,24 - Stage,25 - Covered Sail Area,32 - Southern Toilet/Showers
END:VEVENT
BEGIN:VEVENT
DTSTART;VALUE=DATE:20260802
DTEND;VALUE=DATE:20260803
DTSTAMP:20260425T223921
CREATED:20260220T045357Z
LAST-MODIFIED:20260220T045357Z
UID:3884-1785628800-1785715199@bungendoreshowground.com.au
SUMMARY:Bungendore Show Society Winter Woolies Gymkhana
DESCRIPTION:
URL:https://bungendoreshowground.com.au/event/bungendore-show-society-winter-woolies-gymkhana/
LOCATION:NSW
END:VEVENT
BEGIN:VEVENT
DTSTART;VALUE=DATE:20260808
DTEND;VALUE=DATE:20260809
DTSTAMP:20260425T223921
CREATED:20250707T082107Z
LAST-MODIFIED:20260114T001837Z
UID:3145-1786147200-1786233599@bungendoreshowground.com.au
SUMMARY:Bungendore Pony Club
DESCRIPTION:
URL:https://bungendoreshowground.com.au/event/bungendore-pony-club-6-2026-08-09/
LOCATION:NSW
CATEGORIES:1 - Main Arena,2 - Equestrian Parking,20 - Container/Shed Storage,4 - Covered Arena,42 - Equestrian Parking,6 - Dressage Arena,7 - Jumping Arena,8 - Cross Country Course
END:VEVENT
BEGIN:VEVENT
DTSTART;VALUE=DATE:20260815
DTEND;VALUE=DATE:20260816
DTSTAMP:20260425T223921
CREATED:20251103T091436Z
LAST-MODIFIED:20251103T091741Z
UID:3236-1786752000-1786838399@bungendoreshowground.com.au
SUMMARY:BADSA Training Day (Northern Paddock not available)
DESCRIPTION:
URL:https://bungendoreshowground.com.au/event/basda-training-day-northern-paddock-not-available-2026-08-15/
LOCATION:Mathews Lane off Bungendore Rd\, Bungendore\, NSW\, Australia
CATEGORIES:3 - Northern Arena,9 - Sheep Yards
END:VEVENT
BEGIN:VEVENT
DTSTART;VALUE=DATE:20260830
DTEND;VALUE=DATE:20260831
DTSTAMP:20260425T223921
CREATED:20250716T231912Z
LAST-MODIFIED:20260220T044619Z
UID:3169-1788048000-1788134399@bungendoreshowground.com.au
SUMMARY:Bungendore Adult Riding Club - Covered arena not available
DESCRIPTION:
URL:https://bungendoreshowground.com.au/event/bungendore-adult-riding-club-2026-08-30/
LOCATION:NSW
END:VEVENT
BEGIN:VEVENT
DTSTART;VALUE=DATE:20260905
DTEND;VALUE=DATE:20260907
DTSTAMP:20260425T223921
CREATED:20251110T092343Z
LAST-MODIFIED:20251110T092343Z
UID:3256-1788566400-1788739199@bungendoreshowground.com.au
SUMMARY:Penning and Sorting (Covered arena not available)
DESCRIPTION:
URL:https://bungendoreshowground.com.au/event/penning-and-sorting-covered-arena-not-available-2/
LOCATION:Mathews Lane off Bungendore Rd\, Bungendore\, NSW\, Australia
CATEGORIES:16 - South/East Camping Area,17 - Equestrian Parking,18 - Horse Yards South West,19 - Horse Yards South East,2 - Equestrian Parking,32 - Southern Toilet/Showers,4 - Covered Arena,42 - Equestrian Parking
END:VEVENT
BEGIN:VEVENT
DTSTART;VALUE=DATE:20260912
DTEND;VALUE=DATE:20260913
DTSTAMP:20260425T223921
CREATED:20250707T082107Z
LAST-MODIFIED:20260114T001918Z
UID:3146-1789171200-1789257599@bungendoreshowground.com.au
SUMMARY:Bungendore Pony Club
DESCRIPTION:
URL:https://bungendoreshowground.com.au/event/bungendore-pony-club-6-2026-09-13/
LOCATION:NSW
CATEGORIES:1 - Main Arena,2 - Equestrian Parking,20 - Container/Shed Storage,4 - Covered Arena,42 - Equestrian Parking,6 - Dressage Arena,7 - Jumping Arena,8 - Cross Country Course
END:VEVENT
BEGIN:VEVENT
DTSTART;VALUE=DATE:20260926
DTEND;VALUE=DATE:20260927
DTSTAMP:20260425T223921
CREATED:20251103T091436Z
LAST-MODIFIED:20251103T091741Z
UID:3237-1790380800-1790467199@bungendoreshowground.com.au
SUMMARY:BADSA Training Day (Northern Paddock not available)
DESCRIPTION:
URL:https://bungendoreshowground.com.au/event/basda-training-day-northern-paddock-not-available-2026-09-26/
LOCATION:Mathews Lane off Bungendore Rd\, Bungendore\, NSW\, Australia
CATEGORIES:3 - Northern Arena,9 - Sheep Yards
END:VEVENT
BEGIN:VEVENT
DTSTART;VALUE=DATE:20260927
DTEND;VALUE=DATE:20260928
DTSTAMP:20260425T223921
CREATED:20250716T231912Z
LAST-MODIFIED:20250716T231912Z
UID:3170-1790467200-1790553599@bungendoreshowground.com.au
SUMMARY:Bungendore Adult Riding Club
DESCRIPTION:
URL:https://bungendoreshowground.com.au/event/bungendore-adult-riding-club-2026-09-27/
LOCATION:Mathews Lane off Bungendore Rd\, Bungendore\, NSW\, Australia
END:VEVENT
BEGIN:VEVENT
DTSTART;VALUE=DATE:20261002
DTEND;VALUE=DATE:20261006
DTSTAMP:20260425T223921
CREATED:20260127T224731Z
LAST-MODIFIED:20260127T224731Z
UID:3865-1790899200-1791244799@bungendoreshowground.com.au
SUMMARY:Bungendore Penning & Sorting - Covered arena not available
DESCRIPTION:
URL:https://bungendoreshowground.com.au/event/bungendore-penning-sorting-covered-arena-not-available/
LOCATION:NSW
END:VEVENT
BEGIN:VEVENT
DTSTART;VALUE=DATE:20261006
DTEND;VALUE=DATE:20261010
DTSTAMP:20260425T223921
CREATED:20250716T232452Z
LAST-MODIFIED:20250716T232452Z
UID:3173-1791244800-1791590399@bungendoreshowground.com.au
SUMMARY:Mark Langley Horsemanship
DESCRIPTION:
URL:https://bungendoreshowground.com.au/event/mark-langley-horsemanship/
LOCATION:Mathews Lane off Bungendore Rd\, Bungendore\, NSW\, Australia
END:VEVENT
BEGIN:VEVENT
DTSTART;VALUE=DATE:20261011
DTEND;VALUE=DATE:20261012
DTSTAMP:20260425T223921
CREATED:20250707T082107Z
LAST-MODIFIED:20251019T194049Z
UID:3147-1791676800-1791763199@bungendoreshowground.com.au
SUMMARY:Bungendore Pony Club
DESCRIPTION:
URL:https://bungendoreshowground.com.au/event/bungendore-pony-club-6-2026-10-11/
LOCATION:Mathews Lane off Bungendore Rd\, Bungendore\, NSW\, Australia
CATEGORIES:1 - Main Arena,2 - Equestrian Parking,20 - Container/Shed Storage,4 - Covered Arena,42 - Equestrian Parking,6 - Dressage Arena,7 - Jumping Arena,8 - Cross Country Course
END:VEVENT
END:VCALENDAR