BEGIN:VCALENDAR
VERSION:2.0
PRODID:-//Bungendore Showground - ECPv6.15.17//NONSGML v1.0//EN
CALSCALE:GREGORIAN
METHOD:PUBLISH
X-WR-CALNAME:Bungendore Showground
X-ORIGINAL-URL:https://bungendoreshowground.com.au
X-WR-CALDESC:Events for Bungendore Showground
REFRESH-INTERVAL;VALUE=DURATION:PT1H
X-Robots-Tag:noindex
X-PUBLISHED-TTL:PT1H
BEGIN:VTIMEZONE
TZID:Australia/Sydney
BEGIN:STANDARD
TZOFFSETFROM:+1100
TZOFFSETTO:+1000
TZNAME:AEST
DTSTART:20220402T160000
END:STANDARD
BEGIN:DAYLIGHT
TZOFFSETFROM:+1000
TZOFFSETTO:+1100
TZNAME:AEDT
DTSTART:20221001T160000
END:DAYLIGHT
BEGIN:STANDARD
TZOFFSETFROM:+1100
TZOFFSETTO:+1000
TZNAME:AEST
DTSTART:20230401T160000
END:STANDARD
BEGIN:DAYLIGHT
TZOFFSETFROM:+1000
TZOFFSETTO:+1100
TZNAME:AEDT
DTSTART:20230930T160000
END:DAYLIGHT
BEGIN:STANDARD
TZOFFSETFROM:+1100
TZOFFSETTO:+1000
TZNAME:AEST
DTSTART:20240406T160000
END:STANDARD
BEGIN:DAYLIGHT
TZOFFSETFROM:+1000
TZOFFSETTO:+1100
TZNAME:AEDT
DTSTART:20241005T160000
END:DAYLIGHT
END:VTIMEZONE
BEGIN:VEVENT
DTSTART;TZID=Australia/Sydney:20230909T080000
DTEND;TZID=Australia/Sydney:20230909T170000
DTSTAMP:20260426T122516
CREATED:20230822T044544Z
LAST-MODIFIED:20230822T044544Z
UID:2441-1694246400-1694278800@bungendoreshowground.com.au
SUMMARY:RFS Training North Paddock and Water Jump
DESCRIPTION:
URL:https://bungendoreshowground.com.au/event/rfs-training-north-paddock-and-water-jump/
LOCATION:Mathews Lane off Bungendore Rd\, Bungendore\, NSW\, Australia
END:VEVENT
BEGIN:VEVENT
DTSTART;VALUE=DATE:20230910
DTEND;VALUE=DATE:20230911
DTSTAMP:20260426T122516
CREATED:20221127T222840Z
LAST-MODIFIED:20221127T222840Z
UID:2256-1694304000-1694390399@bungendoreshowground.com.au
SUMMARY:Pony Club Rally Day
DESCRIPTION:
URL:https://bungendoreshowground.com.au/event/pony-club-rally-day-2023-09-10/
LOCATION:Mathews Lane off Bungendore Rd\, Bungendore\, NSW\, Australia
END:VEVENT
BEGIN:VEVENT
DTSTART;VALUE=DATE:20230915
DTEND;VALUE=DATE:20230917
DTSTAMP:20260426T122516
CREATED:20230720T034800Z
LAST-MODIFIED:20230909T225412Z
UID:2423-1694736000-1694908799@bungendoreshowground.com.au
SUMMARY:Brett Laundess Clinic - Covered Arena Closed
DESCRIPTION:
URL:https://bungendoreshowground.com.au/event/brett-laundess-clinic-covered-arena-closed-2023-09-16/
LOCATION:Mathews Lane off Bungendore Rd\, Bungendore\, NSW\, Australia
END:VEVENT
BEGIN:VEVENT
DTSTART;VALUE=DATE:20230917
DTEND;VALUE=DATE:20230918
DTSTAMP:20260426T122516
CREATED:20230720T034800Z
LAST-MODIFIED:20230728T233326Z
UID:2424-1694908800-1694995199@bungendoreshowground.com.au
SUMMARY:Brett Laundess Clinic - Covered Arena Closed
DESCRIPTION:
URL:https://bungendoreshowground.com.au/event/brett-laundess-clinic-covered-arena-closed-2023-09-17/
LOCATION:Mathews Lane off Bungendore Rd\, Bungendore\, NSW\, Australia
END:VEVENT
BEGIN:VEVENT
DTSTART;VALUE=DATE:20230923
DTEND;VALUE=DATE:20230927
DTSTAMP:20260426T122516
CREATED:20230213T223322Z
LAST-MODIFIED:20230629T002939Z
UID:2365-1695427200-1695772799@bungendoreshowground.com.au
SUMMARY:BRC Clinic Covered Arena Closed to Casual Use
DESCRIPTION:
URL:https://bungendoreshowground.com.au/event/brc-clinic-covered-arena-closed-to-casual-use/
LOCATION:Mathews Lane off Bungendore Rd\, Bungendore\, NSW\, Australia
END:VEVENT
BEGIN:VEVENT
DTSTART;VALUE=DATE:20230923
DTEND;VALUE=DATE:20230924
DTSTAMP:20260426T122516
CREATED:20230131T223033Z
LAST-MODIFIED:20230131T223033Z
UID:2349-1695427200-1695513599@bungendoreshowground.com.au
SUMMARY:Bungendore Sheepdogs
DESCRIPTION:
URL:https://bungendoreshowground.com.au/event/bungendore-sheepdogs-7-2023-09-23/
LOCATION:Mathews Lane off Bungendore Rd\, Bungendore\, NSW\, Australia
CATEGORIES:5 - Carpark
END:VEVENT
BEGIN:VEVENT
DTSTART;VALUE=DATE:20230924
DTEND;VALUE=DATE:20230925
DTSTAMP:20260426T122516
CREATED:20221127T222449Z
LAST-MODIFIED:20230629T002239Z
UID:2246-1695513600-1695599999@bungendoreshowground.com.au
SUMMARY:Bungendore Riding Club Training Day
DESCRIPTION:
URL:https://bungendoreshowground.com.au/event/bungendore-riding-club-training-day-3-2023-09-24/
LOCATION:Mathews Lane off Bungendore Rd\, Bungendore\, NSW\, Australia
END:VEVENT
BEGIN:VEVENT
DTSTART;VALUE=DATE:20231008
DTEND;VALUE=DATE:20231009
DTSTAMP:20260426T122516
CREATED:20221127T222840Z
LAST-MODIFIED:20221127T222840Z
UID:2257-1696723200-1696809599@bungendoreshowground.com.au
SUMMARY:Pony Club Rally Day
DESCRIPTION:
URL:https://bungendoreshowground.com.au/event/pony-club-rally-day-2023-10-08/
LOCATION:Mathews Lane off Bungendore Rd\, Bungendore\, NSW\, Australia
END:VEVENT
BEGIN:VEVENT
DTSTART;VALUE=DATE:20231014
DTEND;VALUE=DATE:20231016
DTSTAMP:20260426T122516
CREATED:20230829T213958Z
LAST-MODIFIED:20230829T214136Z
UID:2444-1697241600-1697414399@bungendoreshowground.com.au
SUMMARY:Show Setup Halls and Admin Block
DESCRIPTION:
URL:https://bungendoreshowground.com.au/event/show-setup/
LOCATION:Mathews Lane off Bungendore Rd\, Bungendore\, NSW\, Australia
END:VEVENT
BEGIN:VEVENT
DTSTART;VALUE=DATE:20231014
DTEND;VALUE=DATE:20231015
DTSTAMP:20260426T122516
CREATED:20230927T005921Z
LAST-MODIFIED:20230927T005921Z
UID:2448-1697241600-1697327999@bungendoreshowground.com.au
SUMMARY:Bungendore Sheepdogs
DESCRIPTION:
URL:https://bungendoreshowground.com.au/event/bungendore-sheepdogs-8/
LOCATION:Mathews Lane off Bungendore Rd\, Bungendore\, NSW\, Australia
CATEGORIES:5 - Carpark
END:VEVENT
BEGIN:VEVENT
DTSTART;VALUE=DATE:20231016
DTEND;VALUE=DATE:20231024
DTSTAMP:20260426T122516
CREATED:20190327T015145Z
LAST-MODIFIED:20230109T213220Z
UID:1735-1697414400-1698105599@bungendoreshowground.com.au
SUMMARY:Bungendore Show 4th Sunday
DESCRIPTION:[column width=”1/1″ last=”true” title=”” title_type=”single” animation=”none” implicit=”true”] \n  \n[/column] \n[column width=”1/1″ last=”true” title=”” title_type=”single” animation=”none” implicit=”true”] \n[/column] \n[column width=”1/1″ last=”true” title=”” title_type=”single” animation=”none” implicit=”true”] \n  \n[/column] \n[column width=”1/1″ last=”true” title=”” title_type=”single” animation=”none” implicit=”true”] \n[/column]
URL:https://bungendoreshowground.com.au/event/bungendore-show-2-2023-10-14/
LOCATION:Mathews Lane off Bungendore Rd\, Bungendore\, NSW\, Australia
CATEGORIES:Exclusive Use Closed to Casual Camping
ORGANIZER;CN="Bungendore PAH Society":MAILTO:bungendoreshowsec@gmail.com 
END:VEVENT
BEGIN:VEVENT
DTSTART;VALUE=DATE:20231027
DTEND;VALUE=DATE:20231028
DTSTAMP:20260426T122516
CREATED:20230720T034800Z
LAST-MODIFIED:20230728T233326Z
UID:2425-1698364800-1698451199@bungendoreshowground.com.au
SUMMARY:Brett Laundess Clinic - Covered Arena Closed
DESCRIPTION:
URL:https://bungendoreshowground.com.au/event/brett-laundess-clinic-covered-arena-closed-2023-10-27/
LOCATION:Mathews Lane off Bungendore Rd\, Bungendore\, NSW\, Australia
END:VEVENT
BEGIN:VEVENT
DTSTART;VALUE=DATE:20231028
DTEND;VALUE=DATE:20231029
DTSTAMP:20260426T122516
CREATED:20230131T223033Z
LAST-MODIFIED:20230131T223033Z
UID:2350-1698451200-1698537599@bungendoreshowground.com.au
SUMMARY:Bungendore Sheepdogs
DESCRIPTION:
URL:https://bungendoreshowground.com.au/event/bungendore-sheepdogs-7-2023-10-28/
LOCATION:Mathews Lane off Bungendore Rd\, Bungendore\, NSW\, Australia
CATEGORIES:5 - Carpark
END:VEVENT
BEGIN:VEVENT
DTSTART;VALUE=DATE:20231028
DTEND;VALUE=DATE:20231029
DTSTAMP:20260426T122516
CREATED:20230720T034800Z
LAST-MODIFIED:20230728T233326Z
UID:2426-1698451200-1698537599@bungendoreshowground.com.au
SUMMARY:Brett Laundess Clinic - Covered Arena Closed
DESCRIPTION:
URL:https://bungendoreshowground.com.au/event/brett-laundess-clinic-covered-arena-closed-2023-10-28/
LOCATION:Mathews Lane off Bungendore Rd\, Bungendore\, NSW\, Australia
END:VEVENT
BEGIN:VEVENT
DTSTART;VALUE=DATE:20231029
DTEND;VALUE=DATE:20231030
DTSTAMP:20260426T122516
CREATED:20221127T222449Z
LAST-MODIFIED:20221127T222449Z
UID:2247-1698537600-1698623999@bungendoreshowground.com.au
SUMMARY:Bungendore Riding Club Training Day
DESCRIPTION:
URL:https://bungendoreshowground.com.au/event/bungendore-riding-club-training-day-3-2023-10-29/
LOCATION:Mathews Lane off Bungendore Rd\, Bungendore\, NSW\, Australia
END:VEVENT
BEGIN:VEVENT
DTSTART;VALUE=DATE:20231103
DTEND;VALUE=DATE:20231106
DTSTAMP:20260426T122516
CREATED:20221127T223827Z
LAST-MODIFIED:20221127T223827Z
UID:2275-1698969600-1699228799@bungendoreshowground.com.au
SUMMARY:Palerang Dog Show
DESCRIPTION:
URL:https://bungendoreshowground.com.au/event/palerang-dog-show-2023-11-03/
LOCATION:Mathews Lane off Bungendore Rd\, Bungendore\, NSW\, Australia
END:VEVENT
BEGIN:VEVENT
DTSTART;VALUE=DATE:20231104
DTEND;VALUE=DATE:20231107
DTSTAMP:20260426T122516
CREATED:20230131T210940Z
LAST-MODIFIED:20230131T210940Z
UID:2334-1699056000-1699315199@bungendoreshowground.com.au
SUMMARY:Reart Private Clinic - Covered Arena Closed to Casual Use
DESCRIPTION:
URL:https://bungendoreshowground.com.au/event/reart-private-clinic-covered-arena-closed-to-casual-use-2023-11-04/
LOCATION:Mathews Lane off Bungendore Rd\, Bungendore\, NSW\, Australia
END:VEVENT
BEGIN:VEVENT
DTSTART;VALUE=DATE:20231110
DTEND;VALUE=DATE:20231113
DTSTAMP:20260426T122516
CREATED:20230112T230759Z
LAST-MODIFIED:20230112T230759Z
UID:2328-1699574400-1699833599@bungendoreshowground.com.au
SUMMARY:Navy Remembrance Events
DESCRIPTION:
URL:https://bungendoreshowground.com.au/event/navy-remembrance-events/
LOCATION:Mathews Lane off Bungendore Rd\, Bungendore\, NSW\, Australia
END:VEVENT
BEGIN:VEVENT
DTSTART;VALUE=DATE:20231111
DTEND;VALUE=DATE:20231113
DTSTAMP:20260426T122516
CREATED:20230930T032349Z
LAST-MODIFIED:20231002T063827Z
UID:2514-1699660800-1699833599@bungendoreshowground.com.au
SUMMARY:RFS Training
DESCRIPTION:
URL:https://bungendoreshowground.com.au/event/rfs-training/
LOCATION:Mathews Lane off Bungendore Rd\, Bungendore\, NSW\, Australia
CATEGORIES:5 - Carpark
END:VEVENT
BEGIN:VEVENT
DTSTART;VALUE=DATE:20231111
DTEND;VALUE=DATE:20231113
DTSTAMP:20260426T122516
CREATED:20231012T215607Z
LAST-MODIFIED:20231012T215607Z
UID:2517-1699660800-1699833599@bungendoreshowground.com.au
SUMMARY:Bret Laundess Private Clinic - Covered Arena closed to casual use
DESCRIPTION:
URL:https://bungendoreshowground.com.au/event/bret-laundess-private-clinic-covered-arena-closed-to-casual-use/
LOCATION:Mathews Lane off Bungendore Rd\, Bungendore\, NSW\, Australia
END:VEVENT
BEGIN:VEVENT
DTSTART;VALUE=DATE:20231112
DTEND;VALUE=DATE:20231113
DTSTAMP:20260426T122516
CREATED:20221127T222840Z
LAST-MODIFIED:20221127T222840Z
UID:2258-1699747200-1699833599@bungendoreshowground.com.au
SUMMARY:Pony Club Rally Day
DESCRIPTION:
URL:https://bungendoreshowground.com.au/event/pony-club-rally-day-2023-11-12/
LOCATION:Mathews Lane off Bungendore Rd\, Bungendore\, NSW\, Australia
END:VEVENT
BEGIN:VEVENT
DTSTART;VALUE=DATE:20231118
DTEND;VALUE=DATE:20231120
DTSTAMP:20260426T122516
CREATED:20230608T002101Z
LAST-MODIFIED:20230608T002101Z
UID:2401-1700265600-1700438399@bungendoreshowground.com.au
SUMMARY:Team penning and sorting
DESCRIPTION:
URL:https://bungendoreshowground.com.au/event/team-penning-and-sorting/
LOCATION:Mathews Lane off Bungendore Rd\, Bungendore\, NSW\, Australia
END:VEVENT
BEGIN:VEVENT
DTSTART;TZID=Australia/Sydney:20231118T080000
DTEND;TZID=Australia/Sydney:20231118T170000
DTSTAMP:20260426T122516
CREATED:20230131T221317Z
LAST-MODIFIED:20230131T221317Z
UID:2335-1700294400-1700326800@bungendoreshowground.com.au
SUMMARY:Bungendore Meet + Make
DESCRIPTION:
URL:https://bungendoreshowground.com.au/event/bungendore-meet-make/
LOCATION:Mathews Lane off Bungendore Rd\, Bungendore\, NSW\, Australia
END:VEVENT
BEGIN:VEVENT
DTSTART;VALUE=DATE:20231125
DTEND;VALUE=DATE:20231126
DTSTAMP:20260426T122516
CREATED:20221127T223315Z
LAST-MODIFIED:20221127T223354Z
UID:2263-1700870400-1700956799@bungendoreshowground.com.au
SUMMARY:Bungendore Riding Club Major Event Setup
DESCRIPTION:
URL:https://bungendoreshowground.com.au/event/bungendore-riding-club-major-event-setup-3-2023-11-25/
LOCATION:Mathews Lane off Bungendore Rd\, Bungendore\, NSW\, Australia
END:VEVENT
BEGIN:VEVENT
DTSTART;VALUE=DATE:20231125
DTEND;VALUE=DATE:20231126
DTSTAMP:20260426T122516
CREATED:20230131T223033Z
LAST-MODIFIED:20230131T223033Z
UID:2351-1700870400-1700956799@bungendoreshowground.com.au
SUMMARY:Bungendore Sheepdogs
DESCRIPTION:
URL:https://bungendoreshowground.com.au/event/bungendore-sheepdogs-7-2023-11-25/
LOCATION:Mathews Lane off Bungendore Rd\, Bungendore\, NSW\, Australia
CATEGORIES:5 - Carpark
END:VEVENT
BEGIN:VEVENT
DTSTART;VALUE=DATE:20231126
DTEND;VALUE=DATE:20231127
DTSTAMP:20260426T122516
CREATED:20221127T223538Z
LAST-MODIFIED:20221127T223538Z
UID:2268-1700956800-1701043199@bungendoreshowground.com.au
SUMMARY:Bungendore Riding Club Major Event
DESCRIPTION:
URL:https://bungendoreshowground.com.au/event/bungendore-riding-club-major-event-4-2023-11-26/
LOCATION:Mathews Lane off Bungendore Rd\, Bungendore\, NSW\, Australia
END:VEVENT
BEGIN:VEVENT
DTSTART;VALUE=DATE:20231202
DTEND;VALUE=DATE:20231204
DTSTAMP:20260426T122516
CREATED:20221128T060537Z
LAST-MODIFIED:20231128T080337Z
UID:2282-1701475200-1701647999@bungendoreshowground.com.au
SUMMARY:Bungendore Penning and Sorting. Covered Arena Closed to Casual Use
DESCRIPTION:
URL:https://bungendoreshowground.com.au/event/bungendore-penning-and-sorting-4-2023-12-02/
LOCATION:Mathews Lane off Bungendore Rd\, Bungendore\, NSW\, Australia
END:VEVENT
BEGIN:VEVENT
DTSTART;VALUE=DATE:20231209
DTEND;VALUE=DATE:20231210
DTSTAMP:20260426T122516
CREATED:20231129T201242Z
LAST-MODIFIED:20231129T201242Z
UID:2555-1702080000-1702166399@bungendoreshowground.com.au
SUMMARY:Brett Laundess Horse Clinic Covered Arena Closed to Casual Use
DESCRIPTION:
URL:https://bungendoreshowground.com.au/event/brett-laundess-horse-clinic-covered-arena-closed-to-casual-use/
LOCATION:Mathews Lane off Bungendore Rd\, Bungendore\, NSW\, Australia
END:VEVENT
BEGIN:VEVENT
DTSTART;VALUE=DATE:20231210
DTEND;VALUE=DATE:20231211
DTSTAMP:20260426T122516
CREATED:20221127T222840Z
LAST-MODIFIED:20221127T222840Z
UID:2259-1702166400-1702252799@bungendoreshowground.com.au
SUMMARY:Pony Club Rally Day
DESCRIPTION:
URL:https://bungendoreshowground.com.au/event/pony-club-rally-day-2023-12-10/
LOCATION:Mathews Lane off Bungendore Rd\, Bungendore\, NSW\, Australia
END:VEVENT
BEGIN:VEVENT
DTSTART;VALUE=DATE:20231216
DTEND;VALUE=DATE:20231217
DTSTAMP:20260426T122516
CREATED:20230131T223033Z
LAST-MODIFIED:20230131T223033Z
UID:2352-1702684800-1702771199@bungendoreshowground.com.au
SUMMARY:Bungendore Sheepdogs
DESCRIPTION:
URL:https://bungendoreshowground.com.au/event/bungendore-sheepdogs-7-2023-12-16/
LOCATION:Mathews Lane off Bungendore Rd\, Bungendore\, NSW\, Australia
CATEGORIES:5 - Carpark
END:VEVENT
END:VCALENDAR