BEGIN:VCALENDAR
VERSION:2.0
PRODID:-//Bungendore Showground - ECPv6.15.17//NONSGML v1.0//EN
CALSCALE:GREGORIAN
METHOD:PUBLISH
X-ORIGINAL-URL:https://bungendoreshowground.com.au
X-WR-CALDESC:Events for Bungendore Showground
REFRESH-INTERVAL;VALUE=DURATION:PT1H
X-Robots-Tag:noindex
X-PUBLISHED-TTL:PT1H
BEGIN:VTIMEZONE
TZID:Australia/Sydney
BEGIN:STANDARD
TZOFFSETFROM:+1100
TZOFFSETTO:+1000
TZNAME:AEST
DTSTART:20180331T160000
END:STANDARD
BEGIN:DAYLIGHT
TZOFFSETFROM:+1000
TZOFFSETTO:+1100
TZNAME:AEDT
DTSTART:20181006T160000
END:DAYLIGHT
BEGIN:STANDARD
TZOFFSETFROM:+1100
TZOFFSETTO:+1000
TZNAME:AEST
DTSTART:20190406T160000
END:STANDARD
BEGIN:DAYLIGHT
TZOFFSETFROM:+1000
TZOFFSETTO:+1100
TZNAME:AEDT
DTSTART:20191005T160000
END:DAYLIGHT
BEGIN:STANDARD
TZOFFSETFROM:+1100
TZOFFSETTO:+1000
TZNAME:AEST
DTSTART:20200404T160000
END:STANDARD
BEGIN:DAYLIGHT
TZOFFSETFROM:+1000
TZOFFSETTO:+1100
TZNAME:AEDT
DTSTART:20201003T160000
END:DAYLIGHT
BEGIN:STANDARD
TZOFFSETFROM:+1100
TZOFFSETTO:+1000
TZNAME:AEST
DTSTART:20210403T160000
END:STANDARD
BEGIN:DAYLIGHT
TZOFFSETFROM:+1000
TZOFFSETTO:+1100
TZNAME:AEDT
DTSTART:20211002T160000
END:DAYLIGHT
END:VTIMEZONE
BEGIN:VEVENT
DTSTART;TZID=Australia/Sydney:20191129T080000
DTEND;TZID=Australia/Sydney:20191202T120000
DTSTAMP:20260426T012245
CREATED:20190213T032747Z
LAST-MODIFIED:20190213T032747Z
UID:1222-1575014400-1575288000@bungendoreshowground.com.au
SUMMARY:SCA (Medieval) Society
DESCRIPTION:[column width=”1/1″ last=”true” title=”” title_type=”single” animation=”none” implicit=”true”] \n  \n[/column]
URL:https://bungendoreshowground.com.au/event/sca-medieval-society-2/
LOCATION:Mathews Lane off Bungendore Rd\, Bungendore\, NSW\, Australia
CATEGORIES:5 - Carpark,Major Event
END:VEVENT
BEGIN:VEVENT
DTSTART;VALUE=DATE:20191206
DTEND;VALUE=DATE:20191209
DTSTAMP:20260426T012245
CREATED:20181115T035654Z
LAST-MODIFIED:20191022T213256Z
UID:1141-1575590400-1575849599@bungendoreshowground.com.au
SUMMARY:Team Sorting
DESCRIPTION:[column width=”1/1″ last=”true” title=”” title_type=”single” animation=”none” implicit=”true”] \n  \n[/column]
URL:https://bungendoreshowground.com.au/event/team-sorting/
LOCATION:Mathews Lane off Bungendore Rd\, Bungendore\, NSW\, Australia
END:VEVENT
BEGIN:VEVENT
DTSTART;VALUE=DATE:20200111
DTEND;VALUE=DATE:20200113
DTSTAMP:20260426T012245
CREATED:20191023T011137Z
LAST-MODIFIED:20191023T011137Z
UID:1364-1578700800-1578873599@bungendoreshowground.com.au
SUMMARY:Lake George and Wamboin Kennel Club Dog Show
DESCRIPTION:[column width=”1/1″ last=”true” title=”” title_type=”single” animation=”none” implicit=”true”] \n  \n[/column]
URL:https://bungendoreshowground.com.au/event/lake-george-and-wamboin-kennel-club-dog-show/
LOCATION:Mathews Lane off Bungendore Rd\, Bungendore\, NSW\, Australia
END:VEVENT
BEGIN:VEVENT
DTSTART;VALUE=DATE:20200127
DTEND;VALUE=DATE:20200204
DTSTAMP:20260426T012245
CREATED:20191020T214112Z
LAST-MODIFIED:20191020T214112Z
UID:1316-1580083200-1580774399@bungendoreshowground.com.au
SUMMARY:Bungendore Country Muster
DESCRIPTION:[column width=”1/1″ last=”true” title=”” title_type=”single” animation=”none” implicit=”true”] \n  \n[/column]
URL:https://bungendoreshowground.com.au/event/bungendore-country-muster-3/
LOCATION:Mathews Lane off Bungendore Rd\, Bungendore\, NSW\, Australia
CATEGORIES:Exclusive Use Closed to Casual Camping,Major Event
END:VEVENT
BEGIN:VEVENT
DTSTART;VALUE=DATE:20200223
DTEND;VALUE=DATE:20200224
DTSTAMP:20260426T012245
CREATED:20191021T212231Z
LAST-MODIFIED:20191021T212231Z
UID:1323-1582416000-1582502399@bungendoreshowground.com.au
SUMMARY:Bungendore Riding Club
DESCRIPTION:[column width=”1/1″ last=”true” title=”” title_type=”single” animation=”none” implicit=”true”] \n  \n[/column]
URL:https://bungendoreshowground.com.au/event/bungendore-riding-club-2/
LOCATION:Mathews Lane off Bungendore Rd\, Bungendore\, NSW\, Australia
END:VEVENT
BEGIN:VEVENT
DTSTART;VALUE=DATE:20200229
DTEND;VALUE=DATE:20200301
DTSTAMP:20260426T012245
CREATED:20191021T220153Z
LAST-MODIFIED:20191021T220153Z
UID:1345-1582934400-1583020799@bungendoreshowground.com.au
SUMMARY:Bungendore Sheepdogs
DESCRIPTION:[column width=”1/1″ last=”true” title=”” title_type=”single” animation=”none” implicit=”true”] \n  \n[/column]
URL:https://bungendoreshowground.com.au/event/bungendore-sheepdogs-3/
LOCATION:Mathews Lane off Bungendore Rd\, Bungendore\, NSW\, Australia
END:VEVENT
BEGIN:VEVENT
DTSTART;VALUE=DATE:20200301
DTEND;VALUE=DATE:20200302
DTSTAMP:20260426T012245
CREATED:20200109T211519Z
LAST-MODIFIED:20200109T211519Z
UID:1413-1583020800-1583107199@bungendoreshowground.com.au
SUMMARY:Sheep dogs training
DESCRIPTION:[column width=”1/1″ last=”true” title=”” title_type=”single” animation=”none” implicit=”true”] \n  \n[/column]
URL:https://bungendoreshowground.com.au/event/sheep-dogs-training/
LOCATION:Mathews Lane off Bungendore Rd\, Bungendore\, NSW\, Australia
END:VEVENT
BEGIN:VEVENT
DTSTART;TZID=Australia/Sydney:20200307T080000
DTEND;TZID=Australia/Sydney:20200307T170000
DTSTAMP:20260426T012245
CREATED:20200305T224645Z
LAST-MODIFIED:20200305T224645Z
UID:1449-1583568000-1583600400@bungendoreshowground.com.au
SUMMARY:Pony Club Mounted Games Practice
DESCRIPTION:[column width=”1/1″ last=”true” title=”” title_type=”single” animation=”none” implicit=”true”] \n  \n[/column]
URL:https://bungendoreshowground.com.au/event/pony-club-mounted-games-practice/
LOCATION:Mathews Lane off Bungendore Rd\, Bungendore\, NSW\, Australia
CATEGORIES:5 - Carpark
END:VEVENT
BEGIN:VEVENT
DTSTART;VALUE=DATE:20200314
DTEND;VALUE=DATE:20200316
DTSTAMP:20260426T012245
CREATED:20191015T195923Z
LAST-MODIFIED:20191015T195923Z
UID:1309-1584144000-1584316799@bungendoreshowground.com.au
SUMMARY:Lake George Polocrosse Rally
DESCRIPTION:[column width=”1/1″ last=”true” title=”” title_type=”single” animation=”none” implicit=”true”] \n  \n[/column]
URL:https://bungendoreshowground.com.au/event/lake-george-polocrosse-rally/
LOCATION:Mathews Lane off Bungendore Rd\, Bungendore\, NSW\, Australia
CATEGORIES:Major Event
END:VEVENT
BEGIN:VEVENT
DTSTART;VALUE=DATE:20200321
DTEND;VALUE=DATE:20200323
DTSTAMP:20260426T012245
CREATED:20200319T012320Z
LAST-MODIFIED:20200319T012320Z
UID:1482-1584748800-1584921599@bungendoreshowground.com.au
SUMMARY:Private Clinic
DESCRIPTION:[column width=”1/1″ last=”true” title=”” title_type=”single” animation=”none” implicit=”true”] \n  \n[/column]
URL:https://bungendoreshowground.com.au/event/private-clinic/
LOCATION:Mathews Lane off Bungendore Rd\, Bungendore\, NSW\, Australia
END:VEVENT
BEGIN:VEVENT
DTSTART;VALUE=DATE:20200323
DTEND;VALUE=DATE:20200603
DTSTAMP:20260426T012245
CREATED:20200323T043500Z
LAST-MODIFIED:20200602T235605Z
UID:1504-1584921600-1591142399@bungendoreshowground.com.au
SUMMARY:Showgrounds Closed
DESCRIPTION:[column width=”1/1″ last=”true” title=”” title_type=”single” animation=”none” implicit=”true”] \n  \n[/column] \n[column width=”1/1″ last=”true” title=”” title_type=”single” animation=”none” implicit=”true”] \n[/column] \n[column width=”1/1″ last=”true” title=”” title_type=”single” animation=”none” implicit=”true”] \n  \n[/column]
URL:https://bungendoreshowground.com.au/event/showgrounds-closed/
LOCATION:Mathews Lane off Bungendore Rd\, Bungendore\, NSW\, Australia
END:VEVENT
BEGIN:VEVENT
DTSTART;VALUE=DATE:20200328
DTEND;VALUE=DATE:20200329
DTSTAMP:20260426T012245
CREATED:20191021T212954Z
LAST-MODIFIED:20191021T212954Z
UID:1332-1585353600-1585439999@bungendoreshowground.com.au
SUMMARY:Bungendore Riding Club Major Event Setup
DESCRIPTION:[column width=”1/1″ last=”true” title=”” title_type=”single” animation=”none” implicit=”true”] \n  \n[/column]
URL:https://bungendoreshowground.com.au/event/bungendore-riding-club-major-event-setup/
LOCATION:Mathews Lane off Bungendore Rd\, Bungendore\, NSW\, Australia
END:VEVENT
BEGIN:VEVENT
DTSTART;VALUE=DATE:20200329
DTEND;VALUE=DATE:20200330
DTSTAMP:20260426T012245
CREATED:20191021T214833Z
LAST-MODIFIED:20191021T214833Z
UID:1338-1585440000-1585526399@bungendoreshowground.com.au
SUMMARY:Bungendore Riding Club Major Event
DESCRIPTION:[column width=”1/1″ last=”true” title=”” title_type=”single” animation=”none” implicit=”true”] \n  \n[/column]
URL:https://bungendoreshowground.com.au/event/bungendore-riding-club-major-event/
LOCATION:Mathews Lane off Bungendore Rd\, Bungendore\, NSW\, Australia
END:VEVENT
BEGIN:VEVENT
DTSTART;VALUE=DATE:20200403
DTEND;VALUE=DATE:20200404
DTSTAMP:20260426T012245
CREATED:20190911T005138Z
LAST-MODIFIED:20200305T224256Z
UID:1303-1585872000-1585958399@bungendoreshowground.com.au
SUMMARY:Bungendore Team Penning Set Up
DESCRIPTION:[column width=”1/1″ last=”true” title=”” title_type=”single” animation=”none” implicit=”true”] \n  \n[/column] \n[column width=”1/1″ last=”true” title=”” title_type=”single” animation=”none” implicit=”true”] \n[/column] \n[column width=”1/1″ last=”true” title=”” title_type=”single” animation=”none” implicit=”true”] \n  \n[/column]
URL:https://bungendoreshowground.com.au/event/bungendore-team-penning-set-up/
LOCATION:Mathews Lane off Bungendore Rd\, Bungendore\, NSW\, Australia
END:VEVENT
BEGIN:VEVENT
DTSTART;VALUE=DATE:20200404
DTEND;VALUE=DATE:20200406
DTSTAMP:20260426T012245
CREATED:20190907T003801Z
LAST-MODIFIED:20200305T224146Z
UID:1294-1585958400-1586131199@bungendoreshowground.com.au
SUMMARY:Bungendore Penning & Sorting
DESCRIPTION:[column width=”1/1″ last=”true” title=”” title_type=”single” animation=”none” implicit=”true”] \n  \n[/column] \n[column width=”1/1″ last=”true” title=”” title_type=”single” animation=”none” implicit=”true”] \n[/column] \n[column width=”1/1″ last=”true” title=”” title_type=”single” animation=”none” implicit=”true”] \n  \n[/column] \n[column width=”1/1″ last=”true” title=”” title_type=”single” animation=”none” implicit=”true”] \n[/column]
URL:https://bungendoreshowground.com.au/event/bungendore-penning-sorting/
LOCATION:Mathews Lane off Bungendore Rd\, Bungendore\, NSW\, Australia
ORGANIZER;CN="Mike Blore":MAILTO:elmsleablores@outlook.com.au
END:VEVENT
BEGIN:VEVENT
DTSTART;TZID=Australia/Sydney:20200405T080000
DTEND;TZID=Australia/Sydney:20200405T170000
DTSTAMP:20260426T012245
CREATED:20200305T224356Z
LAST-MODIFIED:20200305T224356Z
UID:1446-1586073600-1586106000@bungendoreshowground.com.au
SUMMARY:Bungendore PoloX Practice
DESCRIPTION:[column width=”1/1″ last=”true” title=”” title_type=”single” animation=”none” implicit=”true”] \n  \n[/column]
URL:https://bungendoreshowground.com.au/event/bungendore-polox-practice-2/
LOCATION:Mathews Lane off Bungendore Rd\, Bungendore\, NSW\, Australia
CATEGORIES:5 - Carpark
END:VEVENT
BEGIN:VEVENT
DTSTART;VALUE=DATE:20200503
DTEND;VALUE=DATE:20200504
DTSTAMP:20260426T012245
CREATED:20180518T222446Z
LAST-MODIFIED:20181110T021818Z
UID:961-1588464000-1588550399@bungendoreshowground.com.au
SUMMARY:Bungendore Pony Club
DESCRIPTION:﻿[column width=”1/1″ last=”true” title=”” title_type=”single” animation=”none” implicit=”true”] \n  \n[/column]﻿
URL:https://bungendoreshowground.com.au/event/bungendore-pony-club-3-2019-05-12-2020-05-10/
LOCATION:Mathews Lane off Bungendore Rd\, Bungendore\, NSW\, Australia
END:VEVENT
BEGIN:VEVENT
DTSTART;VALUE=DATE:20200508
DTEND;VALUE=DATE:20200509
DTSTAMP:20260426T012245
CREATED:20191029T061306Z
LAST-MODIFIED:20191029T061306Z
UID:1384-1588896000-1588982399@bungendoreshowground.com.au
SUMMARY:Meat and Make Setup and takedown
DESCRIPTION:[column width=”1/1″ last=”true” title=”” title_type=”single” animation=”none” implicit=”true”] \n  \n[/column]
URL:https://bungendoreshowground.com.au/event/meat-and-make-setup-and-takedown/
LOCATION:Mathews Lane off Bungendore Rd\, Bungendore\, NSW\, Australia
END:VEVENT
BEGIN:VEVENT
DTSTART;VALUE=DATE:20200509
DTEND;VALUE=DATE:20200510
DTSTAMP:20260426T012245
CREATED:20191029T060944Z
LAST-MODIFIED:20191029T060944Z
UID:1381-1588982400-1589068799@bungendoreshowground.com.au
SUMMARY:Meet and Make Expo
DESCRIPTION:[column width=”1/1″ last=”true” title=”” title_type=”single” animation=”none” implicit=”true”] \n  \n[/column]
URL:https://bungendoreshowground.com.au/event/meet-and-make-expo/
LOCATION:Mathews Lane off Bungendore Rd\, Bungendore\, NSW\, Australia
END:VEVENT
BEGIN:VEVENT
DTSTART;VALUE=DATE:20200510
DTEND;VALUE=DATE:20200511
DTSTAMP:20260426T012245
CREATED:20200114T200309Z
LAST-MODIFIED:20200114T201036Z
UID:1416-1589068800-1589155199@bungendoreshowground.com.au
SUMMARY:Dog Lure Coursing
DESCRIPTION:[column width=”1/1″ last=”true” title=”” title_type=”single” animation=”none” implicit=”true”] \n  \n[/column] \n[column width=”1/1″ last=”true” title=”” title_type=”single” animation=”none” implicit=”true”] \n[/column] \n[column width=”1/1″ last=”true” title=”” title_type=”single” animation=”none” implicit=”true”] \n  \n[/column]
URL:https://bungendoreshowground.com.au/event/dog-lure-coursing/
LOCATION:Mathews Lane off Bungendore Rd\, Bungendore\, NSW\, Australia
END:VEVENT
BEGIN:VEVENT
DTSTART;VALUE=DATE:20200516
DTEND;VALUE=DATE:20200518
DTSTAMP:20260426T012245
CREATED:20191015T195654Z
LAST-MODIFIED:20191015T195654Z
UID:1306-1589587200-1589759999@bungendoreshowground.com.au
SUMMARY:Canberra Royals Polocrosse Rally
DESCRIPTION:[column width=”1/1″ last=”true” title=”” title_type=”single” animation=”none” implicit=”true”] \n  \n[/column]
URL:https://bungendoreshowground.com.au/event/canberra-royals-polocrosse-rally/
LOCATION:Mathews Lane off Bungendore Rd\, Bungendore\, NSW\, Australia
CATEGORIES:Major Event
END:VEVENT
BEGIN:VEVENT
DTSTART;VALUE=DATE:20200523
DTEND;VALUE=DATE:20200524
DTSTAMP:20260426T012245
CREATED:20200202T205736Z
LAST-MODIFIED:20200202T205736Z
UID:1429-1590192000-1590278399@bungendoreshowground.com.au
SUMMARY:Wamboin PC Mounted Games Set Up
DESCRIPTION:[column width=”1/1″ last=”true” title=”” title_type=”single” animation=”none” implicit=”true”] \n  \n[/column]
URL:https://bungendoreshowground.com.au/event/wamboin-pc-mounted-games-set-up/
LOCATION:Mathews Lane off Bungendore Rd\, Bungendore\, NSW\, Australia
END:VEVENT
BEGIN:VEVENT
DTSTART;VALUE=DATE:20200524
DTEND;VALUE=DATE:20200525
DTSTAMP:20260426T012245
CREATED:20200202T205601Z
LAST-MODIFIED:20200202T205856Z
UID:1426-1590278400-1590364799@bungendoreshowground.com.au
SUMMARY:Wamboin PC Mounted Games
DESCRIPTION:[column width=”1/1″ last=”true” title=”” title_type=”single” animation=”none” implicit=”true”] \n  \n[/column] \n[column width=”1/1″ last=”true” title=”” title_type=”single” animation=”none” implicit=”true”] \n[/column] \n[column width=”1/1″ last=”true” title=”” title_type=”single” animation=”none” implicit=”true”] \n  \n[/column] \n[column width=”1/1″ last=”true” title=”” title_type=”single” animation=”none” implicit=”true”] \n[/column]
URL:https://bungendoreshowground.com.au/event/wamboin-pc-mounted-games/
LOCATION:Mathews Lane off Bungendore Rd\, Bungendore\, NSW\, Australia
END:VEVENT
BEGIN:VEVENT
DTSTART;VALUE=DATE:20200530
DTEND;VALUE=DATE:20200601
DTSTAMP:20260426T012245
CREATED:20191015T200054Z
LAST-MODIFIED:20191015T200054Z
UID:1312-1590796800-1590969599@bungendoreshowground.com.au
SUMMARY:Bungendore Polocrosse Rally
DESCRIPTION:[column width=”1/1″ last=”true” title=”” title_type=”single” animation=”none” implicit=”true”] \n  \n[/column]
URL:https://bungendoreshowground.com.au/event/bungendore-polocrosse-rally/
LOCATION:Mathews Lane off Bungendore Rd\, Bungendore\, NSW\, Australia
CATEGORIES:Major Event
END:VEVENT
BEGIN:VEVENT
DTSTART;VALUE=DATE:20200604
DTEND;VALUE=DATE:20210101
DTSTAMP:20260426T012245
CREATED:20200602T045934Z
LAST-MODIFIED:20200602T045957Z
UID:1522-1591228800-1609459199@bungendoreshowground.com.au
SUMMARY:Grounds Open subject to COVID Conditions - See NSW Govt Website
DESCRIPTION:[column width=”1/1″ last=”true” title=”” title_type=”single” animation=”none” implicit=”true”] \n  \n[/column] \n[column width=”1/1″ last=”true” title=”” title_type=”single” animation=”none” implicit=”true”] \n[/column] \n[column width=”1/1″ last=”true” title=”” title_type=”single” animation=”none” implicit=”true”] \n  \n[/column]
URL:https://bungendoreshowground.com.au/event/grounds-open-subject-to-covid-conditions-see-nsw-govt-website/
LOCATION:Mathews Lane off Bungendore Rd\, Bungendore\, NSW\, Australia
END:VEVENT
BEGIN:VEVENT
DTSTART;VALUE=DATE:20200607
DTEND;VALUE=DATE:20200608
DTSTAMP:20260426T012245
CREATED:20191021T220924Z
LAST-MODIFIED:20191023T012421Z
UID:1360-1591488000-1591574399@bungendoreshowground.com.au
SUMMARY:BRC Tentative Date
DESCRIPTION:[column width=”1/1″ last=”true” title=”” title_type=”single” animation=”none” implicit=”true”] \n  \n[/column]
URL:https://bungendoreshowground.com.au/event/brc-tentative-date-2020-06-07/
LOCATION:Mathews Lane off Bungendore Rd\, Bungendore\, NSW\, Australia
END:VEVENT
BEGIN:VEVENT
DTSTART;VALUE=DATE:20200614
DTEND;VALUE=DATE:20200615
DTSTAMP:20260426T012245
CREATED:20180518T222446Z
LAST-MODIFIED:20191021T212416Z
UID:978-1592092800-1592179199@bungendoreshowground.com.au
SUMMARY:Bungendore Pony Club
DESCRIPTION:[column width=”1/1″ last=”true” title=”” title_type=”single” animation=”none” implicit=”true”] \n  \n[/column] \n[column width=”1/1″ last=”true” title=”” title_type=”single” animation=”none” implicit=”true”] \n[/column] \n[column width=”1/1″ last=”true” title=”” title_type=”single” animation=”none” implicit=”true”] \n  \n[/column]
URL:https://bungendoreshowground.com.au/event/bungendore-pony-club-3-2019-05-12-2020-06-14/
LOCATION:Mathews Lane off Bungendore Rd\, Bungendore\, NSW\, Australia
END:VEVENT
BEGIN:VEVENT
DTSTART;VALUE=DATE:20200620
DTEND;VALUE=DATE:20200622
DTSTAMP:20260426T012245
CREATED:20191026T043309Z
LAST-MODIFIED:20200812T222845Z
UID:1375-1592611200-1592783999@bungendoreshowground.com.au
SUMMARY:Australian Mounted Games NSW
DESCRIPTION:[column width=”1/1″ last=”true” title=”” title_type=”single” animation=”none” implicit=”true”] \n  \n[/column]
URL:https://bungendoreshowground.com.au/event/nsw-adult-mounted-games-2/
LOCATION:Mathews Lane off Bungendore Rd\, Bungendore\, NSW\, Australia
CATEGORIES:5 - Carpark
END:VEVENT
BEGIN:VEVENT
DTSTART;VALUE=DATE:20200621
DTEND;VALUE=DATE:20200622
DTSTAMP:20260426T012245
CREATED:20200611T045031Z
LAST-MODIFIED:20200611T052406Z
UID:1546-1592697600-1592783999@bungendoreshowground.com.au
SUMMARY:Bungendore Pony Club
DESCRIPTION:[column width=”1/1″ last=”true” title=”” title_type=”single” animation=”none” implicit=”true”] \n  \n[/column] \n[column width=”1/1″ last=”true” title=”” title_type=”single” animation=”none” implicit=”true”] \n[/column] \n[column width=”1/1″ last=”true” title=”” title_type=”single” animation=”none” implicit=”true”] \n  \n[/column]
URL:https://bungendoreshowground.com.au/event/bungendore-pony-club-3/
LOCATION:Mathews Lane off Bungendore Rd\, Bungendore\, NSW\, Australia
END:VEVENT
BEGIN:VEVENT
DTSTART;TZID=Australia/Sydney:20200718T080000
DTEND;TZID=Australia/Sydney:20200718T170000
DTSTAMP:20260426T012245
CREATED:20200624T220140Z
LAST-MODIFIED:20200624T220140Z
UID:1561-1595059200-1595091600@bungendoreshowground.com.au
SUMMARY:Sarah Venamore Private Clinic
DESCRIPTION:[column width=”1/1″ last=”true” title=”” title_type=”single” animation=”none” implicit=”true”] \n  \n[/column]
URL:https://bungendoreshowground.com.au/event/sarah-venamore-private-clinic/
LOCATION:Mathews Lane off Bungendore Rd\, Bungendore\, NSW\, Australia
END:VEVENT
END:VCALENDAR