BEGIN:VCALENDAR
VERSION:2.0
PRODID:-//Bungendore Showground - ECPv6.15.17//NONSGML v1.0//EN
CALSCALE:GREGORIAN
METHOD:PUBLISH
X-WR-CALNAME:Bungendore Showground
X-ORIGINAL-URL:https://bungendoreshowground.com.au
X-WR-CALDESC:Events for Bungendore Showground
REFRESH-INTERVAL;VALUE=DURATION:PT1H
X-Robots-Tag:noindex
X-PUBLISHED-TTL:PT1H
BEGIN:VTIMEZONE
TZID:Australia/Sydney
BEGIN:STANDARD
TZOFFSETFROM:+1100
TZOFFSETTO:+1000
TZNAME:AEST
DTSTART:20240406T160000
END:STANDARD
BEGIN:DAYLIGHT
TZOFFSETFROM:+1000
TZOFFSETTO:+1100
TZNAME:AEDT
DTSTART:20241005T160000
END:DAYLIGHT
BEGIN:STANDARD
TZOFFSETFROM:+1100
TZOFFSETTO:+1000
TZNAME:AEST
DTSTART:20250405T160000
END:STANDARD
BEGIN:DAYLIGHT
TZOFFSETFROM:+1000
TZOFFSETTO:+1100
TZNAME:AEDT
DTSTART:20251004T160000
END:DAYLIGHT
BEGIN:STANDARD
TZOFFSETFROM:+1100
TZOFFSETTO:+1000
TZNAME:AEST
DTSTART:20260404T160000
END:STANDARD
BEGIN:DAYLIGHT
TZOFFSETFROM:+1000
TZOFFSETTO:+1100
TZNAME:AEDT
DTSTART:20261003T160000
END:DAYLIGHT
END:VTIMEZONE
BEGIN:VEVENT
DTSTART;VALUE=DATE:20251109
DTEND;VALUE=DATE:20251110
DTSTAMP:20260425T230438
CREATED:20240820T020234Z
LAST-MODIFIED:20251019T193857Z
UID:2840-1762646400-1762732799@bungendoreshowground.com.au
SUMMARY:Bungendore Pony Club Rally Day
DESCRIPTION:
URL:https://bungendoreshowground.com.au/event/bungendore-pony-club-rally-day-18/
LOCATION:Mathews Lane off Bungendore Rd\, Bungendore\, NSW\, Australia
CATEGORIES:1 - Main Arena,19 - Horse Yards South East,2 - Equestrian Parking,20 - Container/Shed Storage,4 - Covered Arena,6 - Dressage Arena,7 - Jumping Arena,8 - Cross Country Course
END:VEVENT
BEGIN:VEVENT
DTSTART;VALUE=DATE:20251107
DTEND;VALUE=DATE:20251110
DTSTAMP:20260425T230438
CREATED:20250505T095628Z
LAST-MODIFIED:20250505T095704Z
UID:3098-1762473600-1762732799@bungendoreshowground.com.au
SUMMARY:Lake George Kennel Club Dog Show
DESCRIPTION:
URL:https://bungendoreshowground.com.au/event/lake-george-kennel-club-dog-show/
LOCATION:Mathews Lane off Bungendore Rd\, Bungendore\, NSW\, Australia
CATEGORIES:12 - Dog Show Arena,13 - Camping Area,16 - South/East Camping Area
END:VEVENT
BEGIN:VEVENT
DTSTART;VALUE=DATE:20251101
DTEND;VALUE=DATE:20251103
DTSTAMP:20260425T230438
CREATED:20250623T094537Z
LAST-MODIFIED:20250623T094537Z
UID:3119-1761955200-1762127999@bungendoreshowground.com.au
SUMMARY:PCANSW Instructors School (Undercover Arena not available)
DESCRIPTION:
URL:https://bungendoreshowground.com.au/event/pcansw-instructors-school-undercover-arena-not-available/
LOCATION:Mathews Lane off Bungendore Rd\, Bungendore\, NSW\, Australia
CATEGORIES:19 - Horse Yards South East,4 - Covered Arena,42 - Equestrian Parking,6 - Dressage Arena,7 - Jumping Arena,8 - Cross Country Course
END:VEVENT
BEGIN:VEVENT
DTSTART;VALUE=DATE:20251023
DTEND;VALUE=DATE:20251028
DTSTAMP:20260425T230438
CREATED:20241218T222026Z
LAST-MODIFIED:20241218T222026Z
UID:2985-1761177600-1761609599@bungendoreshowground.com.au
SUMMARY:Bungendore Show (Showground closed to other users)
DESCRIPTION:
URL:https://bungendoreshowground.com.au/event/bungendore-show-showground-closed-to-other-users/
LOCATION:Mathews Lane off Bungendore Rd\, Bungendore\, NSW\, Australia
CATEGORIES:Exclusive Use Closed to Casual Camping,Major Event
END:VEVENT
BEGIN:VEVENT
DTSTART;VALUE=DATE:20251018
DTEND;VALUE=DATE:20251023
DTSTAMP:20260425T230438
CREATED:20241218T221911Z
LAST-MODIFIED:20241218T221911Z
UID:2982-1760745600-1761177599@bungendoreshowground.com.au
SUMMARY:Bungendore Show setup (Main area and some facilities unavailable)
DESCRIPTION:
URL:https://bungendoreshowground.com.au/event/bungendore-show-setup-main-area-and-some-facilities-unavailable/
LOCATION:Mathews Lane off Bungendore Rd\, Bungendore\, NSW\, Australia
END:VEVENT
BEGIN:VEVENT
DTSTART;VALUE=DATE:20251012
DTEND;VALUE=DATE:20251013
DTSTAMP:20260425T230438
CREATED:20240820T020212Z
LAST-MODIFIED:20240820T020212Z
UID:2837-1760227200-1760313599@bungendoreshowground.com.au
SUMMARY:Bungendore Pony Club Rally Day
DESCRIPTION:
URL:https://bungendoreshowground.com.au/event/bungendore-pony-club-rally-day-17/
LOCATION:Mathews Lane off Bungendore Rd\, Bungendore\, NSW\, Australia
END:VEVENT
BEGIN:VEVENT
DTSTART;VALUE=DATE:20251011
DTEND;VALUE=DATE:20251012
DTSTAMP:20260425T230438
CREATED:20250127T040933Z
LAST-MODIFIED:20250127T040933Z
UID:3027-1760140800-1760227199@bungendoreshowground.com.au
SUMMARY:Bungendore and District Sheepdog Club
DESCRIPTION:
URL:https://bungendoreshowground.com.au/event/bungendore-and-district-sheepdog-club/
LOCATION:Mathews Lane off Bungendore Rd\, Bungendore\, NSW\, Australia
END:VEVENT
BEGIN:VEVENT
DTSTART;VALUE=DATE:20250928
DTEND;VALUE=DATE:20250929
DTSTAMP:20260425T230438
CREATED:20241010T150408Z
LAST-MODIFIED:20250707T101122Z
UID:2914-1759017600-1759103999@bungendoreshowground.com.au
SUMMARY:BRC Training Day (Covered Arena not available)
DESCRIPTION:
URL:https://bungendoreshowground.com.au/event/brc-camp-weekend-covered-arena-unavailable/
LOCATION:Mathews Lane off Bungendore Rd\, Bungendore\, NSW\, Australia
CATEGORIES:17 - Equestrian Parking,18 - Horse Yards South West,19 - Horse Yards South East,2 - Equestrian Parking,20 - Container/Shed Storage,32 - Southern Toilet/Showers,4 - Covered Arena,42 - Equestrian Parking,6 - Dressage Arena,7 - Jumping Arena,8 - Cross Country Course
END:VEVENT
BEGIN:VEVENT
DTSTART;VALUE=DATE:20250927
DTEND;VALUE=DATE:20250928
DTSTAMP:20260425T230438
CREATED:20241218T222726Z
LAST-MODIFIED:20250505T065612Z
UID:3004-1758931200-1759017599@bungendoreshowground.com.au
SUMMARY:BADSA (Northern Arena unavailable for casual use)
DESCRIPTION:
URL:https://bungendoreshowground.com.au/event/badsa-northern-arena-unavailable-for-casual-use-5/
LOCATION:Mathews Lane off Bungendore Rd\, Bungendore\, NSW\, Australia
CATEGORIES:3 - Northern Arena,9 - Sheep Yards
END:VEVENT
BEGIN:VEVENT
DTSTART;VALUE=DATE:20250920
DTEND;VALUE=DATE:20250921
DTSTAMP:20260425T230438
CREATED:20250707T081503Z
LAST-MODIFIED:20250707T081503Z
UID:3124-1758326400-1758412799@bungendoreshowground.com.au
SUMMARY:Trick Riding Clinic (Covered Arena not available)
DESCRIPTION:
URL:https://bungendoreshowground.com.au/event/trick-riding-clinic-covered-arena-not-available/
LOCATION:Mathews Lane off Bungendore Rd\, Bungendore\, NSW\, Australia
CATEGORIES:19 - Horse Yards South East,2 - Equestrian Parking,32 - Southern Toilet/Showers,4 - Covered Arena
END:VEVENT
BEGIN:VEVENT
DTSTART;VALUE=DATE:20250919
DTEND;VALUE=DATE:20250924
DTSTAMP:20260425T230438
CREATED:20250413T091455Z
LAST-MODIFIED:20250505T064735Z
UID:3080-1758240000-1758671999@bungendoreshowground.com.au
SUMMARY:TRYP Group
DESCRIPTION:
URL:https://bungendoreshowground.com.au/event/tryp-group-3/
LOCATION:Mathews Lane off Bungendore Rd\, Bungendore\, NSW\, Australia
CATEGORIES:25 - Covered Sail Area,26 - Kitchen and Dining Hall,27 - Breezeway Area,28 - Show Pavilion,32 - Southern Toilet/Showers
END:VEVENT
BEGIN:VEVENT
DTSTART;VALUE=DATE:20250914
DTEND;VALUE=DATE:20250915
DTSTAMP:20260425T230438
CREATED:20240820T020153Z
LAST-MODIFIED:20240820T020153Z
UID:2834-1757808000-1757894399@bungendoreshowground.com.au
SUMMARY:Bungendore Pony Club Rally Day
DESCRIPTION:
URL:https://bungendoreshowground.com.au/event/bungendore-pony-club-rally-day-16/
LOCATION:Mathews Lane off Bungendore Rd\, Bungendore\, NSW\, Australia
END:VEVENT
BEGIN:VEVENT
DTSTART;VALUE=DATE:20250913
DTEND;VALUE=DATE:20250914
DTSTAMP:20260425T230438
CREATED:20240820T020520Z
LAST-MODIFIED:20240820T020520Z
UID:2846-1757721600-1757807999@bungendoreshowground.com.au
SUMMARY:Bungendore Pony Club gymkhana
DESCRIPTION:
URL:https://bungendoreshowground.com.au/event/bungendore-pony-club-gymkhana-2/
LOCATION:Mathews Lane off Bungendore Rd\, Bungendore\, NSW\, Australia
END:VEVENT
BEGIN:VEVENT
DTSTART;VALUE=DATE:20250831
DTEND;VALUE=DATE:20250901
DTSTAMP:20260425T230438
CREATED:20241010T150151Z
LAST-MODIFIED:20250505T064652Z
UID:2911-1756598400-1756684799@bungendoreshowground.com.au
SUMMARY:BRC Rally Day (Covered Arena unavailable)
DESCRIPTION:
URL:https://bungendoreshowground.com.au/event/brc-rally-day-covered-arena-unavailable-2/
LOCATION:Mathews Lane off Bungendore Rd\, Bungendore\, NSW\, Australia
CATEGORIES:1 - Main Arena,17 - Equestrian Parking,18 - Horse Yards South West,19 - Horse Yards South East,2 - Equestrian Parking,20 - Container/Shed Storage,4 - Covered Arena,42 - Equestrian Parking,6 - Dressage Arena,7 - Jumping Arena
END:VEVENT
BEGIN:VEVENT
DTSTART;VALUE=DATE:20250825
DTEND;VALUE=DATE:20250831
DTSTAMP:20260425T230438
CREATED:20250413T091328Z
LAST-MODIFIED:20250505T064545Z
UID:3077-1756080000-1756598399@bungendoreshowground.com.au
SUMMARY:TRYP Group
DESCRIPTION:
URL:https://bungendoreshowground.com.au/event/tryp-group-2/
LOCATION:Mathews Lane off Bungendore Rd\, Bungendore\, NSW\, Australia
CATEGORIES:25 - Covered Sail Area,26 - Kitchen and Dining Hall,27 - Breezeway Area,28 - Show Pavilion,32 - Southern Toilet/Showers
END:VEVENT
BEGIN:VEVENT
DTSTART;VALUE=DATE:20250823
DTEND;VALUE=DATE:20250824
DTSTAMP:20260425T230438
CREATED:20241218T222704Z
LAST-MODIFIED:20250505T064502Z
UID:3001-1755907200-1755993599@bungendoreshowground.com.au
SUMMARY:BADSA (Northern Arena unavailable for casual use)
DESCRIPTION:
URL:https://bungendoreshowground.com.au/event/badsa-northern-arena-unavailable-for-casual-use-4/
LOCATION:Mathews Lane off Bungendore Rd\, Bungendore\, NSW\, Australia
CATEGORIES:3 - Northern Arena,9 - Sheep Yards
END:VEVENT
BEGIN:VEVENT
DTSTART;VALUE=DATE:20250818
DTEND;VALUE=DATE:20250824
DTSTAMP:20260425T230438
CREATED:20250413T091148Z
LAST-MODIFIED:20250505T064423Z
UID:3074-1755475200-1755993599@bungendoreshowground.com.au
SUMMARY:TRYP Group
DESCRIPTION:
URL:https://bungendoreshowground.com.au/event/tryp-group/
LOCATION:Mathews Lane off Bungendore Rd\, Bungendore\, NSW\, Australia
CATEGORIES:25 - Covered Sail Area,26 - Kitchen and Dining Hall,27 - Breezeway Area,28 - Show Pavilion,32 - Southern Toilet/Showers
END:VEVENT
BEGIN:VEVENT
DTSTART;VALUE=DATE:20250817
DTEND;VALUE=DATE:20250818
DTSTAMP:20260425T230438
CREATED:20250413T091933Z
LAST-MODIFIED:20250623T100000Z
UID:3083-1755388800-1755475199@bungendoreshowground.com.au
SUMMARY:Bungendore Show Society Winter Gymkhana
DESCRIPTION:
URL:https://bungendoreshowground.com.au/event/tentative-bungendore-show-society-winter-gymkhana/
LOCATION:Mathews Lane off Bungendore Rd\, Bungendore\, NSW\, Australia
END:VEVENT
BEGIN:VEVENT
DTSTART;VALUE=DATE:20250810
DTEND;VALUE=DATE:20250811
DTSTAMP:20260425T230438
CREATED:20240820T020136Z
LAST-MODIFIED:20250505T064315Z
UID:2831-1754784000-1754870399@bungendoreshowground.com.au
SUMMARY:Bungendore Pony Club Rally Day
DESCRIPTION:
URL:https://bungendoreshowground.com.au/event/bungendore-pony-club-rally-day-15/
LOCATION:Mathews Lane off Bungendore Rd\, Bungendore\, NSW\, Australia
CATEGORIES:1 - Main Arena,17 - Equestrian Parking,18 - Horse Yards South West,19 - Horse Yards South East,2 - Equestrian Parking,20 - Container/Shed Storage,42 - Equestrian Parking,6 - Dressage Arena,7 - Jumping Arena
END:VEVENT
BEGIN:VEVENT
DTSTART;VALUE=DATE:20250802
DTEND;VALUE=DATE:20250804
DTSTAMP:20260425T230438
CREATED:20240211T053608Z
LAST-MODIFIED:20250306T203345Z
UID:2641-1754092800-1754265599@bungendoreshowground.com.au
SUMMARY:Polocrosse State Championship
DESCRIPTION:
URL:https://bungendoreshowground.com.au/event/nsw-state-polx-championship/
LOCATION:Mathews Lane off Bungendore Rd\, Bungendore\, NSW\, Australia
CATEGORIES:5 - Carpark,Exclusive Use Closed to Casual Camping,Weekend Major Event - closed to casual camping
END:VEVENT
BEGIN:VEVENT
DTSTART;TZID=Australia/Sydney:20250731T080000
DTEND;TZID=Australia/Sydney:20250801T170000
DTSTAMP:20260425T230438
CREATED:20240514T005709Z
LAST-MODIFIED:20250505T062607Z
UID:2707-1753948800-1754067600@bungendoreshowground.com.au
SUMMARY:Lake George polocrosse event setup
DESCRIPTION:
URL:https://bungendoreshowground.com.au/event/lake-george-polocrosse-event-setup/
LOCATION:Mathews Lane off Bungendore Rd\, Bungendore\, NSW\, Australia
CATEGORIES:1 - Main Arena,2 - Equestrian Parking,20 - Container/Shed Storage,26 - Kitchen and Dining Hall,27 - Breezeway Area,29 - Main Bar/Cool room
END:VEVENT
BEGIN:VEVENT
DTSTART;VALUE=DATE:20250727
DTEND;VALUE=DATE:20250728
DTSTAMP:20260425T230438
CREATED:20241010T150057Z
LAST-MODIFIED:20250505T062529Z
UID:2908-1753574400-1753660799@bungendoreshowground.com.au
SUMMARY:BRC Rally Day (Covered Arena available)
DESCRIPTION:
URL:https://bungendoreshowground.com.au/event/brc-rally-day-covered-arena-available-4/
LOCATION:Mathews Lane off Bungendore Rd\, Bungendore\, NSW\, Australia
CATEGORIES:1 - Main Arena,17 - Equestrian Parking,18 - Horse Yards South West,19 - Horse Yards South East,2 - Equestrian Parking,20 - Container/Shed Storage,42 - Equestrian Parking,6 - Dressage Arena,7 - Jumping Arena
END:VEVENT
BEGIN:VEVENT
DTSTART;VALUE=DATE:20250726
DTEND;VALUE=DATE:20250727
DTSTAMP:20260425T230438
CREATED:20241218T222642Z
LAST-MODIFIED:20250505T061056Z
UID:2998-1753488000-1753574399@bungendoreshowground.com.au
SUMMARY:BADSA (Northern Arena unavailable for casual use)
DESCRIPTION:
URL:https://bungendoreshowground.com.au/event/badsa-northern-arena-unavailable-for-casual-use-3/
LOCATION:Mathews Lane off Bungendore Rd\, Bungendore\, NSW\, Australia
CATEGORIES:3 - Northern Arena,9 - Sheep Yards
END:VEVENT
BEGIN:VEVENT
DTSTART;VALUE=DATE:20250713
DTEND;VALUE=DATE:20250714
DTSTAMP:20260425T230438
CREATED:20240820T020116Z
LAST-MODIFIED:20250505T061008Z
UID:2828-1752364800-1752451199@bungendoreshowground.com.au
SUMMARY:Bungendore Pony Club Rally Day
DESCRIPTION:
URL:https://bungendoreshowground.com.au/event/bungendore-pony-club-rally-day-14/
LOCATION:Mathews Lane off Bungendore Rd\, Bungendore\, NSW\, Australia
CATEGORIES:1 - Main Arena,19 - Horse Yards South East,2 - Equestrian Parking,20 - Container/Shed Storage,42 - Equestrian Parking,6 - Dressage Arena,7 - Jumping Arena
END:VEVENT
BEGIN:VEVENT
DTSTART;VALUE=DATE:20250711
DTEND;VALUE=DATE:20250713
DTSTAMP:20260425T230438
CREATED:20250225T230404Z
LAST-MODIFIED:20250505T060902Z
UID:3056-1752192000-1752364799@bungendoreshowground.com.au
SUMMARY:Bungendore and Palerang District All Breeds Kennel Club
DESCRIPTION:
URL:https://bungendoreshowground.com.au/event/bungendore-and-palerang-district-all-breeds-kennel-club/
LOCATION:Mathews Lane off Bungendore Rd\, Bungendore\, NSW\, Australia
CATEGORIES:12 - Dog Show Arena,13 - Camping Area,16 - South/East Camping Area,17 - Equestrian Parking,18 - Horse Yards South West,25 - Covered Sail Area,26 - Kitchen and Dining Hall,27 - Breezeway Area,28 - Show Pavilion,32 - Southern Toilet/Showers,42 - Equestrian Parking
END:VEVENT
BEGIN:VEVENT
DTSTART;VALUE=DATE:20250627
DTEND;VALUE=DATE:20250630
DTSTAMP:20260425T230438
CREATED:20240902T011617Z
LAST-MODIFIED:20250621T034611Z
UID:2872-1750982400-1751241599@bungendoreshowground.com.au
SUMMARY:NSW Team Sorting (Covered Area Not Available)
DESCRIPTION:
URL:https://bungendoreshowground.com.au/event/tyla-harris-covered-arena-closed-for-casual-use-4/
LOCATION:Mathews Lane off Bungendore Rd\, Bungendore\, NSW\, Australia
CATEGORIES:1 - Main Arena,13 - Camping Area,14 - North/West Camping Area,16 - South/East Camping Area,17 - Equestrian Parking,18 - Horse Yards South West,19 - Horse Yards South East,2 - Equestrian Parking,26 - Kitchen and Dining Hall,27 - Breezeway Area,29 - Main Bar/Cool room,32 - Southern Toilet/Showers,4 - Covered Arena,42 - Equestrian Parking,Major Event = Limited Camping
END:VEVENT
BEGIN:VEVENT
DTSTART;VALUE=DATE:20250622
DTEND;VALUE=DATE:20250623
DTSTAMP:20260425T230438
CREATED:20241010T145938Z
LAST-MODIFIED:20250505T060600Z
UID:2905-1750550400-1750636799@bungendoreshowground.com.au
SUMMARY:BRC Rally Day (Covered Arena unavailable)
DESCRIPTION:
URL:https://bungendoreshowground.com.au/event/brc-rally-day-covered-arena-unavailable/
LOCATION:Mathews Lane off Bungendore Rd\, Bungendore\, NSW\, Australia
CATEGORIES:1 - Main Arena,17 - Equestrian Parking,18 - Horse Yards South West,19 - Horse Yards South East,2 - Equestrian Parking,20 - Container/Shed Storage,4 - Covered Arena,42 - Equestrian Parking,Shared Hire
END:VEVENT
BEGIN:VEVENT
DTSTART;VALUE=DATE:20250619
DTEND;VALUE=DATE:20250623
DTSTAMP:20260425T230438
CREATED:20250127T040815Z
LAST-MODIFIED:20250505T055039Z
UID:3024-1750291200-1750636799@bungendoreshowground.com.au
SUMMARY:Bungendore and District Sheepdog Club Trial
DESCRIPTION:
URL:https://bungendoreshowground.com.au/event/bungendore-and-district-sheepdog-club-trial/
LOCATION:Mathews Lane off Bungendore Rd\, Bungendore\, NSW\, Australia
CATEGORIES:15 - Northern Camping Area,3 - Northern Arena,32 - Southern Toilet/Showers
END:VEVENT
BEGIN:VEVENT
DTSTART;VALUE=DATE:20250614
DTEND;VALUE=DATE:20250616
DTSTAMP:20260425T230438
CREATED:20240902T011554Z
LAST-MODIFIED:20250505T054613Z
UID:2869-1749859200-1750031999@bungendoreshowground.com.au
SUMMARY:Tyla Harris (Covered Arena closed for casual use)
DESCRIPTION:
URL:https://bungendoreshowground.com.au/event/tyla-harris-covered-arena-closed-for-casual-use-3/
LOCATION:Mathews Lane off Bungendore Rd\, Bungendore\, NSW\, Australia
CATEGORIES:1 - Main Arena,16 - South/East Camping Area,17 - Equestrian Parking,18 - Horse Yards South West,19 - Horse Yards South East,2 - Equestrian Parking,32 - Southern Toilet/Showers,4 - Covered Arena,42 - Equestrian Parking,Major Event = Limited Camping
END:VEVENT
BEGIN:VEVENT
DTSTART;VALUE=DATE:20250610
DTEND;VALUE=DATE:20250611
DTSTAMP:20260425T230438
CREATED:20250602T093432Z
LAST-MODIFIED:20250602T093432Z
UID:3114-1749513600-1749599999@bungendoreshowground.com.au
SUMMARY:Private Function
DESCRIPTION:
URL:https://bungendoreshowground.com.au/event/private-function-2/
LOCATION:Mathews Lane off Bungendore Rd\, Bungendore\, NSW\, Australia
CATEGORIES:26 - Kitchen and Dining Hall,27 - Breezeway Area,29 - Main Bar/Cool room,30 - Disabled Access Toilet,31 - Outdoor Bar
END:VEVENT
END:VCALENDAR