BEGIN:VCALENDAR
VERSION:2.0
PRODID:-//Bungendore Showground - ECPv6.15.17//NONSGML v1.0//EN
CALSCALE:GREGORIAN
METHOD:PUBLISH
X-WR-CALNAME:Bungendore Showground
X-ORIGINAL-URL:https://bungendoreshowground.com.au
X-WR-CALDESC:Events for Bungendore Showground
REFRESH-INTERVAL;VALUE=DURATION:PT1H
X-Robots-Tag:noindex
X-PUBLISHED-TTL:PT1H
BEGIN:VTIMEZONE
TZID:Australia/Sydney
BEGIN:STANDARD
TZOFFSETFROM:+1100
TZOFFSETTO:+1000
TZNAME:AEST
DTSTART:20160402T160000
END:STANDARD
BEGIN:DAYLIGHT
TZOFFSETFROM:+1000
TZOFFSETTO:+1100
TZNAME:AEDT
DTSTART:20161001T160000
END:DAYLIGHT
BEGIN:STANDARD
TZOFFSETFROM:+1100
TZOFFSETTO:+1000
TZNAME:AEST
DTSTART:20170401T160000
END:STANDARD
BEGIN:DAYLIGHT
TZOFFSETFROM:+1000
TZOFFSETTO:+1100
TZNAME:AEDT
DTSTART:20170930T160000
END:DAYLIGHT
BEGIN:STANDARD
TZOFFSETFROM:+1100
TZOFFSETTO:+1000
TZNAME:AEST
DTSTART:20180331T160000
END:STANDARD
BEGIN:DAYLIGHT
TZOFFSETFROM:+1000
TZOFFSETTO:+1100
TZNAME:AEDT
DTSTART:20181006T160000
END:DAYLIGHT
END:VTIMEZONE
BEGIN:VEVENT
DTSTART;TZID=Australia/Sydney:20170304T090000
DTEND;TZID=Australia/Sydney:20170304T120000
DTSTAMP:20260426T141431
CREATED:20170210T022030Z
LAST-MODIFIED:20170314T021212Z
UID:352-1488618000-1488628800@bungendoreshowground.com.au
SUMMARY:Monaro Archers Member Day
DESCRIPTION:Monaro Archers prides itself on being a relaxed family orientated club allowing archers of all ages to learn the sport of archery and compete in Archery Australia competitions and tournaments at the club\, state and national levels in a variety of disciplines including Target\, Field and Clout shooting.  All championship events are handicapped allowing all members to compete on an even level and directly compare results.\n​Visitors are always welcome at Monaro Archers and there are no additional fees for visitors apart from the regular shooting fee.
URL:https://bungendoreshowground.com.au/event/monaro-archers-member-day-3/
LOCATION:Bungendore Showgrounds & Racecourse\, Mathews Lane off Bungendore Rd\, Bungendore\, NSW\, Australia
CATEGORIES:Shared Hire
ATTACH;FMTTYPE=image/jpeg:https://bungendoreshowground.com.au/wp-content/uploads/2017/02/Monaro-Archers-4.jpg
END:VEVENT
BEGIN:VEVENT
DTSTART;VALUE=DATE:20170226
DTEND;VALUE=DATE:20170227
DTSTAMP:20260426T141431
CREATED:20170131T063207Z
LAST-MODIFIED:20170131T065732Z
UID:215-1488067200-1488153599@bungendoreshowground.com.au
SUMMARY:Bungendore Riding Club Members Day
DESCRIPTION:
URL:https://bungendoreshowground.com.au/event/bungendore-riding-club-members-day/
LOCATION:Bungendore Showgrounds & Racecourse\, Mathews Lane off Bungendore Rd\, Bungendore\, NSW\, Australia
CATEGORIES:Shared Hire
END:VEVENT
BEGIN:VEVENT
DTSTART;TZID=Australia/Sydney:20170225T090000
DTEND;TZID=Australia/Sydney:20170225T120000
DTSTAMP:20260426T141431
CREATED:20170210T021444Z
LAST-MODIFIED:20170210T021444Z
UID:349-1488013200-1488024000@bungendoreshowground.com.au
SUMMARY:Monaro Archers Target Championships
DESCRIPTION:
URL:https://bungendoreshowground.com.au/event/monaro-archers-target-championships/
LOCATION:Bungendore Showgrounds & Racecourse\, Mathews Lane off Bungendore Rd\, Bungendore\, NSW\, Australia
CATEGORIES:Shared Hire
ATTACH;FMTTYPE=image/jpeg:https://bungendoreshowground.com.au/wp-content/uploads/2017/02/cropped-cropped-Targets-940x198.jpg
END:VEVENT
BEGIN:VEVENT
DTSTART;TZID=Australia/Sydney:20170225T080000
DTEND;TZID=Australia/Sydney:20170225T150000
DTSTAMP:20260426T141431
CREATED:20170131T064245Z
LAST-MODIFIED:20170131T065805Z
UID:218-1488009600-1488034800@bungendoreshowground.com.au
SUMMARY:Bungendore & District Sheepdog Assoc Training Day
DESCRIPTION:
URL:https://bungendoreshowground.com.au/event/bungendore-district-sheepdog-assoc-training-day/
LOCATION:Bungendore Showgrounds & Racecourse\, Mathews Lane off Bungendore Rd\, Bungendore\, NSW\, Australia
CATEGORIES:Shared Hire
END:VEVENT
BEGIN:VEVENT
DTSTART;TZID=Australia/Sydney:20170224T180000
DTEND;TZID=Australia/Sydney:20170224T210000
DTSTAMP:20260426T141431
CREATED:20170210T021303Z
LAST-MODIFIED:20170210T021303Z
UID:347-1487959200-1487970000@bungendoreshowground.com.au
SUMMARY:Monaro Archers Member Evening
DESCRIPTION:Monaro Archers prides itself on being a relaxed family orientated club allowing archers of all ages to learn the sport of archery and compete in Archery Australia competitions and tournaments at the club\, state and national levels in a variety of disciplines including Target\, Field and Clout shooting.  All championship events are handicapped allowing all members to compete on an even level and directly compare results.\n​Visitors are always welcome at Monaro Archers and there are no additional fees for visitors apart from the regular shooting fee.
URL:https://bungendoreshowground.com.au/event/monaro-archers-member-evening/
LOCATION:Bungendore Showgrounds & Racecourse\, Mathews Lane off Bungendore Rd\, Bungendore\, NSW\, Australia
CATEGORIES:Shared Hire
ATTACH;FMTTYPE=image/jpeg:https://bungendoreshowground.com.au/wp-content/uploads/2017/02/Monaro-Archers-4.jpg
END:VEVENT
BEGIN:VEVENT
DTSTART;VALUE=DATE:20170212
DTEND;VALUE=DATE:20170213
DTSTAMP:20260426T141431
CREATED:20170131T061809Z
LAST-MODIFIED:20170131T070120Z
UID:201-1486857600-1486943999@bungendoreshowground.com.au
SUMMARY:BPC Rally Day
DESCRIPTION:
URL:https://bungendoreshowground.com.au/event/bpc-rally-day/
LOCATION:Bungendore Showgrounds & Racecourse\, Mathews Lane off Bungendore Rd\, Bungendore\, NSW\, Australia
CATEGORIES:Shared Hire
END:VEVENT
BEGIN:VEVENT
DTSTART;TZID=Australia/Sydney:20170211T090000
DTEND;TZID=Australia/Sydney:20170211T120000
DTSTAMP:20260426T141431
CREATED:20170210T015559Z
LAST-MODIFIED:20170210T025931Z
UID:342-1486803600-1486814400@bungendoreshowground.com.au
SUMMARY:Monaro Archers Member Day
DESCRIPTION:Monaro Archers prides itself on being a relaxed family orientated club allowing archers of all ages to learn the sport of archery and compete in Archery Australia competitions and tournaments at the club\, state and national levels in a variety of disciplines including Target\, Field and Clout shooting.  All championship events are handicapped allowing all members to compete on an even level and directly compare results.\n​Visitors are always welcome at Monaro Archers and there are no additional fees for visitors apart from the regular shooting fee.
URL:https://bungendoreshowground.com.au/event/monaro-archers-member-day-2/
LOCATION:Bungendore Showgrounds & Racecourse\, Mathews Lane off Bungendore Rd\, Bungendore\, NSW\, Australia
CATEGORIES:Shared Hire
ATTACH;FMTTYPE=image/jpeg:https://bungendoreshowground.com.au/wp-content/uploads/2017/02/Monaro-Archers-4.jpg
END:VEVENT
BEGIN:VEVENT
DTSTART;TZID=Australia/Sydney:20170210T180000
DTEND;TZID=Australia/Sydney:20170210T210000
DTSTAMP:20260426T141431
CREATED:20170210T014545Z
LAST-MODIFIED:20170210T020219Z
UID:335-1486749600-1486760400@bungendoreshowground.com.au
SUMMARY:Monaro Archers Member Evening
DESCRIPTION:Monaro Archers prides itself on being a relaxed family orientated club allowing archers of all ages to learn the sport of archery and compete in Archery Australia competitions and tournaments at the club\, state and national levels in a variety of disciplines including Target\, Field and Clout shooting.  All championship events are handicapped allowing all members to compete on an even level and directly compare results.\n​Visitors are always welcome at Monaro Archers and there are no additional fees for visitors apart from the regular shooting fee.
URL:https://bungendoreshowground.com.au/event/monaro-archers-member-day/
LOCATION:Bungendore Showgrounds & Racecourse\, Mathews Lane off Bungendore Rd\, Bungendore\, NSW\, Australia
CATEGORIES:Shared Hire
ATTACH;FMTTYPE=image/jpeg:https://bungendoreshowground.com.au/wp-content/uploads/2017/02/Monaro-Archers-4.jpg
END:VEVENT
BEGIN:VEVENT
DTSTART;TZID=Australia/Sydney:20170206T080000
DTEND;TZID=Australia/Sydney:20170321T170000
DTSTAMP:20260426T141431
CREATED:20170314T043922Z
LAST-MODIFIED:20170314T044023Z
UID:431-1486368000-1490115600@bungendoreshowground.com.au
SUMMARY:Blazeaid Camp
DESCRIPTION:BUNGENDORE NSW (CURRANDOOLEY FIRE 2017)\nCurrandooley Fire 3387ha Burnt & Carwoola Fire 3000ha\nCamp Status: OPEN\nFencing Starting: 6th February 2017\nAddress: BUNDENDORE SHOWGROUNDS\nCoordinator:\nMary Howarth 0429 367-538\nJohn Lillico 0412 815-800\nEmail: blazeaid.bungendore@gmail.com
URL:https://bungendoreshowground.com.au/event/blazeaid-camp/
LOCATION:Bungendore Showgrounds & Racecourse\, Mathews Lane off Bungendore Rd\, Bungendore\, NSW\, Australia
ATTACH;FMTTYPE=image/jpeg:https://bungendoreshowground.com.au/wp-content/uploads/2017/03/Blazeaid.jpg
END:VEVENT
BEGIN:VEVENT
DTSTART;TZID=Australia/Sydney:20170130T120000
DTEND;TZID=Australia/Sydney:20170206T170000
DTSTAMP:20260426T141431
CREATED:20170131T062106Z
LAST-MODIFIED:20170201T111209Z
UID:203-1485777600-1486400400@bungendoreshowground.com.au
SUMMARY:Bungendore Country Muster
DESCRIPTION:When Jim Snow opened the first Bungendore Country Muster in 1986 he predicted a great future for the festival and he got it right. The Bungendore Country Muster has continued and in 2006 celebrated its 21st birthday. Last year a number of the original artists came back for our 30th festival. \nThe Muster is unique in that it is the only “all Australian” country music festival in Australia and has a core policy of existing for the betterment and benefit of the Bungendore community and Australian country music. All money raised during the festival goes to the local community and on improving the facilities for patrons.
URL:https://bungendoreshowground.com.au/event/bungendore-country-muster/
LOCATION:Bungendore Showgrounds & Racecourse\, Mathews Lane off Bungendore Rd\, Bungendore\, NSW\, Australia
CATEGORIES:Exclusive Use Closed to Casual Camping
END:VEVENT
BEGIN:VEVENT
DTSTART;TZID=Australia/Sydney:20170121T080000
DTEND;TZID=Australia/Sydney:20170130T120000
DTSTAMP:20260426T141431
CREATED:20170131T062828Z
LAST-MODIFIED:20170131T070321Z
UID:212-1484985600-1485777600@bungendoreshowground.com.au
SUMMARY:2017 Bungendore Show
DESCRIPTION:
URL:https://bungendoreshowground.com.au/event/2017-bungendore-show/
LOCATION:Bungendore Showgrounds & Racecourse\, Mathews Lane off Bungendore Rd\, Bungendore\, NSW\, Australia
CATEGORIES:Exclusive Use Closed to Casual Camping
ORGANIZER;CN="Bungendore PAH Society":MAILTO:bungendoreshowsec@gmail.com 
END:VEVENT
BEGIN:VEVENT
DTSTART;TZID=Australia/Sydney:20170113T080000
DTEND;TZID=Australia/Sydney:20170115T150000
DTSTAMP:20260426T141431
CREATED:20170131T062435Z
LAST-MODIFIED:20171022T011222Z
UID:209-1484294400-1484492400@bungendoreshowground.com.au
SUMMARY:Lake George and Wamboin Dog Show
DESCRIPTION:
URL:https://bungendoreshowground.com.au/event/breed-championship-dog-show/
LOCATION:Bungendore Showgrounds & Racecourse\, Mathews Lane off Bungendore Rd\, Bungendore\, NSW\, Australia
CATEGORIES:Shared Hire
END:VEVENT
BEGIN:VEVENT
DTSTART;VALUE=DATE:20170108
DTEND;VALUE=DATE:20170109
DTSTAMP:20260426T141431
CREATED:20170131T064550Z
LAST-MODIFIED:20170131T070450Z
UID:221-1483833600-1483919999@bungendoreshowground.com.au
SUMMARY:BPC Rally Day
DESCRIPTION:
URL:https://bungendoreshowground.com.au/event/bpc-rally-day-2/
LOCATION:Bungendore Showgrounds & Racecourse\, Mathews Lane off Bungendore Rd\, Bungendore\, NSW\, Australia
CATEGORIES:Shared Hire
END:VEVENT
BEGIN:VEVENT
DTSTART;TZID=Australia/Sydney:20170101T080000
DTEND;TZID=Australia/Sydney:20170104T170000
DTSTAMP:20260426T141431
CREATED:20170131T062237Z
LAST-MODIFIED:20170131T070543Z
UID:206-1483257600-1483549200@bungendoreshowground.com.au
SUMMARY:Geary's Gap PC Camp
DESCRIPTION:
URL:https://bungendoreshowground.com.au/event/gearys-gap-pc-camp/
LOCATION:Bungendore Showgrounds & Racecourse\, Mathews Lane off Bungendore Rd\, Bungendore\, NSW\, Australia
CATEGORIES:Four Day Major Event - closed to casual camping
END:VEVENT
END:VCALENDAR