BEGIN:VCALENDAR
VERSION:2.0
PRODID:-//Bungendore Showground - ECPv6.15.17//NONSGML v1.0//EN
CALSCALE:GREGORIAN
METHOD:PUBLISH
X-WR-CALNAME:Bungendore Showground
X-ORIGINAL-URL:https://bungendoreshowground.com.au
X-WR-CALDESC:Events for Bungendore Showground
REFRESH-INTERVAL;VALUE=DURATION:PT1H
X-Robots-Tag:noindex
X-PUBLISHED-TTL:PT1H
BEGIN:VTIMEZONE
TZID:Australia/Sydney
BEGIN:STANDARD
TZOFFSETFROM:+1100
TZOFFSETTO:+1000
TZNAME:AEST
DTSTART:20160402T160000
END:STANDARD
BEGIN:DAYLIGHT
TZOFFSETFROM:+1000
TZOFFSETTO:+1100
TZNAME:AEDT
DTSTART:20161001T160000
END:DAYLIGHT
BEGIN:STANDARD
TZOFFSETFROM:+1100
TZOFFSETTO:+1000
TZNAME:AEST
DTSTART:20170401T160000
END:STANDARD
BEGIN:DAYLIGHT
TZOFFSETFROM:+1000
TZOFFSETTO:+1100
TZNAME:AEDT
DTSTART:20170930T160000
END:DAYLIGHT
BEGIN:STANDARD
TZOFFSETFROM:+1100
TZOFFSETTO:+1000
TZNAME:AEST
DTSTART:20180331T160000
END:STANDARD
BEGIN:DAYLIGHT
TZOFFSETFROM:+1000
TZOFFSETTO:+1100
TZNAME:AEDT
DTSTART:20181006T160000
END:DAYLIGHT
END:VTIMEZONE
BEGIN:VEVENT
DTSTART;VALUE=DATE:20170604
DTEND;VALUE=DATE:20170605
DTSTAMP:20260426T141226
CREATED:20170519T223945Z
LAST-MODIFIED:20170519T223945Z
UID:479-1496534400-1496620799@bungendoreshowground.com.au
SUMMARY:Rural Fire Service Family Fun Day
DESCRIPTION:
URL:https://bungendoreshowground.com.au/event/rural-fire-service-family-fun-day/
LOCATION:Mathews Lane off Bungendore Rd\, Bungendore\, NSW\, Australia
END:VEVENT
BEGIN:VEVENT
DTSTART;TZID=Australia/Sydney:20170603T090000
DTEND;TZID=Australia/Sydney:20170603T120000
DTSTAMP:20260426T141226
CREATED:20170314T022424Z
LAST-MODIFIED:20170519T220723Z
UID:391-1496480400-1496491200@bungendoreshowground.com.au
SUMMARY:Monaro Archers Member Day
DESCRIPTION:Monaro Archers prides itself on being a relaxed family orientated club allowing archers of all ages to learn the sport of archery and compete in Archery Australia competitions and tournaments at the club\, state and national levels in a variety of disciplines including Target\, Field and Clout shooting.  All championship events are handicapped allowing all members to compete on an even level and directly compare results.\n​Visitors are always welcome at Monaro Archers and there are no additional fees for visitors apart from the regular shooting fee.
URL:https://bungendoreshowground.com.au/event/monaro-archers-member-club-day-2/
LOCATION:Mathews Lane off Bungendore Rd\, Bungendore\, NSW\, Australia
CATEGORIES:Shared Hire
ATTACH;FMTTYPE=image/jpeg:https://bungendoreshowground.com.au/wp-content/uploads/2017/02/Monaro-Archers-4.jpg
END:VEVENT
BEGIN:VEVENT
DTSTART;TZID=Australia/Sydney:20170527T080000
DTEND;TZID=Australia/Sydney:20170527T150000
DTSTAMP:20260426T141226
CREATED:20170209T042723Z
LAST-MODIFIED:20170209T042723Z
UID:254-1495872000-1495897200@bungendoreshowground.com.au
SUMMARY:Bungendore & District Sheepdog Assoc Member Day
DESCRIPTION:
URL:https://bungendoreshowground.com.au/event/bungendore-district-sheepdog-assoc-member-day/
LOCATION:Bungendore Showgrounds & Racecourse\, Mathews Lane off Bungendore Rd\, Bungendore\, NSW\, Australia
CATEGORIES:Shared Hire
END:VEVENT
BEGIN:VEVENT
DTSTART;TZID=Australia/Sydney:20170520T090000
DTEND;TZID=Australia/Sydney:20170520T120000
DTSTAMP:20260426T141226
CREATED:20170314T022309Z
LAST-MODIFIED:20170314T023136Z
UID:389-1495270800-1495281600@bungendoreshowground.com.au
SUMMARY:Monaro Archers Member Day
DESCRIPTION:Monaro Archers prides itself on being a relaxed family orientated club allowing archers of all ages to learn the sport of archery and compete in Archery Australia competitions and tournaments at the club\, state and national levels in a variety of disciplines including Target\, Field and Clout shooting.  All championship events are handicapped allowing all members to compete on an even level and directly compare results.\n​Visitors are always welcome at Monaro Archers and there are no additional fees for visitors apart from the regular shooting fee.
URL:https://bungendoreshowground.com.au/event/monaro-archers-member-club-day/
LOCATION:Bungendore Showgrounds & Racecourse\, Mathews Lane off Bungendore Rd\, Bungendore\, NSW\, Australia
CATEGORIES:Shared Hire
ATTACH;FMTTYPE=image/jpeg:https://bungendoreshowground.com.au/wp-content/uploads/2017/02/Monaro-Archers-4.jpg
END:VEVENT
BEGIN:VEVENT
DTSTART;TZID=Australia/Sydney:20170513T080000
DTEND;TZID=Australia/Sydney:20170514T170000
DTSTAMP:20260426T141226
CREATED:20170209T042415Z
LAST-MODIFIED:20170314T020623Z
UID:248-1494662400-1494781200@bungendoreshowground.com.au
SUMMARY:Canberra Royals Polo X Carnival
DESCRIPTION:Polocrosse – King of the One Horse Sports\nPolocrosse has long been known as the “King of the One Horse Sports”. Having originated in Australia (indeed in New South Wales) in 1939\, we are proud to call it an Australian made game\, which is now played Internationally. Polocrosse is an action-packed\, team sport often referred to as Rugby on horseback. It is a family orientated sport with grades to cater for all levels of ability from the novice through to highly experienced and competitive riders. Polocrosse is unique in that it is a sport in which the whole family can play at the one event\, often in the same team. Players range from 5 Years of age through to just over 80.
URL:https://bungendoreshowground.com.au/event/canberra-royals-polo-x-carnival/
LOCATION:Bungendore Showgrounds & Racecourse\, Mathews Lane off Bungendore Rd\, Bungendore\, NSW\, Australia
CATEGORIES:Shared Hire
ATTACH;FMTTYPE=image/jpeg:https://bungendoreshowground.com.au/wp-content/uploads/2017/02/polocrosse-nsw-slider-1.jpg
END:VEVENT
BEGIN:VEVENT
DTSTART;TZID=Australia/Sydney:20170506T090000
DTEND;TZID=Australia/Sydney:20170506T120000
DTSTAMP:20260426T141226
CREATED:20170210T030506Z
LAST-MODIFIED:20170210T030506Z
UID:366-1494061200-1494072000@bungendoreshowground.com.au
SUMMARY:Monaro Archers Member Day
DESCRIPTION:Monaro Archers prides itself on being a relaxed family orientated club allowing archers of all ages to learn the sport of archery and compete in Archery Australia competitions and tournaments at the club\, state and national levels in a variety of disciplines including Target\, Field and Clout shooting.  All championship events are handicapped allowing all members to compete on an even level and directly compare results.\n​Visitors are always welcome at Monaro Archers and there are no additional fees for visitors apart from the regular shooting fee.
URL:https://bungendoreshowground.com.au/event/monaro-archers-member-day-6/
LOCATION:Mathews Lane off Bungendore Rd\, Bungendore\, NSW\, Australia
CATEGORIES:Shared Hire
ATTACH;FMTTYPE=image/jpeg:https://bungendoreshowground.com.au/wp-content/uploads/2017/02/Monaro-Archers-4.jpg
END:VEVENT
BEGIN:VEVENT
DTSTART;TZID=Australia/Sydney:20170506T080000
DTEND;TZID=Australia/Sydney:20170507T170000
DTSTAMP:20260426T141226
CREATED:20170209T042311Z
LAST-MODIFIED:20170314T020759Z
UID:246-1494057600-1494176400@bungendoreshowground.com.au
SUMMARY:Queanbeyan Palerang Regional Council Meet & Make Expo
DESCRIPTION:
URL:https://bungendoreshowground.com.au/event/zone-16-pony-club-event-tba/
LOCATION:Bungendore Showgrounds & Racecourse\, Mathews Lane off Bungendore Rd\, Bungendore\, NSW\, Australia
CATEGORIES:Shared Hire
ATTACH;FMTTYPE=image/png:https://bungendoreshowground.com.au/wp-content/uploads/2016/12/qprc.png
END:VEVENT
BEGIN:VEVENT
DTSTART;TZID=Australia/Sydney:20170429T080000
DTEND;TZID=Australia/Sydney:20170430T170000
DTSTAMP:20260426T141226
CREATED:20170209T042201Z
LAST-MODIFIED:20170314T020834Z
UID:243-1493452800-1493571600@bungendoreshowground.com.au
SUMMARY:Bungendore Polo X Carnival
DESCRIPTION:Polocrosse – King of the One Horse Sports\nPolocrosse has long been known as the “King of the One Horse Sports”. Having originated in Australia (indeed in New South Wales) in 1939\, we are proud to call it an Australian made game\, which is now played Internationally. Polocrosse is an action-packed\, team sport often referred to as Rugby on horseback. It is a family orientated sport with grades to cater for all levels of ability from the novice through to highly experienced and competitive riders. Polocrosse is unique in that it is a sport in which the whole family can play at the one event\, often in the same team. Players range from 5 Years of age through to just over 80.
URL:https://bungendoreshowground.com.au/event/bungendore-polo-x-carnival/
LOCATION:Bungendore Showgrounds & Racecourse\, Mathews Lane off Bungendore Rd\, Bungendore\, NSW\, Australia
CATEGORIES:Shared Hire
ATTACH;FMTTYPE=image/jpeg:https://bungendoreshowground.com.au/wp-content/uploads/2017/02/polocrosse-nsw-slider-1.jpg
ORGANIZER;CN="Bungendore Polo X Club":MAILTO:fiona@figuretree.com.au
END:VEVENT
BEGIN:VEVENT
DTSTART;TZID=Australia/Sydney:20170422T080000
DTEND;TZID=Australia/Sydney:20170423T170000
DTSTAMP:20260426T141226
CREATED:20170209T042056Z
LAST-MODIFIED:20170314T020917Z
UID:241-1492848000-1492966800@bungendoreshowground.com.au
SUMMARY:Bungendore Riding Club One Day Event
DESCRIPTION:
URL:https://bungendoreshowground.com.au/event/bungendore-riding-club-one-day-event/
LOCATION:Bungendore Showgrounds & Racecourse\, Mathews Lane off Bungendore Rd\, Bungendore\, NSW\, Australia
CATEGORIES:Shared Hire
END:VEVENT
BEGIN:VEVENT
DTSTART;TZID=Australia/Sydney:20170409T110000
DTEND;TZID=Australia/Sydney:20170415T160000
DTSTAMP:20260426T141226
CREATED:20170314T021520Z
LAST-MODIFIED:20170314T021520Z
UID:387-1491735600-1492272000@bungendoreshowground.com.au
SUMMARY:Showgrounds CLOSED to casual camping
DESCRIPTION:
URL:https://bungendoreshowground.com.au/event/showgrounds-closed-casual-camping/
LOCATION:Bungendore Showgrounds & Racecourse\, Mathews Lane off Bungendore Rd\, Bungendore\, NSW\, Australia
CATEGORIES:Exclusive Use Closed to Casual Camping
END:VEVENT
BEGIN:VEVENT
DTSTART;TZID=Australia/Sydney:20170408T080000
DTEND;TZID=Australia/Sydney:20170415T170000
DTSTAMP:20260426T141226
CREATED:20170209T041919Z
LAST-MODIFIED:20170209T041919Z
UID:238-1491638400-1492275600@bungendoreshowground.com.au
SUMMARY:Zone 16 Pony Club Camp
DESCRIPTION:
URL:https://bungendoreshowground.com.au/event/zone-16-pony-club-camp/
LOCATION:Bungendore Showgrounds & Racecourse\, Mathews Lane off Bungendore Rd\, Bungendore\, NSW\, Australia
CATEGORIES:Exclusive Use Closed to Casual Camping
END:VEVENT
BEGIN:VEVENT
DTSTART;TZID=Australia/Sydney:20170401T090000
DTEND;TZID=Australia/Sydney:20170401T120000
DTSTAMP:20260426T141226
CREATED:20170210T030355Z
LAST-MODIFIED:20170210T030355Z
UID:363-1491037200-1491048000@bungendoreshowground.com.au
SUMMARY:Monaro Archers Member Day
DESCRIPTION:Monaro Archers prides itself on being a relaxed family orientated club allowing archers of all ages to learn the sport of archery and compete in Archery Australia competitions and tournaments at the club\, state and national levels in a variety of disciplines including Target\, Field and Clout shooting.  All championship events are handicapped allowing all members to compete on an even level and directly compare results.\n​Visitors are always welcome at Monaro Archers and there are no additional fees for visitors apart from the regular shooting fee.
URL:https://bungendoreshowground.com.au/event/monaro-archers-member-day-5/
LOCATION:Mathews Lane off Bungendore Rd\, Bungendore\, NSW\, Australia
CATEGORIES:Shared Hire
ATTACH;FMTTYPE=image/jpeg:https://bungendoreshowground.com.au/wp-content/uploads/2017/02/Monaro-Archers-4.jpg
END:VEVENT
BEGIN:VEVENT
DTSTART;TZID=Australia/Sydney:20170401T080000
DTEND;TZID=Australia/Sydney:20170401T150000
DTSTAMP:20260426T141227
CREATED:20170209T034027Z
LAST-MODIFIED:20170209T034027Z
UID:236-1491033600-1491058800@bungendoreshowground.com.au
SUMMARY:Bungendore & District Sheepdog Association
DESCRIPTION:
URL:https://bungendoreshowground.com.au/event/bungendore-district-sheepdog-association/
LOCATION:Bungendore Showgrounds & Racecourse\, Mathews Lane off Bungendore Rd\, Bungendore\, NSW\, Australia
CATEGORIES:Shared Hire
END:VEVENT
BEGIN:VEVENT
DTSTART;TZID=Australia/Sydney:20170325T080000
DTEND;TZID=Australia/Sydney:20170326T170000
DTSTAMP:20260426T141227
CREATED:20170209T033917Z
LAST-MODIFIED:20170314T021031Z
UID:233-1490428800-1490547600@bungendoreshowground.com.au
SUMMARY:Lake George Polo X Carnival
DESCRIPTION:Polocrosse – King of the One Horse Sports\nPolocrosse has long been known as the “King of the One Horse Sports”. Having originated in Australia (indeed in New South Wales) in 1939\, we are proud to call it an Australian made game\, which is now played Internationally. Polocrosse is an action-packed\, team sport often referred to as Rugby on horseback. It is a family orientated sport with grades to cater for all levels of ability from the novice through to highly experienced and competitive riders. Polocrosse is unique in that it is a sport in which the whole family can play at the one event\, often in the same team. Players range from 5 Years of age through to just over 80.
URL:https://bungendoreshowground.com.au/event/lake-george-polo-x-carnival/
LOCATION:Bungendore Showgrounds & Racecourse\, Mathews Lane off Bungendore Rd\, Bungendore\, NSW\, Australia
CATEGORIES:Shared Hire
ATTACH;FMTTYPE=image/jpeg:https://bungendoreshowground.com.au/wp-content/uploads/2017/02/polocrosse-nsw-slider-1.jpg
END:VEVENT
BEGIN:VEVENT
DTSTART;TZID=Australia/Sydney:20170318T090000
DTEND;TZID=Australia/Sydney:20170318T120000
DTSTAMP:20260426T141227
CREATED:20170210T030047Z
LAST-MODIFIED:20170210T030047Z
UID:360-1489827600-1489838400@bungendoreshowground.com.au
SUMMARY:Monaro Archers Member Day
DESCRIPTION:Monaro Archers prides itself on being a relaxed family orientated club allowing archers of all ages to learn the sport of archery and compete in Archery Australia competitions and tournaments at the club\, state and national levels in a variety of disciplines including Target\, Field and Clout shooting.  All championship events are handicapped allowing all members to compete on an even level and directly compare results.\n​Visitors are always welcome at Monaro Archers and there are no additional fees for visitors apart from the regular shooting fee.
URL:https://bungendoreshowground.com.au/event/monaro-archers-member-day-4/
LOCATION:Mathews Lane off Bungendore Rd\, Bungendore\, NSW\, Australia
CATEGORIES:Shared Hire
ATTACH;FMTTYPE=image/jpeg:https://bungendoreshowground.com.au/wp-content/uploads/2017/02/Monaro-Archers-4.jpg
END:VEVENT
BEGIN:VEVENT
DTSTART;TZID=Australia/Sydney:20170318T080000
DTEND;TZID=Australia/Sydney:20170319T170000
DTSTAMP:20260426T141227
CREATED:20170209T033320Z
LAST-MODIFIED:20170314T021118Z
UID:231-1489824000-1489942800@bungendoreshowground.com.au
SUMMARY:Bungendore Riding Club Dressage Classic
DESCRIPTION:The Bungendore Riding Club is an adult riding club for riders over the age of 18. Our members include beginners\, adults returning to riding and adults who regularly compete in open events. Those who enjoyed pony club as a child will also find our activities fun and reminiscent of those they experienced as younger riders. \nUsually\, the Club meets for training days at the Bungendore Showgrounds on the last Sunday of the month. We organise qualified local and visiting instructors to instruct members in an informal\, fun and relaxed environment. Instruction ranges from basic ground work\, lunging and poles\, to dressage\, jumping\, eventing\, working equitation\, sporting and mounted games\, and hacking. From time to time\, we organise local trail rides and trail riding weekends away. The club runs two major competitions each year – a dressage competition\, usually in February\, and a one day event\, usually in winter. Club members enjoy reduced entry fees to these competitions. There is also an annual combined adult riding club competition known as STARCC. \nLunch is generally available on training days or event\, and provides a chance to mingle. Dress is casual but there are uniform items available for purchase. These are optional however\, if representing the BRC at other events\, the team will be required to turn out in the same attire. \nWe are an EA affiliated club and the safety of our members and their horses is paramount – we expect all our members to participate in accordance with our Code of Conduct. \nNew members are always welcome!
URL:https://bungendoreshowground.com.au/event/bungendore-riding-club-dressage-classic/
LOCATION:Bungendore Showgrounds & Racecourse\, Mathews Lane off Bungendore Rd\, Bungendore\, NSW\, Australia
CATEGORIES:Shared Hire
ATTACH;FMTTYPE=image/jpeg:https://bungendoreshowground.com.au/wp-content/uploads/2017/02/BRC-Dressage.jpg
END:VEVENT
BEGIN:VEVENT
DTSTART;VALUE=DATE:20170312
DTEND;VALUE=DATE:20170313
DTSTAMP:20260426T141227
CREATED:20170209T033211Z
LAST-MODIFIED:20170209T062621Z
UID:229-1489276800-1489363199@bungendoreshowground.com.au
SUMMARY:BPC Rally Day
DESCRIPTION:There are lots of different activities that you may participate in at rally day including showjumping\, dressage\, cross country\, troop drill\, mounted games\, sporting\, polocrosse\, horse care and theory. BPC will design a program for each rally day\, commonly the program will reflect upcoming events in the area. \nGenerally 2 sessions are held in the morning with a break for morning tea at 11:15. Lunch is around 1:00pm and there is one or two sessions after lunch. These are indicative times and can vary on the day. \nAll riders must remain unmounted until gear checked by a club official and advised to mount. If you ride to pony club you must dismount as soon as you arrive. \nAll parents and riders assist with setting up\, packing up equipment\, show jumps etc\, at conclusion of rally. Riders are required to stay with their allocated group and walk your horse between lessons. \nWhen all riders have been checked\, they will be organised into groups for their first session. \nSize and composition of groups depends on many factors including – which members are present\, which instructors are available\, what activities are organised. Generally riders of similar ability and/or age are grouped together.
URL:https://bungendoreshowground.com.au/event/bpc-rally-day-3/
LOCATION:Bungendore Showgrounds & Racecourse\, Mathews Lane off Bungendore Rd\, Bungendore\, NSW\, Australia
CATEGORIES:Shared Hire
ATTACH;FMTTYPE=image/jpeg:https://bungendoreshowground.com.au/wp-content/uploads/2017/02/BPC-logo-high-res.jpg
END:VEVENT
BEGIN:VEVENT
DTSTART;TZID=Australia/Sydney:20170304T090000
DTEND;TZID=Australia/Sydney:20170304T120000
DTSTAMP:20260426T141227
CREATED:20170210T022030Z
LAST-MODIFIED:20170314T021212Z
UID:352-1488618000-1488628800@bungendoreshowground.com.au
SUMMARY:Monaro Archers Member Day
DESCRIPTION:Monaro Archers prides itself on being a relaxed family orientated club allowing archers of all ages to learn the sport of archery and compete in Archery Australia competitions and tournaments at the club\, state and national levels in a variety of disciplines including Target\, Field and Clout shooting.  All championship events are handicapped allowing all members to compete on an even level and directly compare results.\n​Visitors are always welcome at Monaro Archers and there are no additional fees for visitors apart from the regular shooting fee.
URL:https://bungendoreshowground.com.au/event/monaro-archers-member-day-3/
LOCATION:Bungendore Showgrounds & Racecourse\, Mathews Lane off Bungendore Rd\, Bungendore\, NSW\, Australia
CATEGORIES:Shared Hire
ATTACH;FMTTYPE=image/jpeg:https://bungendoreshowground.com.au/wp-content/uploads/2017/02/Monaro-Archers-4.jpg
END:VEVENT
BEGIN:VEVENT
DTSTART;VALUE=DATE:20170226
DTEND;VALUE=DATE:20170227
DTSTAMP:20260426T141227
CREATED:20170131T063207Z
LAST-MODIFIED:20170131T065732Z
UID:215-1488067200-1488153599@bungendoreshowground.com.au
SUMMARY:Bungendore Riding Club Members Day
DESCRIPTION:
URL:https://bungendoreshowground.com.au/event/bungendore-riding-club-members-day/
LOCATION:Bungendore Showgrounds & Racecourse\, Mathews Lane off Bungendore Rd\, Bungendore\, NSW\, Australia
CATEGORIES:Shared Hire
END:VEVENT
BEGIN:VEVENT
DTSTART;TZID=Australia/Sydney:20170225T090000
DTEND;TZID=Australia/Sydney:20170225T120000
DTSTAMP:20260426T141227
CREATED:20170210T021444Z
LAST-MODIFIED:20170210T021444Z
UID:349-1488013200-1488024000@bungendoreshowground.com.au
SUMMARY:Monaro Archers Target Championships
DESCRIPTION:
URL:https://bungendoreshowground.com.au/event/monaro-archers-target-championships/
LOCATION:Bungendore Showgrounds & Racecourse\, Mathews Lane off Bungendore Rd\, Bungendore\, NSW\, Australia
CATEGORIES:Shared Hire
ATTACH;FMTTYPE=image/jpeg:https://bungendoreshowground.com.au/wp-content/uploads/2017/02/cropped-cropped-Targets-940x198.jpg
END:VEVENT
BEGIN:VEVENT
DTSTART;TZID=Australia/Sydney:20170225T080000
DTEND;TZID=Australia/Sydney:20170225T150000
DTSTAMP:20260426T141227
CREATED:20170131T064245Z
LAST-MODIFIED:20170131T065805Z
UID:218-1488009600-1488034800@bungendoreshowground.com.au
SUMMARY:Bungendore & District Sheepdog Assoc Training Day
DESCRIPTION:
URL:https://bungendoreshowground.com.au/event/bungendore-district-sheepdog-assoc-training-day/
LOCATION:Bungendore Showgrounds & Racecourse\, Mathews Lane off Bungendore Rd\, Bungendore\, NSW\, Australia
CATEGORIES:Shared Hire
END:VEVENT
BEGIN:VEVENT
DTSTART;TZID=Australia/Sydney:20170224T180000
DTEND;TZID=Australia/Sydney:20170224T210000
DTSTAMP:20260426T141227
CREATED:20170210T021303Z
LAST-MODIFIED:20170210T021303Z
UID:347-1487959200-1487970000@bungendoreshowground.com.au
SUMMARY:Monaro Archers Member Evening
DESCRIPTION:Monaro Archers prides itself on being a relaxed family orientated club allowing archers of all ages to learn the sport of archery and compete in Archery Australia competitions and tournaments at the club\, state and national levels in a variety of disciplines including Target\, Field and Clout shooting.  All championship events are handicapped allowing all members to compete on an even level and directly compare results.\n​Visitors are always welcome at Monaro Archers and there are no additional fees for visitors apart from the regular shooting fee.
URL:https://bungendoreshowground.com.au/event/monaro-archers-member-evening/
LOCATION:Bungendore Showgrounds & Racecourse\, Mathews Lane off Bungendore Rd\, Bungendore\, NSW\, Australia
CATEGORIES:Shared Hire
ATTACH;FMTTYPE=image/jpeg:https://bungendoreshowground.com.au/wp-content/uploads/2017/02/Monaro-Archers-4.jpg
END:VEVENT
BEGIN:VEVENT
DTSTART;VALUE=DATE:20170212
DTEND;VALUE=DATE:20170213
DTSTAMP:20260426T141227
CREATED:20170131T061809Z
LAST-MODIFIED:20170131T070120Z
UID:201-1486857600-1486943999@bungendoreshowground.com.au
SUMMARY:BPC Rally Day
DESCRIPTION:
URL:https://bungendoreshowground.com.au/event/bpc-rally-day/
LOCATION:Bungendore Showgrounds & Racecourse\, Mathews Lane off Bungendore Rd\, Bungendore\, NSW\, Australia
CATEGORIES:Shared Hire
END:VEVENT
BEGIN:VEVENT
DTSTART;TZID=Australia/Sydney:20170211T090000
DTEND;TZID=Australia/Sydney:20170211T120000
DTSTAMP:20260426T141227
CREATED:20170210T015559Z
LAST-MODIFIED:20170210T025931Z
UID:342-1486803600-1486814400@bungendoreshowground.com.au
SUMMARY:Monaro Archers Member Day
DESCRIPTION:Monaro Archers prides itself on being a relaxed family orientated club allowing archers of all ages to learn the sport of archery and compete in Archery Australia competitions and tournaments at the club\, state and national levels in a variety of disciplines including Target\, Field and Clout shooting.  All championship events are handicapped allowing all members to compete on an even level and directly compare results.\n​Visitors are always welcome at Monaro Archers and there are no additional fees for visitors apart from the regular shooting fee.
URL:https://bungendoreshowground.com.au/event/monaro-archers-member-day-2/
LOCATION:Bungendore Showgrounds & Racecourse\, Mathews Lane off Bungendore Rd\, Bungendore\, NSW\, Australia
CATEGORIES:Shared Hire
ATTACH;FMTTYPE=image/jpeg:https://bungendoreshowground.com.au/wp-content/uploads/2017/02/Monaro-Archers-4.jpg
END:VEVENT
BEGIN:VEVENT
DTSTART;TZID=Australia/Sydney:20170210T180000
DTEND;TZID=Australia/Sydney:20170210T210000
DTSTAMP:20260426T141227
CREATED:20170210T014545Z
LAST-MODIFIED:20170210T020219Z
UID:335-1486749600-1486760400@bungendoreshowground.com.au
SUMMARY:Monaro Archers Member Evening
DESCRIPTION:Monaro Archers prides itself on being a relaxed family orientated club allowing archers of all ages to learn the sport of archery and compete in Archery Australia competitions and tournaments at the club\, state and national levels in a variety of disciplines including Target\, Field and Clout shooting.  All championship events are handicapped allowing all members to compete on an even level and directly compare results.\n​Visitors are always welcome at Monaro Archers and there are no additional fees for visitors apart from the regular shooting fee.
URL:https://bungendoreshowground.com.au/event/monaro-archers-member-day/
LOCATION:Bungendore Showgrounds & Racecourse\, Mathews Lane off Bungendore Rd\, Bungendore\, NSW\, Australia
CATEGORIES:Shared Hire
ATTACH;FMTTYPE=image/jpeg:https://bungendoreshowground.com.au/wp-content/uploads/2017/02/Monaro-Archers-4.jpg
END:VEVENT
BEGIN:VEVENT
DTSTART;TZID=Australia/Sydney:20170206T080000
DTEND;TZID=Australia/Sydney:20170321T170000
DTSTAMP:20260426T141227
CREATED:20170314T043922Z
LAST-MODIFIED:20170314T044023Z
UID:431-1486368000-1490115600@bungendoreshowground.com.au
SUMMARY:Blazeaid Camp
DESCRIPTION:BUNGENDORE NSW (CURRANDOOLEY FIRE 2017)\nCurrandooley Fire 3387ha Burnt & Carwoola Fire 3000ha\nCamp Status: OPEN\nFencing Starting: 6th February 2017\nAddress: BUNDENDORE SHOWGROUNDS\nCoordinator:\nMary Howarth 0429 367-538\nJohn Lillico 0412 815-800\nEmail: blazeaid.bungendore@gmail.com
URL:https://bungendoreshowground.com.au/event/blazeaid-camp/
LOCATION:Bungendore Showgrounds & Racecourse\, Mathews Lane off Bungendore Rd\, Bungendore\, NSW\, Australia
ATTACH;FMTTYPE=image/jpeg:https://bungendoreshowground.com.au/wp-content/uploads/2017/03/Blazeaid.jpg
END:VEVENT
BEGIN:VEVENT
DTSTART;TZID=Australia/Sydney:20170130T120000
DTEND;TZID=Australia/Sydney:20170206T170000
DTSTAMP:20260426T141227
CREATED:20170131T062106Z
LAST-MODIFIED:20170201T111209Z
UID:203-1485777600-1486400400@bungendoreshowground.com.au
SUMMARY:Bungendore Country Muster
DESCRIPTION:When Jim Snow opened the first Bungendore Country Muster in 1986 he predicted a great future for the festival and he got it right. The Bungendore Country Muster has continued and in 2006 celebrated its 21st birthday. Last year a number of the original artists came back for our 30th festival. \nThe Muster is unique in that it is the only “all Australian” country music festival in Australia and has a core policy of existing for the betterment and benefit of the Bungendore community and Australian country music. All money raised during the festival goes to the local community and on improving the facilities for patrons.
URL:https://bungendoreshowground.com.au/event/bungendore-country-muster/
LOCATION:Bungendore Showgrounds & Racecourse\, Mathews Lane off Bungendore Rd\, Bungendore\, NSW\, Australia
CATEGORIES:Exclusive Use Closed to Casual Camping
END:VEVENT
BEGIN:VEVENT
DTSTART;TZID=Australia/Sydney:20170121T080000
DTEND;TZID=Australia/Sydney:20170130T120000
DTSTAMP:20260426T141227
CREATED:20170131T062828Z
LAST-MODIFIED:20170131T070321Z
UID:212-1484985600-1485777600@bungendoreshowground.com.au
SUMMARY:2017 Bungendore Show
DESCRIPTION:
URL:https://bungendoreshowground.com.au/event/2017-bungendore-show/
LOCATION:Bungendore Showgrounds & Racecourse\, Mathews Lane off Bungendore Rd\, Bungendore\, NSW\, Australia
CATEGORIES:Exclusive Use Closed to Casual Camping
ORGANIZER;CN="Bungendore PAH Society":MAILTO:bungendoreshowsec@gmail.com 
END:VEVENT
BEGIN:VEVENT
DTSTART;TZID=Australia/Sydney:20170113T080000
DTEND;TZID=Australia/Sydney:20170115T150000
DTSTAMP:20260426T141227
CREATED:20170131T062435Z
LAST-MODIFIED:20171022T011222Z
UID:209-1484294400-1484492400@bungendoreshowground.com.au
SUMMARY:Lake George and Wamboin Dog Show
DESCRIPTION:
URL:https://bungendoreshowground.com.au/event/breed-championship-dog-show/
LOCATION:Bungendore Showgrounds & Racecourse\, Mathews Lane off Bungendore Rd\, Bungendore\, NSW\, Australia
CATEGORIES:Shared Hire
END:VEVENT
BEGIN:VEVENT
DTSTART;VALUE=DATE:20170108
DTEND;VALUE=DATE:20170109
DTSTAMP:20260426T141227
CREATED:20170131T064550Z
LAST-MODIFIED:20170131T070450Z
UID:221-1483833600-1483919999@bungendoreshowground.com.au
SUMMARY:BPC Rally Day
DESCRIPTION:
URL:https://bungendoreshowground.com.au/event/bpc-rally-day-2/
LOCATION:Bungendore Showgrounds & Racecourse\, Mathews Lane off Bungendore Rd\, Bungendore\, NSW\, Australia
CATEGORIES:Shared Hire
END:VEVENT
END:VCALENDAR