BEGIN:VCALENDAR
VERSION:2.0
PRODID:-//Bungendore Showground - ECPv6.15.17//NONSGML v1.0//EN
CALSCALE:GREGORIAN
METHOD:PUBLISH
X-ORIGINAL-URL:https://bungendoreshowground.com.au
X-WR-CALDESC:Events for Bungendore Showground
REFRESH-INTERVAL;VALUE=DURATION:PT1H
X-Robots-Tag:noindex
X-PUBLISHED-TTL:PT1H
BEGIN:VTIMEZONE
TZID:Australia/Sydney
BEGIN:STANDARD
TZOFFSETFROM:+1100
TZOFFSETTO:+1000
TZNAME:AEST
DTSTART:20210403T160000
END:STANDARD
BEGIN:DAYLIGHT
TZOFFSETFROM:+1000
TZOFFSETTO:+1100
TZNAME:AEDT
DTSTART:20211002T160000
END:DAYLIGHT
BEGIN:STANDARD
TZOFFSETFROM:+1100
TZOFFSETTO:+1000
TZNAME:AEST
DTSTART:20220402T160000
END:STANDARD
BEGIN:DAYLIGHT
TZOFFSETFROM:+1000
TZOFFSETTO:+1100
TZNAME:AEDT
DTSTART:20221001T160000
END:DAYLIGHT
BEGIN:STANDARD
TZOFFSETFROM:+1100
TZOFFSETTO:+1000
TZNAME:AEST
DTSTART:20230401T160000
END:STANDARD
BEGIN:DAYLIGHT
TZOFFSETFROM:+1000
TZOFFSETTO:+1100
TZNAME:AEDT
DTSTART:20230930T160000
END:DAYLIGHT
BEGIN:STANDARD
TZOFFSETFROM:+1100
TZOFFSETTO:+1000
TZNAME:AEST
DTSTART:20240406T160000
END:STANDARD
BEGIN:DAYLIGHT
TZOFFSETFROM:+1000
TZOFFSETTO:+1100
TZNAME:AEDT
DTSTART:20241005T160000
END:DAYLIGHT
END:VTIMEZONE
BEGIN:VEVENT
DTSTART;VALUE=DATE:20220813
DTEND;VALUE=DATE:20220815
DTSTAMP:20260425T233948
CREATED:20200919T223115Z
LAST-MODIFIED:20200919T223115Z
UID:2070-1660348800-1660521599@bungendoreshowground.com.au
SUMMARY:Zone Mounted Games Training
DESCRIPTION:[column width=”1/1″ last=”true” title=”” title_type=”single” animation=”none” implicit=”true”] \n  \n[/column] \n[column width=”1/1″ last=”true” title=”” title_type=”single” animation=”none” implicit=”true”] \n[/column] \n[column width=”1/1″ last=”true” title=”” title_type=”single” animation=”none” implicit=”true”] \n  \n[/column]
URL:https://bungendoreshowground.com.au/event/zone-mounted-games-training-2022-08-13/
LOCATION:Mathews Lane off Bungendore Rd\, Bungendore\, NSW\, Australia
END:VEVENT
BEGIN:VEVENT
DTSTART;VALUE=DATE:20220814
DTEND;VALUE=DATE:20220815
DTSTAMP:20260425T233948
CREATED:20211027T214504Z
LAST-MODIFIED:20211027T214504Z
UID:1971-1660435200-1660521599@bungendoreshowground.com.au
SUMMARY:Bungendore Pony Club Training Day
DESCRIPTION:[column width=”1/1″ last=”true” title=”” title_type=”single” animation=”none” implicit=”true”] \n  \n[/column]
URL:https://bungendoreshowground.com.au/event/bungendore-pony-club-training-day-2022-08-14/
LOCATION:Mathews Lane off Bungendore Rd\, Bungendore\, NSW\, Australia
CATEGORIES:Share MAY be negotiated IF suitable
END:VEVENT
BEGIN:VEVENT
DTSTART;TZID=Australia/Sydney:20220820T080000
DTEND;TZID=Australia/Sydney:20220822T170000
DTSTAMP:20260425T233948
CREATED:20220215T015146Z
LAST-MODIFIED:20220215T015146Z
UID:2082-1660982400-1661187600@bungendoreshowground.com.au
SUMMARY:Zone 16 Pony Club Event
DESCRIPTION:[column width=”1/1″ last=”true” title=”” title_type=”single” animation=”none” implicit=”true”] \n  \n[/column]
URL:https://bungendoreshowground.com.au/event/zone-16-pony-club-event-2/
LOCATION:Mathews Lane off Bungendore Rd\, Bungendore\, NSW\, Australia
END:VEVENT
BEGIN:VEVENT
DTSTART;VALUE=DATE:20220827
DTEND;VALUE=DATE:20220829
DTSTAMP:20260425T233948
CREATED:20211027T222251Z
LAST-MODIFIED:20211027T222418Z
UID:2021-1661558400-1661731199@bungendoreshowground.com.au
SUMMARY:Zone 16 Pony Club Event
DESCRIPTION:[column width=”1/1″ last=”true” title=”” title_type=”single” animation=”none” implicit=”true”] \n  \n[/column] \n[column width=”1/1″ last=”true” title=”” title_type=”single” animation=”none” implicit=”true”] \n[/column] \n[column width=”1/1″ last=”true” title=”” title_type=”single” animation=”none” implicit=”true”] \n  \n[/column]
URL:https://bungendoreshowground.com.au/event/zone-16-event-2/
LOCATION:Mathews Lane off Bungendore Rd\, Bungendore\, NSW\, Australia
END:VEVENT
BEGIN:VEVENT
DTSTART;VALUE=DATE:20220828
DTEND;VALUE=DATE:20220829
DTSTAMP:20260425T233948
CREATED:20211027T215342Z
LAST-MODIFIED:20211027T215342Z
UID:1986-1661644800-1661731199@bungendoreshowground.com.au
SUMMARY:Bungendore Riding Club Training Day
DESCRIPTION:[column width=”1/1″ last=”true” title=”” title_type=”single” animation=”none” implicit=”true”] \n  \n[/column]
URL:https://bungendoreshowground.com.au/event/bungendore-riding-club-training-day-2-2022-08-28/
LOCATION:Mathews Lane off Bungendore Rd\, Bungendore\, NSW\, Australia
END:VEVENT
BEGIN:VEVENT
DTSTART;TZID=Australia/Sydney:20220829T100000
DTEND;TZID=Australia/Sydney:20220831T233000
DTSTAMP:20260425T233948
CREATED:20210416T233921Z
LAST-MODIFIED:20220215T013515Z
UID:1875-1661767200-1661988600@bungendoreshowground.com.au
SUMMARY:Country Rocks Set Up
DESCRIPTION:[column width=”1/1″ last=”true” title=”” title_type=”single” animation=”none” implicit=”true”] \n  \n[/column] \n[column width=”1/1″ last=”true” title=”” title_type=”single” animation=”none” implicit=”true”] \n[/column] \n[column width=”1/1″ last=”true” title=”” title_type=”single” animation=”none” implicit=”true”] \n  \n[/column] \n[column width=”1/1″ last=”true” title=”” title_type=”single” animation=”none” implicit=”true”] \n[/column]
URL:https://bungendoreshowground.com.au/event/country-rocks-set-up-2/
LOCATION:Mathews Lane off Bungendore Rd\, Bungendore\, NSW\, Australia
CATEGORIES:Major Event
END:VEVENT
BEGIN:VEVENT
DTSTART;VALUE=DATE:20220901
DTEND;VALUE=DATE:20220905
DTSTAMP:20260425T233948
CREATED:20210416T233801Z
LAST-MODIFIED:20220215T013155Z
UID:1872-1661990400-1662335999@bungendoreshowground.com.au
SUMMARY:Country Rocks
DESCRIPTION:[column width=”1/1″ last=”true” title=”” title_type=”single” animation=”none” implicit=”true”] \n  \n[/column] \n[column width=”1/1″ last=”true” title=”” title_type=”single” animation=”none” implicit=”true”] \n[/column] \n[column width=”1/1″ last=”true” title=”” title_type=”single” animation=”none” implicit=”true”] \n  \n[/column]
URL:https://bungendoreshowground.com.au/event/country-rocks-2/
LOCATION:Mathews Lane off Bungendore Rd\, Bungendore\, NSW\, Australia
CATEGORIES:Exclusive Use Closed to Casual Camping
END:VEVENT
BEGIN:VEVENT
DTSTART;VALUE=DATE:20220910
DTEND;VALUE=DATE:20220912
DTSTAMP:20260425T233948
CREATED:20200919T223115Z
LAST-MODIFIED:20200919T223115Z
UID:2071-1662768000-1662940799@bungendoreshowground.com.au
SUMMARY:Zone Mounted Games Training
DESCRIPTION:[column width=”1/1″ last=”true” title=”” title_type=”single” animation=”none” implicit=”true”] \n  \n[/column] \n[column width=”1/1″ last=”true” title=”” title_type=”single” animation=”none” implicit=”true”] \n[/column] \n[column width=”1/1″ last=”true” title=”” title_type=”single” animation=”none” implicit=”true”] \n  \n[/column]
URL:https://bungendoreshowground.com.au/event/zone-mounted-games-training-2022-09-10/
LOCATION:Mathews Lane off Bungendore Rd\, Bungendore\, NSW\, Australia
END:VEVENT
BEGIN:VEVENT
DTSTART;VALUE=DATE:20220911
DTEND;VALUE=DATE:20220912
DTSTAMP:20260425T233948
CREATED:20211027T214504Z
LAST-MODIFIED:20211027T214504Z
UID:1972-1662854400-1662940799@bungendoreshowground.com.au
SUMMARY:Bungendore Pony Club Training Day
DESCRIPTION:[column width=”1/1″ last=”true” title=”” title_type=”single” animation=”none” implicit=”true”] \n  \n[/column]
URL:https://bungendoreshowground.com.au/event/bungendore-pony-club-training-day-2022-09-11/
LOCATION:Mathews Lane off Bungendore Rd\, Bungendore\, NSW\, Australia
CATEGORIES:Share MAY be negotiated IF suitable
END:VEVENT
BEGIN:VEVENT
DTSTART;VALUE=DATE:20220917
DTEND;VALUE=DATE:20220919
DTSTAMP:20260425T233948
CREATED:20220215T014410Z
LAST-MODIFIED:20220330T205313Z
UID:2076-1663372800-1663545599@bungendoreshowground.com.au
SUMMARY:Dog Scenting Event
DESCRIPTION:[column width=”1/1″ last=”true” title=”” title_type=”single” animation=”none” implicit=”true”] \n  \n[/column] \n[column width=”1/1″ last=”true” title=”” title_type=”single” animation=”none” implicit=”true”] \n[/column] \n[column width=”1/1″ last=”true” title=”” title_type=”single” animation=”none” implicit=”true”] \n  \n[/column]
URL:https://bungendoreshowground.com.au/event/dog-scenting-event/
LOCATION:Mathews Lane off Bungendore Rd\, Bungendore\, NSW\, Australia
END:VEVENT
BEGIN:VEVENT
DTSTART;VALUE=DATE:20220922
DTEND;VALUE=DATE:20220927
DTSTAMP:20260425T233948
CREATED:20211027T222454Z
LAST-MODIFIED:20220610T042552Z
UID:2026-1663804800-1664236799@bungendoreshowground.com.au
SUMMARY:State Mounted Games
DESCRIPTION:[column width=”1/1″ last=”true” title=”” title_type=”single” animation=”none” implicit=”true”] \n  \n[/column] \n[column width=”1/1″ last=”true” title=”” title_type=”single” animation=”none” implicit=”true”] \n[/column] \n[column width=”1/1″ last=”true” title=”” title_type=”single” animation=”none” implicit=”true”] \n  \n[/column]
URL:https://bungendoreshowground.com.au/event/zone-16-pony-club-event/
LOCATION:Mathews Lane off Bungendore Rd\, Bungendore\, NSW\, Australia
CATEGORIES:Exclusive Use Closed to Casual Camping,Four Day Major Event - closed to casual camping
END:VEVENT
BEGIN:VEVENT
DTSTART;VALUE=DATE:20220925
DTEND;VALUE=DATE:20220926
DTSTAMP:20260425T233948
CREATED:20211027T215342Z
LAST-MODIFIED:20211027T215342Z
UID:1987-1664064000-1664150399@bungendoreshowground.com.au
SUMMARY:Bungendore Riding Club Training Day
DESCRIPTION:[column width=”1/1″ last=”true” title=”” title_type=”single” animation=”none” implicit=”true”] \n  \n[/column]
URL:https://bungendoreshowground.com.au/event/bungendore-riding-club-training-day-2-2022-09-25/
LOCATION:Mathews Lane off Bungendore Rd\, Bungendore\, NSW\, Australia
END:VEVENT
BEGIN:VEVENT
DTSTART;VALUE=DATE:20221009
DTEND;VALUE=DATE:20221010
DTSTAMP:20260425T233948
CREATED:20211027T214504Z
LAST-MODIFIED:20211027T214504Z
UID:1973-1665273600-1665359999@bungendoreshowground.com.au
SUMMARY:Bungendore Pony Club Training Day
DESCRIPTION:[column width=”1/1″ last=”true” title=”” title_type=”single” animation=”none” implicit=”true”] \n  \n[/column]
URL:https://bungendoreshowground.com.au/event/bungendore-pony-club-training-day-2022-10-09/
LOCATION:Mathews Lane off Bungendore Rd\, Bungendore\, NSW\, Australia
CATEGORIES:Share MAY be negotiated IF suitable
END:VEVENT
BEGIN:VEVENT
DTSTART;VALUE=DATE:20221015
DTEND;VALUE=DATE:20221017
DTSTAMP:20260425T233948
CREATED:20220801T212738Z
LAST-MODIFIED:20220801T212738Z
UID:2179-1665792000-1665964799@bungendoreshowground.com.au
SUMMARY:Australian Mounted Games - Carpark Only
DESCRIPTION:
URL:https://bungendoreshowground.com.au/event/australian-mounted-games-carpark-only/
LOCATION:Mathews Lane off Bungendore Rd\, Bungendore\, NSW\, Australia
END:VEVENT
BEGIN:VEVENT
DTSTART;VALUE=DATE:20221015
DTEND;VALUE=DATE:20221025
DTSTAMP:20260425T233948
CREATED:20190327T015145Z
LAST-MODIFIED:20221012T002958Z
UID:1734-1665792000-1666655999@bungendoreshowground.com.au
SUMMARY:Bungendore Show - CANCELLED
DESCRIPTION:[column width=”1/1″ last=”true” title=”” title_type=”single” animation=”none” implicit=”true”] \n  \n[/column] \n[column width=”1/1″ last=”true” title=”” title_type=”single” animation=”none” implicit=”true”] \n[/column] \n[column width=”1/1″ last=”true” title=”” title_type=”single” animation=”none” implicit=”true”] \n  \n[/column] \n[column width=”1/1″ last=”true” title=”” title_type=”single” animation=”none” implicit=”true”] \n[/column]
URL:https://bungendoreshowground.com.au/event/bungendore-show-2-2022-10-15/
LOCATION:Mathews Lane off Bungendore Rd\, Bungendore\, NSW\, Australia
CATEGORIES:Exclusive Use Closed to Casual Camping
ORGANIZER;CN="Bungendore PAH Society":MAILTO:bungendoreshowsec@gmail.com 
END:VEVENT
BEGIN:VEVENT
DTSTART;VALUE=DATE:20221028
DTEND;VALUE=DATE:20221031
DTSTAMP:20260425T233948
CREATED:20220307T052334Z
LAST-MODIFIED:20220307T052334Z
UID:2089-1666915200-1667174399@bungendoreshowground.com.au
SUMMARY:Inter-Schools School Equestrian Competition
DESCRIPTION:[column width=”1/1″ last=”true” title=”” title_type=”single” animation=”none” implicit=”true”] \n  \n[/column]
URL:https://bungendoreshowground.com.au/event/inter-schools-school-equestrian-competition/
LOCATION:Mathews Lane off Bungendore Rd\, Bungendore\, NSW\, Australia
CATEGORIES:5 - Carpark,Major Event = Limited Camping
END:VEVENT
BEGIN:VEVENT
DTSTART;VALUE=DATE:20221104
DTEND;VALUE=DATE:20221107
DTSTAMP:20260425T233948
CREATED:20211027T223046Z
LAST-MODIFIED:20221101T220124Z
UID:2032-1667520000-1667779199@bungendoreshowground.com.au
SUMMARY:CANCELLED. FSEKC Lake George and Wamboin Dog Show
DESCRIPTION:[column width=”1/1″ last=”true” title=”” title_type=”single” animation=”none” implicit=”true”] \n  \n[/column]
URL:https://bungendoreshowground.com.au/event/fsekc-lake-george-and-wamboin-dog-show/
LOCATION:Mathews Lane off Bungendore Rd\, Bungendore\, NSW\, Australia
END:VEVENT
BEGIN:VEVENT
DTSTART;VALUE=DATE:20221105
DTEND;VALUE=DATE:20221108
DTSTAMP:20260425T233948
CREATED:20220707T230616Z
LAST-MODIFIED:20221101T220428Z
UID:2150-1667606400-1667865599@bungendoreshowground.com.au
SUMMARY:Horse Clinic with Reata Ranch Covered Arena Closed to Public
DESCRIPTION:[column width=”1/1″ last=”true” title=”” title_type=”single” animation=”none” implicit=”true”] \n  \n[/column] \n[column width=”1/1″ last=”true” title=”” title_type=”single” animation=”none” implicit=”true”] \n[/column] \n[column width=”1/1″ last=”true” title=”” title_type=”single” animation=”none” implicit=”true”] \n  \n[/column]
URL:https://bungendoreshowground.com.au/event/horse-clinic-with-reata-ranch/
LOCATION:Mathews Lane off Bungendore Rd\, Bungendore\, NSW\, Australia
END:VEVENT
BEGIN:VEVENT
DTSTART;VALUE=DATE:20221113
DTEND;VALUE=DATE:20221114
DTSTAMP:20260425T233948
CREATED:20211027T214504Z
LAST-MODIFIED:20211027T214504Z
UID:1974-1668297600-1668383999@bungendoreshowground.com.au
SUMMARY:Bungendore Pony Club Training Day
DESCRIPTION:[column width=”1/1″ last=”true” title=”” title_type=”single” animation=”none” implicit=”true”] \n  \n[/column]
URL:https://bungendoreshowground.com.au/event/bungendore-pony-club-training-day-2022-11-13/
LOCATION:Mathews Lane off Bungendore Rd\, Bungendore\, NSW\, Australia
CATEGORIES:Share MAY be negotiated IF suitable
END:VEVENT
BEGIN:VEVENT
DTSTART;VALUE=DATE:20221119
DTEND;VALUE=DATE:20221121
DTSTAMP:20260425T233948
CREATED:20220710T233937Z
LAST-MODIFIED:20220710T234236Z
UID:2153-1668816000-1668988799@bungendoreshowground.com.au
SUMMARY:Southern Tablelands and ACT Working Equitation
DESCRIPTION:[column width=”1/1″ last=”true” title=”” title_type=”single” animation=”none” implicit=”true”] \n  \n[/column] \n[column width=”1/1″ last=”true” title=”” title_type=”single” animation=”none” implicit=”true”] \n[/column] \n[column width=”1/1″ last=”true” title=”” title_type=”single” animation=”none” implicit=”true”] \n  \n[/column] \n[column width=”1/1″ last=”true” title=”” title_type=”single” animation=”none” implicit=”true”] \n[/column]
URL:https://bungendoreshowground.com.au/event/southern-tablelands-and-act-working-equitation/
LOCATION:Mathews Lane off Bungendore Rd\, Bungendore\, NSW\, Australia
END:VEVENT
BEGIN:VEVENT
DTSTART;VALUE=DATE:20221119
DTEND;VALUE=DATE:20221120
DTSTAMP:20260425T233948
CREATED:20220604T035553Z
LAST-MODIFIED:20220607T235515Z
UID:2139-1668816000-1668902399@bungendoreshowground.com.au
SUMMARY:Bungendore Meet and Make
DESCRIPTION:[column width=”1/1″ last=”true” title=”” title_type=”single” animation=”none” implicit=”true”] \n  \n[/column]
URL:https://bungendoreshowground.com.au/event/bungendore-meet-and-make-2-2022-11-19/
LOCATION:Mathews Lane off Bungendore Rd\, Bungendore\, NSW\, Australia
END:VEVENT
BEGIN:VEVENT
DTSTART;VALUE=DATE:20221126
DTEND;VALUE=DATE:20221127
DTSTAMP:20260425T233948
CREATED:20211027T221524Z
LAST-MODIFIED:20211027T221524Z
UID:2013-1669420800-1669507199@bungendoreshowground.com.au
SUMMARY:Bungendore Riding Club Major Event Setup
DESCRIPTION:[column width=”1/1″ last=”true” title=”” title_type=”single” animation=”none” implicit=”true”] \n  \n[/column]
URL:https://bungendoreshowground.com.au/event/bungendore-riding-club-major-event-setup-2-2022-11-26/
LOCATION:Mathews Lane off Bungendore Rd\, Bungendore\, NSW\, Australia
END:VEVENT
BEGIN:VEVENT
DTSTART;TZID=Australia/Sydney:20221127T080000
DTEND;TZID=Australia/Sydney:20221127T170000
DTSTAMP:20260425T233948
CREATED:20211027T221710Z
LAST-MODIFIED:20211027T221710Z
UID:2017-1669536000-1669568400@bungendoreshowground.com.au
SUMMARY:Bungendore Riding Club Major Event
DESCRIPTION:[column width=”1/1″ last=”true” title=”” title_type=”single” animation=”none” implicit=”true”] \n  \n[/column]
URL:https://bungendoreshowground.com.au/event/bungendore-riding-club-major-event-3-2022-11-27/
LOCATION:Mathews Lane off Bungendore Rd\, Bungendore\, NSW\, Australia
END:VEVENT
BEGIN:VEVENT
DTSTART;TZID=Australia/Sydney:20221128T080000
DTEND;TZID=Australia/Sydney:20221203T120000
DTSTAMP:20260425T233948
CREATED:20221023T225727Z
LAST-MODIFIED:20221023T225727Z
UID:2219-1669622400-1670068800@bungendoreshowground.com.au
SUMMARY:TRYP Consulting
DESCRIPTION:
URL:https://bungendoreshowground.com.au/event/tryp-consulting/
LOCATION:Mathews Lane off Bungendore Rd\, Bungendore\, NSW\, Australia
END:VEVENT
BEGIN:VEVENT
DTSTART;VALUE=DATE:20221202
DTEND;VALUE=DATE:20221205
DTSTAMP:20260425T233948
CREATED:20211027T223527Z
LAST-MODIFIED:20211027T223527Z
UID:2038-1669939200-1670198399@bungendoreshowground.com.au
SUMMARY:Bungendore Team Penning and Sorting
DESCRIPTION:[column width=”1/1″ last=”true” title=”” title_type=”single” animation=”none” implicit=”true”] \n  \n[/column]
URL:https://bungendoreshowground.com.au/event/bungendore-team-penning-and-sorting-3/
LOCATION:Mathews Lane off Bungendore Rd\, Bungendore\, NSW\, Australia
END:VEVENT
BEGIN:VEVENT
DTSTART;VALUE=DATE:20221210
DTEND;VALUE=DATE:20221211
DTSTAMP:20260425T233948
CREATED:20221115T205626Z
LAST-MODIFIED:20221115T205626Z
UID:2230-1670630400-1670716799@bungendoreshowground.com.au
SUMMARY:Bungendore Sheepdogs
DESCRIPTION:Bungendore Aheepdogs
URL:https://bungendoreshowground.com.au/event/bungendore-sheepdogs-5/
LOCATION:Mathews Lane off Bungendore Rd\, Bungendore\, NSW\, Australia
CATEGORIES:5 - Carpark
END:VEVENT
BEGIN:VEVENT
DTSTART;VALUE=DATE:20221211
DTEND;VALUE=DATE:20221212
DTSTAMP:20260425T233948
CREATED:20211027T214504Z
LAST-MODIFIED:20211027T214504Z
UID:1975-1670716800-1670803199@bungendoreshowground.com.au
SUMMARY:Bungendore Pony Club Training Day
DESCRIPTION:[column width=”1/1″ last=”true” title=”” title_type=”single” animation=”none” implicit=”true”] \n  \n[/column]
URL:https://bungendoreshowground.com.au/event/bungendore-pony-club-training-day-2022-12-11/
LOCATION:Mathews Lane off Bungendore Rd\, Bungendore\, NSW\, Australia
CATEGORIES:Share MAY be negotiated IF suitable
END:VEVENT
BEGIN:VEVENT
DTSTART;TZID=Australia/Sydney:20221217T080000
DTEND;TZID=Australia/Sydney:20221218T170000
DTSTAMP:20260425T233948
CREATED:20221006T215223Z
LAST-MODIFIED:20221006T215425Z
UID:2198-1671264000-1671382800@bungendoreshowground.com.au
SUMMARY:Horse Clinic Covered Arena Exclusive Use Placeholder
DESCRIPTION:
URL:https://bungendoreshowground.com.au/event/horse-clinic-covered-arena-exclusive-use-placeholder/
LOCATION:Mathews Lane off Bungendore Rd\, Bungendore\, NSW\, Australia
END:VEVENT
BEGIN:VEVENT
DTSTART;VALUE=DATE:20230121
DTEND;VALUE=DATE:20230123
DTSTAMP:20260425T233948
CREATED:20221222T033742Z
LAST-MODIFIED:20221222T033742Z
UID:2305-1674259200-1674431999@bungendoreshowground.com.au
SUMMARY:Bungendore Sheepdogs
DESCRIPTION:
URL:https://bungendoreshowground.com.au/event/bungendore-sheepdogs-6/
LOCATION:Mathews Lane off Bungendore Rd\, Bungendore\, NSW\, Australia
CATEGORIES:5 - Carpark
END:VEVENT
BEGIN:VEVENT
DTSTART;VALUE=DATE:20230129
DTEND;VALUE=DATE:20230130
DTSTAMP:20260425T233948
CREATED:20221127T222449Z
LAST-MODIFIED:20221127T222449Z
UID:2236-1674950400-1675036799@bungendoreshowground.com.au
SUMMARY:Bungendore Riding Club Training Day
DESCRIPTION:
URL:https://bungendoreshowground.com.au/event/bungendore-riding-club-training-day-3/
LOCATION:Mathews Lane off Bungendore Rd\, Bungendore\, NSW\, Australia
END:VEVENT
END:VCALENDAR