BEGIN:VCALENDAR
VERSION:2.0
PRODID:-//Bungendore Showground - ECPv6.15.17//NONSGML v1.0//EN
CALSCALE:GREGORIAN
METHOD:PUBLISH
X-WR-CALNAME:Bungendore Showground
X-ORIGINAL-URL:https://bungendoreshowground.com.au
X-WR-CALDESC:Events for Bungendore Showground
REFRESH-INTERVAL;VALUE=DURATION:PT1H
X-Robots-Tag:noindex
X-PUBLISHED-TTL:PT1H
BEGIN:VTIMEZONE
TZID:Australia/Sydney
BEGIN:STANDARD
TZOFFSETFROM:+1100
TZOFFSETTO:+1000
TZNAME:AEST
DTSTART:20230401T160000
END:STANDARD
BEGIN:DAYLIGHT
TZOFFSETFROM:+1000
TZOFFSETTO:+1100
TZNAME:AEDT
DTSTART:20230930T160000
END:DAYLIGHT
BEGIN:STANDARD
TZOFFSETFROM:+1100
TZOFFSETTO:+1000
TZNAME:AEST
DTSTART:20240406T160000
END:STANDARD
BEGIN:DAYLIGHT
TZOFFSETFROM:+1000
TZOFFSETTO:+1100
TZNAME:AEDT
DTSTART:20241005T160000
END:DAYLIGHT
BEGIN:STANDARD
TZOFFSETFROM:+1100
TZOFFSETTO:+1000
TZNAME:AEST
DTSTART:20250405T160000
END:STANDARD
BEGIN:DAYLIGHT
TZOFFSETFROM:+1000
TZOFFSETTO:+1100
TZNAME:AEDT
DTSTART:20251004T160000
END:DAYLIGHT
END:VTIMEZONE
BEGIN:VEVENT
DTSTART;VALUE=DATE:20241013
DTEND;VALUE=DATE:20241014
DTSTAMP:20260426T015851
CREATED:20230927T013604Z
LAST-MODIFIED:20230927T013604Z
UID:2489-1728777600-1728863999@bungendoreshowground.com.au
SUMMARY:Bungendore Pony Club
DESCRIPTION:
URL:https://bungendoreshowground.com.au/event/bungendore-pony-club-5-2024-10-13/
LOCATION:Mathews Lane off Bungendore Rd\, Bungendore\, NSW\, Australia
END:VEVENT
BEGIN:VEVENT
DTSTART;VALUE=DATE:20241013
DTEND;VALUE=DATE:20241014
DTSTAMP:20260426T015851
CREATED:20240913T074459Z
LAST-MODIFIED:20240913T074459Z
UID:2878-1728777600-1728863999@bungendoreshowground.com.au
SUMMARY:Amerigo Clinic – covered arena closed to casual use
DESCRIPTION:
URL:https://bungendoreshowground.com.au/event/amerigo-clinic-covered-arena-closed-to-casual-use-12/
LOCATION:Mathews Lane off Bungendore Rd\, Bungendore\, NSW\, Australia
END:VEVENT
BEGIN:VEVENT
DTSTART;VALUE=DATE:20241012
DTEND;VALUE=DATE:20241013
DTSTAMP:20260426T015851
CREATED:20240724T064348Z
LAST-MODIFIED:20240724T064348Z
UID:2780-1728691200-1728777599@bungendoreshowground.com.au
SUMMARY:Amerigo Clinic – covered arena closed to casual use
DESCRIPTION:
URL:https://bungendoreshowground.com.au/event/amerigo-clinic-covered-arena-closed-to-casual-use-9/
LOCATION:Mathews Lane off Bungendore Rd\, Bungendore\, NSW\, Australia
END:VEVENT
BEGIN:VEVENT
DTSTART;VALUE=DATE:20241005
DTEND;VALUE=DATE:20241007
DTSTAMP:20260426T015851
CREATED:20240605T113946Z
LAST-MODIFIED:20240619T173833Z
UID:2764-1728086400-1728259199@bungendoreshowground.com.au
SUMMARY:Riding with Sticks (Covered Arena not available for casual use)
DESCRIPTION:
URL:https://bungendoreshowground.com.au/event/riding-with-sticks-provisional-booking-covered-arena-not-available-for-casual-use/
LOCATION:Mathews Lane off Bungendore Rd\, Bungendore\, NSW\, Australia
END:VEVENT
BEGIN:VEVENT
DTSTART;VALUE=DATE:20240929
DTEND;VALUE=DATE:20240930
DTSTAMP:20260426T015851
CREATED:20230927T012638Z
LAST-MODIFIED:20230927T012638Z
UID:2475-1727568000-1727654399@bungendoreshowground.com.au
SUMMARY:Bungendore Riding Club Training Day
DESCRIPTION:
URL:https://bungendoreshowground.com.au/event/bungendore-riding-club-training-day-4-2024-09-29/
LOCATION:Mathews Lane off Bungendore Rd\, Bungendore\, NSW\, Australia
END:VEVENT
BEGIN:VEVENT
DTSTART;VALUE=DATE:20240928
DTEND;VALUE=DATE:20240929
DTSTAMP:20260426T015851
CREATED:20230927T011205Z
LAST-MODIFIED:20240807T041800Z
UID:2522-1727481600-1727567999@bungendoreshowground.com.au
SUMMARY:Bungendore Sheepdogs (northern arena and sheepyards closed to casual use)
DESCRIPTION:
URL:https://bungendoreshowground.com.au/event/bungendore-sheepdogs-9-2024-09-28/
LOCATION:Mathews Lane off Bungendore Rd\, Bungendore\, NSW\, Australia
CATEGORIES:5 - Carpark
END:VEVENT
BEGIN:VEVENT
DTSTART;VALUE=DATE:20240928
DTEND;VALUE=DATE:20241002
DTSTAMP:20260426T015851
CREATED:20240527T053433Z
LAST-MODIFIED:20240527T053433Z
UID:2747-1727481600-1727827199@bungendoreshowground.com.au
SUMMARY:TRYP Boot Camp (Kitchen\, Hall\, Breezeway\, Pavilion)
DESCRIPTION:
URL:https://bungendoreshowground.com.au/event/tryp-boot-camp-kitchen-hall-breezeway-pavilion-3/
LOCATION:Mathews Lane off Bungendore Rd\, Bungendore\, NSW\, Australia
END:VEVENT
BEGIN:VEVENT
DTSTART;VALUE=DATE:20240923
DTEND;VALUE=DATE:20240928
DTSTAMP:20260426T015851
CREATED:20240527T053227Z
LAST-MODIFIED:20240527T053227Z
UID:2743-1727049600-1727481599@bungendoreshowground.com.au
SUMMARY:TRYP Boot Camp (Kitchen\, Hall\, Breezeway\, Pavilion)
DESCRIPTION:
URL:https://bungendoreshowground.com.au/event/tryp-boot-camp-kitchen-hall-breezeway-pavilion-2/
LOCATION:Mathews Lane off Bungendore Rd\, Bungendore\, NSW\, Australia
END:VEVENT
BEGIN:VEVENT
DTSTART;VALUE=DATE:20240921
DTEND;VALUE=DATE:20240923
DTSTAMP:20260426T015851
CREATED:20240514T020218Z
LAST-MODIFIED:20240514T020218Z
UID:2723-1726876800-1727049599@bungendoreshowground.com.au
SUMMARY:Amerigo Clinic – covered arena closed to casual use
DESCRIPTION:
URL:https://bungendoreshowground.com.au/event/amerigo-clinic-covered-arena-closed-to-casual-use-5/
LOCATION:Mathews Lane off Bungendore Rd\, Bungendore\, NSW\, Australia
END:VEVENT
BEGIN:VEVENT
DTSTART;VALUE=DATE:20240915
DTEND;VALUE=DATE:20240916
DTSTAMP:20260426T015851
CREATED:20231213T200839Z
LAST-MODIFIED:20231213T200839Z
UID:2585-1726358400-1726444799@bungendoreshowground.com.au
SUMMARY:Bungendore Pony Club Gymkhana
DESCRIPTION:
URL:https://bungendoreshowground.com.au/event/bungendore-pony-club-gymkhana/
LOCATION:Mathews Lane off Bungendore Rd\, Bungendore\, NSW\, Australia
END:VEVENT
BEGIN:VEVENT
DTSTART;VALUE=DATE:20240908
DTEND;VALUE=DATE:20240909
DTSTAMP:20260426T015851
CREATED:20230927T013604Z
LAST-MODIFIED:20230927T013604Z
UID:2488-1725753600-1725839999@bungendoreshowground.com.au
SUMMARY:Bungendore Pony Club
DESCRIPTION:
URL:https://bungendoreshowground.com.au/event/bungendore-pony-club-5-2024-09-08/
LOCATION:Mathews Lane off Bungendore Rd\, Bungendore\, NSW\, Australia
END:VEVENT
BEGIN:VEVENT
DTSTART;VALUE=DATE:20240907
DTEND;VALUE=DATE:20240908
DTSTAMP:20260426T015851
CREATED:20240514T020115Z
LAST-MODIFIED:20240514T020115Z
UID:2719-1725667200-1725753599@bungendoreshowground.com.au
SUMMARY:Amerigo Clinic – covered arena closed to casual use
DESCRIPTION:
URL:https://bungendoreshowground.com.au/event/amerigo-clinic-covered-arena-closed-to-casual-use-4/
LOCATION:Mathews Lane off Bungendore Rd\, Bungendore\, NSW\, Australia
END:VEVENT
BEGIN:VEVENT
DTSTART;VALUE=DATE:20240826
DTEND;VALUE=DATE:20240901
DTSTAMP:20260426T015851
CREATED:20240527T053145Z
LAST-MODIFIED:20240527T053145Z
UID:2740-1724630400-1725148799@bungendoreshowground.com.au
SUMMARY:TRYP Boot Camp (Kitchen\, Hall\, Breezeway\, Pavilion)
DESCRIPTION:
URL:https://bungendoreshowground.com.au/event/tryp-boot-camp-kitchen-hall-breezeway-pavilion/
LOCATION:Mathews Lane off Bungendore Rd\, Bungendore\, NSW\, Australia
END:VEVENT
BEGIN:VEVENT
DTSTART;VALUE=DATE:20240825
DTEND;VALUE=DATE:20240826
DTSTAMP:20260426T015851
CREATED:20230927T012638Z
LAST-MODIFIED:20230927T012638Z
UID:2474-1724544000-1724630399@bungendoreshowground.com.au
SUMMARY:Bungendore Riding Club Training Day
DESCRIPTION:
URL:https://bungendoreshowground.com.au/event/bungendore-riding-club-training-day-4-2024-08-25/
LOCATION:Mathews Lane off Bungendore Rd\, Bungendore\, NSW\, Australia
END:VEVENT
BEGIN:VEVENT
DTSTART;VALUE=DATE:20240825
DTEND;VALUE=DATE:20240826
DTSTAMP:20260426T015851
CREATED:20240516T081247Z
LAST-MODIFIED:20240516T081247Z
UID:2735-1724544000-1724630399@bungendoreshowground.com.au
SUMMARY:Amerigo Clinic – covered arena closed to casual use
DESCRIPTION:
URL:https://bungendoreshowground.com.au/event/amerigo-clinic-covered-arena-closed-to-casual-use-6/
LOCATION:Mathews Lane off Bungendore Rd\, Bungendore\, NSW\, Australia
END:VEVENT
BEGIN:VEVENT
DTSTART;VALUE=DATE:20240824
DTEND;VALUE=DATE:20240825
DTSTAMP:20260426T015851
CREATED:20230927T011205Z
LAST-MODIFIED:20240807T041800Z
UID:2521-1724457600-1724543999@bungendoreshowground.com.au
SUMMARY:Bungendore Sheepdogs (northern arena and sheepyards closed to casual use)
DESCRIPTION:
URL:https://bungendoreshowground.com.au/event/bungendore-sheepdogs-9-2024-08-24/
LOCATION:Mathews Lane off Bungendore Rd\, Bungendore\, NSW\, Australia
CATEGORIES:5 - Carpark
END:VEVENT
BEGIN:VEVENT
DTSTART;VALUE=DATE:20240824
DTEND;VALUE=DATE:20240825
DTSTAMP:20260426T015851
CREATED:20240514T015448Z
LAST-MODIFIED:20240514T015448Z
UID:2716-1724457600-1724543999@bungendoreshowground.com.au
SUMMARY:Amerigo Clinic – covered arena closed to casual use
DESCRIPTION:
URL:https://bungendoreshowground.com.au/event/amerigo-clinic-covered-arena-closed-to-casual-use-3/
LOCATION:Mathews Lane off Bungendore Rd\, Bungendore\, NSW\, Australia
END:VEVENT
BEGIN:VEVENT
DTSTART;VALUE=DATE:20240817
DTEND;VALUE=DATE:20240819
DTSTAMP:20260426T015851
CREATED:20231117T053556Z
LAST-MODIFIED:20231117T053556Z
UID:2547-1723852800-1724025599@bungendoreshowground.com.au
SUMMARY:Zone 16 Mounted Games Sunday (set up Saturday)
DESCRIPTION:
URL:https://bungendoreshowground.com.au/event/zone-16-mounted-games-sunday-set-up-saturday/
LOCATION:Mathews Lane off Bungendore Rd\, Bungendore\, NSW\, Australia
END:VEVENT
BEGIN:VEVENT
DTSTART;VALUE=DATE:20240816
DTEND;VALUE=DATE:20240817
DTSTAMP:20260426T015851
CREATED:20240721T032459Z
LAST-MODIFIED:20240721T032459Z
UID:2777-1723766400-1723852799@bungendoreshowground.com.au
SUMMARY:RFS Helicopter Insertion Training (main arena closed to casual use)
DESCRIPTION:
URL:https://bungendoreshowground.com.au/event/rfs-helicopter-insertion-training-main-arena-closed-to-casual-use/
LOCATION:Mathews Lane off Bungendore Rd\, Bungendore\, NSW\, Australia
CATEGORIES:Exclusive Use Closed to Casual Camping
END:VEVENT
BEGIN:VEVENT
DTSTART;VALUE=DATE:20240811
DTEND;VALUE=DATE:20240812
DTSTAMP:20260426T015851
CREATED:20230927T013604Z
LAST-MODIFIED:20230927T013604Z
UID:2487-1723334400-1723420799@bungendoreshowground.com.au
SUMMARY:Bungendore Pony Club
DESCRIPTION:
URL:https://bungendoreshowground.com.au/event/bungendore-pony-club-5-2024-08-11/
LOCATION:Mathews Lane off Bungendore Rd\, Bungendore\, NSW\, Australia
END:VEVENT
BEGIN:VEVENT
DTSTART;VALUE=DATE:20240810
DTEND;VALUE=DATE:20240811
DTSTAMP:20260426T015851
CREATED:20240514T015403Z
LAST-MODIFIED:20240514T015403Z
UID:2713-1723248000-1723334399@bungendoreshowground.com.au
SUMMARY:Amerigo Clinic – covered arena closed to casual use
DESCRIPTION:
URL:https://bungendoreshowground.com.au/event/amerigo-clinic-covered-arena-closed-to-casual-use-2/
LOCATION:Mathews Lane off Bungendore Rd\, Bungendore\, NSW\, Australia
END:VEVENT
BEGIN:VEVENT
DTSTART;VALUE=DATE:20240804
DTEND;VALUE=DATE:20240805
DTSTAMP:20260426T015851
CREATED:20240514T005505Z
LAST-MODIFIED:20240626T164409Z
UID:2704-1722729600-1722815999@bungendoreshowground.com.au
SUMMARY:Bungendore Show trial gymkhana
DESCRIPTION:
URL:https://bungendoreshowground.com.au/event/bungendore-show-trial-gymkhana/
LOCATION:Mathews Lane off Bungendore Rd\, Bungendore\, NSW\, Australia
END:VEVENT
BEGIN:VEVENT
DTSTART;VALUE=DATE:20240728
DTEND;VALUE=DATE:20240729
DTSTAMP:20260426T015851
CREATED:20230927T012638Z
LAST-MODIFIED:20230927T012638Z
UID:2473-1722124800-1722211199@bungendoreshowground.com.au
SUMMARY:Bungendore Riding Club Training Day
DESCRIPTION:
URL:https://bungendoreshowground.com.au/event/bungendore-riding-club-training-day-4-2024-07-28/
LOCATION:Mathews Lane off Bungendore Rd\, Bungendore\, NSW\, Australia
END:VEVENT
BEGIN:VEVENT
DTSTART;VALUE=DATE:20240727
DTEND;VALUE=DATE:20240728
DTSTAMP:20260426T015851
CREATED:20230927T011205Z
LAST-MODIFIED:20240807T041759Z
UID:2520-1722038400-1722124799@bungendoreshowground.com.au
SUMMARY:Bungendore Sheepdogs (northern arena and sheepyards closed to casual use)
DESCRIPTION:
URL:https://bungendoreshowground.com.au/event/bungendore-sheepdogs-9-2024-07-27/
LOCATION:Mathews Lane off Bungendore Rd\, Bungendore\, NSW\, Australia
CATEGORIES:5 - Carpark
END:VEVENT
BEGIN:VEVENT
DTSTART;VALUE=DATE:20240727
DTEND;VALUE=DATE:20240728
DTSTAMP:20260426T015851
CREATED:20240514T010634Z
LAST-MODIFIED:20240514T010634Z
UID:2710-1722038400-1722124799@bungendoreshowground.com.au
SUMMARY:Amerigo Clinic - covered arena closed to casual use
DESCRIPTION:
URL:https://bungendoreshowground.com.au/event/amerigo-clinic-covered-arena-closed-to-casual-use/
LOCATION:Mathews Lane off Bungendore Rd\, Bungendore\, NSW\, Australia
END:VEVENT
BEGIN:VEVENT
DTSTART;VALUE=DATE:20240714
DTEND;VALUE=DATE:20240715
DTSTAMP:20260426T015851
CREATED:20230927T013604Z
LAST-MODIFIED:20230927T013604Z
UID:2486-1720915200-1721001599@bungendoreshowground.com.au
SUMMARY:Bungendore Pony Club
DESCRIPTION:
URL:https://bungendoreshowground.com.au/event/bungendore-pony-club-5-2024-07-14/
LOCATION:Mathews Lane off Bungendore Rd\, Bungendore\, NSW\, Australia
END:VEVENT
BEGIN:VEVENT
DTSTART;VALUE=DATE:20240713
DTEND;VALUE=DATE:20240714
DTSTAMP:20260426T015851
CREATED:20240407T063113Z
LAST-MODIFIED:20240407T222940Z
UID:2698-1720828800-1720915199@bungendoreshowground.com.au
SUMMARY:Brett Laundess Clinic – Covered Arena Closed to Casual Use
DESCRIPTION:
URL:https://bungendoreshowground.com.au/event/brett-laundess-clinic-covered-arena-closed-to-casual-use-2-2024-07-13/
LOCATION:Mathews Lane off Bungendore Rd\, Bungendore\, NSW\, Australia
END:VEVENT
BEGIN:VEVENT
DTSTART;VALUE=DATE:20240712
DTEND;VALUE=DATE:20240714
DTSTAMP:20260426T015851
CREATED:20230927T014618Z
LAST-MODIFIED:20240321T003716Z
UID:2493-1720742400-1720915199@bungendoreshowground.com.au
SUMMARY:Bungendore and Palerang Dog Show
DESCRIPTION:
URL:https://bungendoreshowground.com.au/event/bungendore-and-palerang-dog-show-2/
LOCATION:Mathews Lane off Bungendore Rd\, Bungendore\, NSW\, Australia
CATEGORIES:5 - Carpark
END:VEVENT
BEGIN:VEVENT
DTSTART;VALUE=DATE:20240630
DTEND;VALUE=DATE:20240701
DTSTAMP:20260426T015851
CREATED:20230927T012638Z
LAST-MODIFIED:20231219T202622Z
UID:2472-1719705600-1719791999@bungendoreshowground.com.au
SUMMARY:Bungendore Riding Club Training Day Covered Arena Closed for Casual Use
DESCRIPTION:
URL:https://bungendoreshowground.com.au/event/bungendore-riding-club-training-day-4-2024-06-30/
LOCATION:Mathews Lane off Bungendore Rd\, Bungendore\, NSW\, Australia
END:VEVENT
BEGIN:VEVENT
DTSTART;VALUE=DATE:20240622
DTEND;VALUE=DATE:20240624
DTSTAMP:20260426T015851
CREATED:20240407T062751Z
LAST-MODIFIED:20240407T062751Z
UID:2688-1719014400-1719187199@bungendoreshowground.com.au
SUMMARY:Brett Laundess Clinic – Covered Arena Closed to Casual Use
DESCRIPTION:
URL:https://bungendoreshowground.com.au/event/brett-laundess-clinic-covered-arena-closed-to-casual-use/
LOCATION:Mathews Lane off Bungendore Rd\, Bungendore\, NSW\, Australia
END:VEVENT
END:VCALENDAR