BEGIN:VCALENDAR
VERSION:2.0
PRODID:-//Bungendore Showground - ECPv6.15.17//NONSGML v1.0//EN
CALSCALE:GREGORIAN
METHOD:PUBLISH
X-WR-CALNAME:Bungendore Showground
X-ORIGINAL-URL:https://bungendoreshowground.com.au
X-WR-CALDESC:Events for Bungendore Showground
REFRESH-INTERVAL;VALUE=DURATION:PT1H
X-Robots-Tag:noindex
X-PUBLISHED-TTL:PT1H
BEGIN:VTIMEZONE
TZID:Australia/Sydney
BEGIN:STANDARD
TZOFFSETFROM:+1100
TZOFFSETTO:+1000
TZNAME:AEST
DTSTART:20160402T160000
END:STANDARD
BEGIN:DAYLIGHT
TZOFFSETFROM:+1000
TZOFFSETTO:+1100
TZNAME:AEDT
DTSTART:20161001T160000
END:DAYLIGHT
BEGIN:STANDARD
TZOFFSETFROM:+1100
TZOFFSETTO:+1000
TZNAME:AEST
DTSTART:20170401T160000
END:STANDARD
BEGIN:DAYLIGHT
TZOFFSETFROM:+1000
TZOFFSETTO:+1100
TZNAME:AEDT
DTSTART:20170930T160000
END:DAYLIGHT
BEGIN:STANDARD
TZOFFSETFROM:+1100
TZOFFSETTO:+1000
TZNAME:AEST
DTSTART:20180331T160000
END:STANDARD
BEGIN:DAYLIGHT
TZOFFSETFROM:+1000
TZOFFSETTO:+1100
TZNAME:AEDT
DTSTART:20181006T160000
END:DAYLIGHT
BEGIN:STANDARD
TZOFFSETFROM:+1100
TZOFFSETTO:+1000
TZNAME:AEST
DTSTART:20190406T160000
END:STANDARD
BEGIN:DAYLIGHT
TZOFFSETFROM:+1000
TZOFFSETTO:+1100
TZNAME:AEDT
DTSTART:20191005T160000
END:DAYLIGHT
END:VTIMEZONE
BEGIN:VEVENT
DTSTART;VALUE=DATE:20180429
DTEND;VALUE=DATE:20180430
DTSTAMP:20260425T224628
CREATED:20171024T094935Z
LAST-MODIFIED:20180314T204918Z
UID:759-1524960000-1525046399@bungendoreshowground.com.au
SUMMARY:BRC Training Day
DESCRIPTION:
URL:https://bungendoreshowground.com.au/event/brc-training-day-2018-04-22/
LOCATION:Mathews Lane off Bungendore Rd\, Bungendore\, NSW\, Australia
CATEGORIES:Shared Hire
END:VEVENT
BEGIN:VEVENT
DTSTART;VALUE=DATE:20180428
DTEND;VALUE=DATE:20180429
DTSTAMP:20260425T224628
CREATED:20171022T014852Z
LAST-MODIFIED:20180220T092530Z
UID:722-1524873600-1524959999@bungendoreshowground.com.au
SUMMARY:Bungendore Sheepdogs
DESCRIPTION:
URL:https://bungendoreshowground.com.au/event/bungendore-sheepdogs-2018-04-28/
LOCATION:Mathews Lane off Bungendore Rd\, Bungendore\, NSW\, Australia
END:VEVENT
BEGIN:VEVENT
DTSTART;VALUE=DATE:20180428
DTEND;VALUE=DATE:20180429
DTSTAMP:20260425T224628
CREATED:20180220T092209Z
LAST-MODIFIED:20180220T092209Z
UID:903-1524873600-1524959999@bungendoreshowground.com.au
SUMMARY:Bungendore Sheepdogs
DESCRIPTION:
URL:https://bungendoreshowground.com.au/event/bungendore-sheepdogs-2/
LOCATION:Mathews Lane off Bungendore Rd\, Bungendore\, NSW\, Australia
END:VEVENT
BEGIN:VEVENT
DTSTART;VALUE=DATE:20180414
DTEND;VALUE=DATE:20180424
DTSTAMP:20260425T224628
CREATED:20170527T033925Z
LAST-MODIFIED:20180204T213653Z
UID:491-1523664000-1524527999@bungendoreshowground.com.au
SUMMARY:Zone 16 Pony Club Camp
DESCRIPTION:
URL:https://bungendoreshowground.com.au/event/zone-16-pony-club-camp-2/
LOCATION:Mathews Lane off Bungendore Rd\, Bungendore\, NSW\, Australia
CATEGORIES:Exclusive Use Closed to Casual Camping,Major Event
END:VEVENT
BEGIN:VEVENT
DTSTART;TZID=Australia/Sydney:20180407T080000
DTEND;TZID=Australia/Sydney:20180408T170000
DTSTAMP:20260425T224628
CREATED:20170902T233859Z
LAST-MODIFIED:20170902T233859Z
UID:548-1523088000-1523206800@bungendoreshowground.com.au
SUMMARY:Bungendore Polocrosse Carnival
DESCRIPTION:
URL:https://bungendoreshowground.com.au/event/bungendore-polocrosse-carnival/
LOCATION:Main Arena\, Horse Yards\, Dining Hall\, Mathews Lane off Bungendore Rd\, Bungendore\, NSW\, Australia
CATEGORIES:Shared Hire
ORGANIZER;CN="Bungendore Polo X Club":MAILTO:fiona@figuretree.com.au
END:VEVENT
BEGIN:VEVENT
DTSTART;VALUE=DATE:20180324
DTEND;VALUE=DATE:20180326
DTSTAMP:20260425T224628
CREATED:20171016T094834Z
LAST-MODIFIED:20171028T013849Z
UID:632-1521849600-1522022399@bungendoreshowground.com.au
SUMMARY:Lake George PoloX Carnival
DESCRIPTION:
URL:https://bungendoreshowground.com.au/event/lake-george-polox-carnival/
LOCATION:NSW
CATEGORIES:Major Event
END:VEVENT
BEGIN:VEVENT
DTSTART;VALUE=DATE:20180317
DTEND;VALUE=DATE:20180319
DTSTAMP:20260425T224628
CREATED:20171024T094205Z
LAST-MODIFIED:20171024T094401Z
UID:746-1521244800-1521417599@bungendoreshowground.com.au
SUMMARY:BRC Classic Dressage Day
DESCRIPTION:
URL:https://bungendoreshowground.com.au/event/brc-classic/
LOCATION:Mathews Lane off Bungendore Rd\, Bungendore\, NSW\, Australia
END:VEVENT
BEGIN:VEVENT
DTSTART;VALUE=DATE:20180310
DTEND;VALUE=DATE:20180312
DTSTAMP:20260425T224628
CREATED:20180202T212911Z
LAST-MODIFIED:20180202T212911Z
UID:862-1520640000-1520812799@bungendoreshowground.com.au
SUMMARY:NSW Mounted Games Association
DESCRIPTION:
URL:https://bungendoreshowground.com.au/event/nsw-mounted-games-association/
LOCATION:Mathews Lane off Bungendore Rd\, Bungendore\, NSW\, Australia
CATEGORIES:Shared Hire
END:VEVENT
BEGIN:VEVENT
DTSTART;VALUE=DATE:20180310
DTEND;VALUE=DATE:20180311
DTSTAMP:20260425T224628
CREATED:20180123T203821Z
LAST-MODIFIED:20180123T203821Z
UID:852-1520640000-1520726399@bungendoreshowground.com.au
SUMMARY:Family Reunion in Hall
DESCRIPTION:
URL:https://bungendoreshowground.com.au/event/family-reunion-hall/
LOCATION:Mathews Lane off Bungendore Rd\, Bungendore\, NSW\, Australia
END:VEVENT
BEGIN:VEVENT
DTSTART;TZID=Australia/Sydney:20180303T090000
DTEND;TZID=Australia/Sydney:20180303T120000
DTSTAMP:20260425T224628
CREATED:20180220T091625Z
LAST-MODIFIED:20180220T091625Z
UID:876-1520067600-1520078400@bungendoreshowground.com.au
SUMMARY:Monaro Archers
DESCRIPTION:
URL:https://bungendoreshowground.com.au/event/monaro-archers/
LOCATION:Mathews Lane off Bungendore Rd\, Bungendore\, NSW\, Australia
END:VEVENT
BEGIN:VEVENT
DTSTART;TZID=Australia/Sydney:20180301T080000
DTEND;TZID=Australia/Sydney:20180304T170000
DTSTAMP:20260425T224628
CREATED:20170820T224706Z
LAST-MODIFIED:20170820T224706Z
UID:532-1519891200-1520182800@bungendoreshowground.com.au
SUMMARY:Zone 3 Show Girl Finals
DESCRIPTION:
URL:https://bungendoreshowground.com.au/event/zone-3-show-girl-finals/
LOCATION:Pavilion\, Dining Hall\, Breezeway\, Mathews Lane off Bungendore Rd\, Bungendore\, NSW\, Australia
CATEGORIES:Shared Hire
ORGANIZER;CN="Bungendore PAH Society":MAILTO:bungendoreshowsec@gmail.com 
END:VEVENT
BEGIN:VEVENT
DTSTART;VALUE=DATE:20180224
DTEND;VALUE=DATE:20180225
DTSTAMP:20260425T224628
CREATED:20180107T074850Z
LAST-MODIFIED:20180107T074850Z
UID:824-1519430400-1519516799@bungendoreshowground.com.au
SUMMARY:Hall & Kitchen
DESCRIPTION:
URL:https://bungendoreshowground.com.au/event/hall-kitchen/
LOCATION:Mathews Lane off Bungendore Rd\, Bungendore\, NSW\, Australia
END:VEVENT
BEGIN:VEVENT
DTSTART;VALUE=DATE:20180129
DTEND;VALUE=DATE:20180206
DTSTAMP:20260425T224628
CREATED:20171011T093816Z
LAST-MODIFIED:20171013T044111Z
UID:605-1517184000-1517875199@bungendoreshowground.com.au
SUMMARY:Country Muster
DESCRIPTION:
URL:https://bungendoreshowground.com.au/event/country-muster/
LOCATION:Mathews Lane off Bungendore Rd\, Bungendore\, NSW\, Australia
CATEGORIES:Exclusive Use Closed to Casual Camping
END:VEVENT
BEGIN:VEVENT
DTSTART;TZID=Australia/Sydney:20180120T080000
DTEND;TZID=Australia/Sydney:20180129T170000
DTSTAMP:20260425T224628
CREATED:20170209T051145Z
LAST-MODIFIED:20170209T051145Z
UID:312-1516435200-1517245200@bungendoreshowground.com.au
SUMMARY:2018 Bungendore Show
DESCRIPTION:
URL:https://bungendoreshowground.com.au/event/2018-bungendore-show/
LOCATION:Bungendore Showgrounds & Racecourse\, Mathews Lane off Bungendore Rd\, Bungendore\, NSW\, Australia
CATEGORIES:Exclusive Use Closed to Casual Camping
ORGANIZER;CN="Bungendore PAH Society":MAILTO:bungendoreshowsec@gmail.com 
END:VEVENT
BEGIN:VEVENT
DTSTART;VALUE=DATE:20180114
DTEND;VALUE=DATE:20180115
DTSTAMP:20260425T224628
CREATED:20171010T092230Z
LAST-MODIFIED:20171010T092551Z
UID:570-1515888000-1515974399@bungendoreshowground.com.au
SUMMARY:Bungendore Pony Club Rally Day
DESCRIPTION:
URL:https://bungendoreshowground.com.au/event/bungendore-pony-club-rally-day/
LOCATION:Mathews Lane off Bungendore Rd\, Bungendore\, NSW\, Australia
END:VEVENT
BEGIN:VEVENT
DTSTART;VALUE=DATE:20180112
DTEND;VALUE=DATE:20180115
DTSTAMP:20260425T224628
CREATED:20171006T195323Z
LAST-MODIFIED:20171024T085647Z
UID:555-1515715200-1515974399@bungendoreshowground.com.au
SUMMARY:Lake George and Wamboin District Kennel Club Annual January Dog Show
DESCRIPTION:
URL:https://bungendoreshowground.com.au/event/lake-george-wamboin-district-kennel-club-annual-january-dog-show/
LOCATION:NSW
CATEGORIES:Major Event
END:VEVENT
BEGIN:VEVENT
DTSTART;VALUE=DATE:20180105
DTEND;VALUE=DATE:20180109
DTSTAMP:20260425T224628
CREATED:20171024T085900Z
LAST-MODIFIED:20171024T091802Z
UID:743-1515110400-1515455999@bungendoreshowground.com.au
SUMMARY:Gearys Gap Pony Club Camp (TBC)
DESCRIPTION:
URL:https://bungendoreshowground.com.au/event/gearys-gap-pony-club-camp-tbc/
LOCATION:Mathews Lane off Bungendore Rd\, Bungendore\, NSW\, Australia
END:VEVENT
BEGIN:VEVENT
DTSTART;TZID=Australia/Sydney:20171222T180000
DTEND;TZID=Australia/Sydney:20171222T210000
DTSTAMP:20260425T224628
CREATED:20170314T043404Z
LAST-MODIFIED:20170314T043404Z
UID:429-1513965600-1513976400@bungendoreshowground.com.au
SUMMARY:Monaro Archers Member Evening
DESCRIPTION:
URL:https://bungendoreshowground.com.au/event/monaro-archers-member-evening-3/
LOCATION:Bungendore Showgrounds & Racecourse\, Mathews Lane off Bungendore Rd\, Bungendore\, NSW\, Australia
CATEGORIES:Shared Hire
ATTACH;FMTTYPE=image/jpeg:https://bungendoreshowground.com.au/wp-content/uploads/2017/02/Monaro-Archers-4.jpg
END:VEVENT
BEGIN:VEVENT
DTSTART;TZID=Australia/Sydney:20171216T090000
DTEND;TZID=Australia/Sydney:20171216T120000
DTSTAMP:20260425T224628
CREATED:20170314T043236Z
LAST-MODIFIED:20170314T043236Z
UID:427-1513414800-1513425600@bungendoreshowground.com.au
SUMMARY:Monaro Archers Member Day
DESCRIPTION:
URL:https://bungendoreshowground.com.au/event/monaro-archers-member-day-16/
LOCATION:Bungendore Showgrounds & Racecourse\, Mathews Lane off Bungendore Rd\, Bungendore\, NSW\, Australia
CATEGORIES:Shared Hire
ATTACH;FMTTYPE=image/jpeg:https://bungendoreshowground.com.au/wp-content/uploads/2017/02/Monaro-Archers-4.jpg
END:VEVENT
BEGIN:VEVENT
DTSTART;TZID=Australia/Sydney:20171216T080000
DTEND;TZID=Australia/Sydney:20171216T150000
DTSTAMP:20260425T224628
CREATED:20170209T051049Z
LAST-MODIFIED:20170209T051049Z
UID:310-1513411200-1513436400@bungendoreshowground.com.au
SUMMARY:Bungendore & District Sheepdog Assoc Member Day
DESCRIPTION:
URL:https://bungendoreshowground.com.au/event/bungendore-district-sheepdog-assoc-member-day-7/
LOCATION:Bungendore Showgrounds & Racecourse\, Mathews Lane off Bungendore Rd\, Bungendore\, NSW\, Australia
CATEGORIES:Shared Hire
END:VEVENT
BEGIN:VEVENT
DTSTART;VALUE=DATE:20171211
DTEND;VALUE=DATE:20171212
DTSTAMP:20260425T224628
CREATED:20171113T074030Z
LAST-MODIFIED:20171113T074030Z
UID:805-1512950400-1513036799@bungendoreshowground.com.au
SUMMARY:AQUIS Christmas Party
DESCRIPTION:
URL:https://bungendoreshowground.com.au/event/aquis-christmas-party/
LOCATION:Mathews Lane off Bungendore Rd\, Bungendore\, NSW\, Australia
ORGANIZER;CN="AQUIS":MAILTO:anerike@aquisentertainment.com
END:VEVENT
BEGIN:VEVENT
DTSTART;VALUE=DATE:20171210
DTEND;VALUE=DATE:20171211
DTSTAMP:20260425T224628
CREATED:20170209T050956Z
LAST-MODIFIED:20170527T035048Z
UID:308-1512864000-1512950399@bungendoreshowground.com.au
SUMMARY:Bungendore Pony Club Rally Day Incl Kitchen
DESCRIPTION:
URL:https://bungendoreshowground.com.au/event/bungendore-pony-club-rally-day-7/
LOCATION:Bungendore Showgrounds & Racecourse\, Mathews Lane off Bungendore Rd\, Bungendore\, NSW\, Australia
CATEGORIES:Shared Hire
END:VEVENT
BEGIN:VEVENT
DTSTART;TZID=Australia/Sydney:20171208T180000
DTEND;TZID=Australia/Sydney:20171208T210000
DTSTAMP:20260425T224628
CREATED:20170314T043127Z
LAST-MODIFIED:20170314T043127Z
UID:425-1512756000-1512766800@bungendoreshowground.com.au
SUMMARY:Monaro Archers Member Evening
DESCRIPTION:
URL:https://bungendoreshowground.com.au/event/monaro-archers-member-evening-2/
LOCATION:Bungendore Showgrounds & Racecourse\, Mathews Lane off Bungendore Rd\, Bungendore\, NSW\, Australia
CATEGORIES:Shared Hire
ATTACH;FMTTYPE=image/jpeg:https://bungendoreshowground.com.au/wp-content/uploads/2017/02/Monaro-Archers-4.jpg
END:VEVENT
BEGIN:VEVENT
DTSTART;TZID=Australia/Sydney:20171208T080000
DTEND;TZID=Australia/Sydney:20171210T170000
DTSTAMP:20260425T224628
CREATED:20170820T225023Z
LAST-MODIFIED:20170821T074701Z
UID:535-1512720000-1512925200@bungendoreshowground.com.au
SUMMARY:Jeep Club Christmas Gathering
DESCRIPTION:
URL:https://bungendoreshowground.com.au/event/jeep-club-christmas-gathering/
LOCATION:Defined are of Campground\, Dining Hall Sat 9/12 Evening\, Mathews Lane off Bungendore Rd\, Bungendore\, NSW\, Australia
CATEGORIES:Shared Hire
END:VEVENT
BEGIN:VEVENT
DTSTART;VALUE=DATE:20171204
DTEND;VALUE=DATE:20171205
DTSTAMP:20260425T224628
CREATED:20171028T022413Z
LAST-MODIFIED:20171028T022413Z
UID:792-1512345600-1512431999@bungendoreshowground.com.au
SUMMARY:Dressage Training
DESCRIPTION:
URL:https://bungendoreshowground.com.au/event/dressage-training/
LOCATION:Mathews Lane off Bungendore Rd\, Bungendore\, NSW\, Australia
ORGANIZER;CN="Marion Kilby":MAILTO:marion.kilby@icloud.com
END:VEVENT
BEGIN:VEVENT
DTSTART;TZID=Australia/Sydney:20171202T090000
DTEND;TZID=Australia/Sydney:20171202T120000
DTSTAMP:20260425T224628
CREATED:20170314T043010Z
LAST-MODIFIED:20170314T043010Z
UID:422-1512205200-1512216000@bungendoreshowground.com.au
SUMMARY:Monaro Archers Member Day
DESCRIPTION:
URL:https://bungendoreshowground.com.au/event/monaro-archers-member-day-15/
LOCATION:Mathews Lane off Bungendore Rd\, Bungendore\, NSW\, Australia
CATEGORIES:Shared Hire
ATTACH;FMTTYPE=image/jpeg:https://bungendoreshowground.com.au/wp-content/uploads/2017/02/Monaro-Archers-4.jpg
END:VEVENT
BEGIN:VEVENT
DTSTART;VALUE=DATE:20171201
DTEND;VALUE=DATE:20171204
DTSTAMP:20260425T224628
CREATED:20170529T004000Z
LAST-MODIFIED:20170529T004224Z
UID:495-1512086400-1512345599@bungendoreshowground.com.au
SUMMARY:SCA (Medieval)
DESCRIPTION:
URL:https://bungendoreshowground.com.au/event/sca-medieval/
LOCATION:Mathews Lane off Bungendore Rd\, Bungendore\, NSW\, Australia
CATEGORIES:Major Event
END:VEVENT
BEGIN:VEVENT
DTSTART;VALUE=DATE:20171126
DTEND;VALUE=DATE:20171127
DTSTAMP:20260425T224628
CREATED:20170209T050907Z
LAST-MODIFIED:20170209T050907Z
UID:306-1511654400-1511740799@bungendoreshowground.com.au
SUMMARY:Bungendore Riding Club Member Day
DESCRIPTION:
URL:https://bungendoreshowground.com.au/event/bungendore-riding-club-member-day-7/
LOCATION:Bungendore Showgrounds & Racecourse\, Mathews Lane off Bungendore Rd\, Bungendore\, NSW\, Australia
CATEGORIES:Shared Hire
END:VEVENT
BEGIN:VEVENT
DTSTART;TZID=Australia/Sydney:20171125T080000
DTEND;TZID=Australia/Sydney:20171125T150000
DTSTAMP:20260425T224628
CREATED:20170209T050801Z
LAST-MODIFIED:20170209T050801Z
UID:304-1511596800-1511622000@bungendoreshowground.com.au
SUMMARY:Bungendore & District Sheepdog Assoc Member Day
DESCRIPTION:
URL:https://bungendoreshowground.com.au/event/bungendore-district-sheepdog-assoc-member-day-6/
LOCATION:Bungendore Showgrounds & Racecourse\, Mathews Lane off Bungendore Rd\, Bungendore\, NSW\, Australia
CATEGORIES:Shared Hire
END:VEVENT
BEGIN:VEVENT
DTSTART;TZID=Australia/Sydney:20171118T080000
DTEND;TZID=Australia/Sydney:20171119T170000
DTSTAMP:20260425T224628
CREATED:20170209T050700Z
LAST-MODIFIED:20170821T074813Z
UID:301-1510992000-1511110800@bungendoreshowground.com.au
SUMMARY:OBSTA SPLASH
DESCRIPTION:2017 OBSTA SPLASH PROMOTIONAL VIDEO \nSlip\, stack\, splash\, music and mayhem. It’s time to get off the couch and put all those new years resolutions to good use. ObstaSplash spans 3-5km of flat grassland with a mixture of wet and dry inflatable obstacles such as “ObstaScream” ObstaBlueBalls and ObstaDance stations (giant inflatable dance floors) with themed music to get your groove on. ObstaSplash is open to ages 13+ \nObstaSplash is proudly 100% Australian owned and operated.
URL:https://bungendoreshowground.com.au/event/obsta-splash/
LOCATION:Bungendore Showgrounds & Racecourse\, Mathews Lane off Bungendore Rd\, Bungendore\, NSW\, Australia
CATEGORIES:Major Event,Shared Hire
ATTACH;FMTTYPE=image/png:https://bungendoreshowground.com.au/wp-content/uploads/2017/02/ObstaSplash_logo_x2.png
END:VEVENT
END:VCALENDAR