BEGIN:VCALENDAR
VERSION:2.0
PRODID:-//Bungendore Showground - ECPv6.15.17//NONSGML v1.0//EN
CALSCALE:GREGORIAN
METHOD:PUBLISH
X-WR-CALNAME:Bungendore Showground
X-ORIGINAL-URL:https://bungendoreshowground.com.au
X-WR-CALDESC:Events for Bungendore Showground
REFRESH-INTERVAL;VALUE=DURATION:PT1H
X-Robots-Tag:noindex
X-PUBLISHED-TTL:PT1H
BEGIN:VTIMEZONE
TZID:Australia/Sydney
BEGIN:STANDARD
TZOFFSETFROM:+1100
TZOFFSETTO:+1000
TZNAME:AEST
DTSTART:20240406T160000
END:STANDARD
BEGIN:DAYLIGHT
TZOFFSETFROM:+1000
TZOFFSETTO:+1100
TZNAME:AEDT
DTSTART:20241005T160000
END:DAYLIGHT
BEGIN:STANDARD
TZOFFSETFROM:+1100
TZOFFSETTO:+1000
TZNAME:AEST
DTSTART:20250405T160000
END:STANDARD
BEGIN:DAYLIGHT
TZOFFSETFROM:+1000
TZOFFSETTO:+1100
TZNAME:AEDT
DTSTART:20251004T160000
END:DAYLIGHT
BEGIN:STANDARD
TZOFFSETFROM:+1100
TZOFFSETTO:+1000
TZNAME:AEST
DTSTART:20260404T160000
END:STANDARD
BEGIN:DAYLIGHT
TZOFFSETFROM:+1000
TZOFFSETTO:+1100
TZNAME:AEDT
DTSTART:20261003T160000
END:DAYLIGHT
END:VTIMEZONE
BEGIN:VEVENT
DTSTART;VALUE=DATE:20250727
DTEND;VALUE=DATE:20250728
DTSTAMP:20260425T212205
CREATED:20241010T150057Z
LAST-MODIFIED:20250505T062529Z
UID:2908-1753574400-1753660799@bungendoreshowground.com.au
SUMMARY:BRC Rally Day (Covered Arena available)
DESCRIPTION:
URL:https://bungendoreshowground.com.au/event/brc-rally-day-covered-arena-available-4/
LOCATION:Mathews Lane off Bungendore Rd\, Bungendore\, NSW\, Australia
CATEGORIES:1 - Main Arena,17 - Equestrian Parking,18 - Horse Yards South West,19 - Horse Yards South East,2 - Equestrian Parking,20 - Container/Shed Storage,42 - Equestrian Parking,6 - Dressage Arena,7 - Jumping Arena
END:VEVENT
BEGIN:VEVENT
DTSTART;VALUE=DATE:20250726
DTEND;VALUE=DATE:20250727
DTSTAMP:20260425T212205
CREATED:20241218T222642Z
LAST-MODIFIED:20250505T061056Z
UID:2998-1753488000-1753574399@bungendoreshowground.com.au
SUMMARY:BADSA (Northern Arena unavailable for casual use)
DESCRIPTION:
URL:https://bungendoreshowground.com.au/event/badsa-northern-arena-unavailable-for-casual-use-3/
LOCATION:Mathews Lane off Bungendore Rd\, Bungendore\, NSW\, Australia
CATEGORIES:3 - Northern Arena,9 - Sheep Yards
END:VEVENT
BEGIN:VEVENT
DTSTART;VALUE=DATE:20250713
DTEND;VALUE=DATE:20250714
DTSTAMP:20260425T212205
CREATED:20240820T020116Z
LAST-MODIFIED:20250505T061008Z
UID:2828-1752364800-1752451199@bungendoreshowground.com.au
SUMMARY:Bungendore Pony Club Rally Day
DESCRIPTION:
URL:https://bungendoreshowground.com.au/event/bungendore-pony-club-rally-day-14/
LOCATION:Mathews Lane off Bungendore Rd\, Bungendore\, NSW\, Australia
CATEGORIES:1 - Main Arena,19 - Horse Yards South East,2 - Equestrian Parking,20 - Container/Shed Storage,42 - Equestrian Parking,6 - Dressage Arena,7 - Jumping Arena
END:VEVENT
BEGIN:VEVENT
DTSTART;VALUE=DATE:20250711
DTEND;VALUE=DATE:20250713
DTSTAMP:20260425T212205
CREATED:20250225T230404Z
LAST-MODIFIED:20250505T060902Z
UID:3056-1752192000-1752364799@bungendoreshowground.com.au
SUMMARY:Bungendore and Palerang District All Breeds Kennel Club
DESCRIPTION:
URL:https://bungendoreshowground.com.au/event/bungendore-and-palerang-district-all-breeds-kennel-club/
LOCATION:Mathews Lane off Bungendore Rd\, Bungendore\, NSW\, Australia
CATEGORIES:12 - Dog Show Arena,13 - Camping Area,16 - South/East Camping Area,17 - Equestrian Parking,18 - Horse Yards South West,25 - Covered Sail Area,26 - Kitchen and Dining Hall,27 - Breezeway Area,28 - Show Pavilion,32 - Southern Toilet/Showers,42 - Equestrian Parking
END:VEVENT
BEGIN:VEVENT
DTSTART;VALUE=DATE:20250627
DTEND;VALUE=DATE:20250630
DTSTAMP:20260425T212205
CREATED:20240902T011617Z
LAST-MODIFIED:20250621T034611Z
UID:2872-1750982400-1751241599@bungendoreshowground.com.au
SUMMARY:NSW Team Sorting (Covered Area Not Available)
DESCRIPTION:
URL:https://bungendoreshowground.com.au/event/tyla-harris-covered-arena-closed-for-casual-use-4/
LOCATION:Mathews Lane off Bungendore Rd\, Bungendore\, NSW\, Australia
CATEGORIES:1 - Main Arena,13 - Camping Area,14 - North/West Camping Area,16 - South/East Camping Area,17 - Equestrian Parking,18 - Horse Yards South West,19 - Horse Yards South East,2 - Equestrian Parking,26 - Kitchen and Dining Hall,27 - Breezeway Area,29 - Main Bar/Cool room,32 - Southern Toilet/Showers,4 - Covered Arena,42 - Equestrian Parking,Major Event = Limited Camping
END:VEVENT
BEGIN:VEVENT
DTSTART;VALUE=DATE:20250622
DTEND;VALUE=DATE:20250623
DTSTAMP:20260425T212205
CREATED:20241010T145938Z
LAST-MODIFIED:20250505T060600Z
UID:2905-1750550400-1750636799@bungendoreshowground.com.au
SUMMARY:BRC Rally Day (Covered Arena unavailable)
DESCRIPTION:
URL:https://bungendoreshowground.com.au/event/brc-rally-day-covered-arena-unavailable/
LOCATION:Mathews Lane off Bungendore Rd\, Bungendore\, NSW\, Australia
CATEGORIES:1 - Main Arena,17 - Equestrian Parking,18 - Horse Yards South West,19 - Horse Yards South East,2 - Equestrian Parking,20 - Container/Shed Storage,4 - Covered Arena,42 - Equestrian Parking,Shared Hire
END:VEVENT
BEGIN:VEVENT
DTSTART;VALUE=DATE:20250619
DTEND;VALUE=DATE:20250623
DTSTAMP:20260425T212205
CREATED:20250127T040815Z
LAST-MODIFIED:20250505T055039Z
UID:3024-1750291200-1750636799@bungendoreshowground.com.au
SUMMARY:Bungendore and District Sheepdog Club Trial
DESCRIPTION:
URL:https://bungendoreshowground.com.au/event/bungendore-and-district-sheepdog-club-trial/
LOCATION:Mathews Lane off Bungendore Rd\, Bungendore\, NSW\, Australia
CATEGORIES:15 - Northern Camping Area,3 - Northern Arena,32 - Southern Toilet/Showers
END:VEVENT
BEGIN:VEVENT
DTSTART;VALUE=DATE:20250614
DTEND;VALUE=DATE:20250616
DTSTAMP:20260425T212205
CREATED:20240902T011554Z
LAST-MODIFIED:20250505T054613Z
UID:2869-1749859200-1750031999@bungendoreshowground.com.au
SUMMARY:Tyla Harris (Covered Arena closed for casual use)
DESCRIPTION:
URL:https://bungendoreshowground.com.au/event/tyla-harris-covered-arena-closed-for-casual-use-3/
LOCATION:Mathews Lane off Bungendore Rd\, Bungendore\, NSW\, Australia
CATEGORIES:1 - Main Arena,16 - South/East Camping Area,17 - Equestrian Parking,18 - Horse Yards South West,19 - Horse Yards South East,2 - Equestrian Parking,32 - Southern Toilet/Showers,4 - Covered Arena,42 - Equestrian Parking,Major Event = Limited Camping
END:VEVENT
BEGIN:VEVENT
DTSTART;VALUE=DATE:20250610
DTEND;VALUE=DATE:20250611
DTSTAMP:20260425T212205
CREATED:20250602T093432Z
LAST-MODIFIED:20250602T093432Z
UID:3114-1749513600-1749599999@bungendoreshowground.com.au
SUMMARY:Private Function
DESCRIPTION:
URL:https://bungendoreshowground.com.au/event/private-function-2/
LOCATION:Mathews Lane off Bungendore Rd\, Bungendore\, NSW\, Australia
CATEGORIES:26 - Kitchen and Dining Hall,27 - Breezeway Area,29 - Main Bar/Cool room,30 - Disabled Access Toilet,31 - Outdoor Bar
END:VEVENT
BEGIN:VEVENT
DTSTART;VALUE=DATE:20250531
DTEND;VALUE=DATE:20250601
DTSTAMP:20260425T212205
CREATED:20240820T020058Z
LAST-MODIFIED:20250528T085425Z
UID:2825-1748649600-1748735999@bungendoreshowground.com.au
SUMMARY:Bungendore Pony Club Rally Day
DESCRIPTION:
URL:https://bungendoreshowground.com.au/event/bungendore-pony-club-rally-day-13/
LOCATION:Mathews Lane off Bungendore Rd\, Bungendore\, NSW\, Australia
CATEGORIES:18 - Horse Yards South West,19 - Horse Yards South East,2 - Equestrian Parking,42 - Equestrian Parking,6 - Dressage Arena,7 - Jumping Arena
END:VEVENT
BEGIN:VEVENT
DTSTART;VALUE=DATE:20250525
DTEND;VALUE=DATE:20250526
DTSTAMP:20260425T212205
CREATED:20240604T113128Z
LAST-MODIFIED:20250505T054334Z
UID:2756-1748131200-1748217599@bungendoreshowground.com.au
SUMMARY:Wamboin Pony Club Mounted Games
DESCRIPTION:
URL:https://bungendoreshowground.com.au/event/wamboin-mounted-games-provisional-booking/
LOCATION:Mathews Lane off Bungendore Rd\, Bungendore\, NSW\, Australia
CATEGORIES:1 - Main Arena,17 - Equestrian Parking,18 - Horse Yards South West,19 - Horse Yards South East,2 - Equestrian Parking
END:VEVENT
BEGIN:VEVENT
DTSTART;VALUE=DATE:20250524
DTEND;VALUE=DATE:20250525
DTSTAMP:20260425T212205
CREATED:20241218T222618Z
LAST-MODIFIED:20250505T054720Z
UID:2995-1748044800-1748131199@bungendoreshowground.com.au
SUMMARY:BADSA (Northern Arena unavailable for casual use)
DESCRIPTION:
URL:https://bungendoreshowground.com.au/event/badsa-northern-arena-unavailable-for-casual-use-2/
LOCATION:Mathews Lane off Bungendore Rd\, Bungendore\, NSW\, Australia
CATEGORIES:3 - Northern Arena,Shared Hire
END:VEVENT
BEGIN:VEVENT
DTSTART;VALUE=DATE:20250517
DTEND;VALUE=DATE:20250519
DTSTAMP:20260425T212205
CREATED:20241117T071606Z
LAST-MODIFIED:20250505T054008Z
UID:2938-1747440000-1747612799@bungendoreshowground.com.au
SUMMARY:Canberra Royals Polocrosse Club Carnival
DESCRIPTION:
URL:https://bungendoreshowground.com.au/event/canberra-royals-polocrosse-club-carnival-provisional-booking/
LOCATION:Mathews Lane off Bungendore Rd\, Bungendore\, NSW\, Australia
CATEGORIES:1 - Main Arena,13 - Camping Area,14 - North/West Camping Area,15 - Northern Camping Area,16 - South/East Camping Area,17 - Equestrian Parking,18 - Horse Yards South West,19 - Horse Yards South East,2 - Equestrian Parking,25 - Covered Sail Area,26 - Kitchen and Dining Hall,27 - Breezeway Area,28 - Show Pavilion,29 - Main Bar/Cool room,3 - Northern Arena,30 - Disabled Access Toilet,32 - Southern Toilet/Showers,42 - Equestrian Parking,43 - Northern Horse Yards,Major Event = Limited Camping
END:VEVENT
BEGIN:VEVENT
DTSTART;VALUE=DATE:20250510
DTEND;VALUE=DATE:20250512
DTSTAMP:20260425T212205
CREATED:20240918T092729Z
LAST-MODIFIED:20250505T054843Z
UID:2884-1746835200-1747007999@bungendoreshowground.com.au
SUMMARY:Bungendore Polocrosse Club event
DESCRIPTION:
URL:https://bungendoreshowground.com.au/event/bungendore-polocrosse-club-event/
LOCATION:Mathews Lane off Bungendore Rd\, Bungendore\, NSW\, Australia
CATEGORIES:1 - Main Arena,13 - Camping Area,14 - North/West Camping Area,15 - Northern Camping Area,16 - South/East Camping Area,17 - Equestrian Parking,18 - Horse Yards South West,19 - Horse Yards South East,2 - Equestrian Parking,25 - Covered Sail Area,26 - Kitchen and Dining Hall,27 - Breezeway Area,28 - Show Pavilion,32 - Southern Toilet/Showers,34 - Brick Toilets/Showers,42 - Equestrian Parking,43 - Northern Horse Yards,44 - Powered Overflow Camping,5 - Cattle Yards,Major Event = Limited Camping
END:VEVENT
BEGIN:VEVENT
DTSTART;TZID=Australia/Sydney:20250505T080000
DTEND;TZID=Australia/Sydney:20250505T170000
DTSTAMP:20260425T212205
CREATED:20250505T094748Z
LAST-MODIFIED:20250505T094748Z
UID:3095-1746432000-1746464400@bungendoreshowground.com.au
SUMMARY:Mark Langley Horsemanship Clinic
DESCRIPTION:
URL:https://bungendoreshowground.com.au/event/mark-langley-horsemanship-clinic-2/
LOCATION:Mathews Lane off Bungendore Rd\, Bungendore\, NSW\, Australia
CATEGORIES:18 - Horse Yards South West,19 - Horse Yards South East,2 - Equestrian Parking,4 - Covered Arena
END:VEVENT
BEGIN:VEVENT
DTSTART;VALUE=DATE:20250504
DTEND;VALUE=DATE:20250505
DTSTAMP:20260425T212205
CREATED:20240820T020038Z
LAST-MODIFIED:20240824T021128Z
UID:2822-1746316800-1746403199@bungendoreshowground.com.au
SUMMARY:Bungendore Pony Club Rally Day
DESCRIPTION:
URL:https://bungendoreshowground.com.au/event/bungendore-pony-club-rally-day-12/
LOCATION:Mathews Lane off Bungendore Rd\, Bungendore\, NSW\, Australia
END:VEVENT
BEGIN:VEVENT
DTSTART;VALUE=DATE:20250501
DTEND;VALUE=DATE:20250505
DTSTAMP:20260425T212205
CREATED:20250223T074359Z
LAST-MODIFIED:20250223T074359Z
UID:3053-1746057600-1746403199@bungendoreshowground.com.au
SUMMARY:Sheepdog Trial
DESCRIPTION:
URL:https://bungendoreshowground.com.au/event/sheepdog-trial-3/
LOCATION:Mathews Lane off Bungendore Rd\, Bungendore\, NSW\, Australia
END:VEVENT
BEGIN:VEVENT
DTSTART;VALUE=DATE:20250427
DTEND;VALUE=DATE:20250428
DTSTAMP:20260425T212205
CREATED:20241010T145718Z
LAST-MODIFIED:20241010T145718Z
UID:2899-1745712000-1745798399@bungendoreshowground.com.au
SUMMARY:BRC Rally Day (Covered Arena available)
DESCRIPTION:
URL:https://bungendoreshowground.com.au/event/brc-rally-day-covered-arena-available-3/
LOCATION:Mathews Lane off Bungendore Rd\, Bungendore\, NSW\, Australia
END:VEVENT
BEGIN:VEVENT
DTSTART;VALUE=DATE:20250421
DTEND;VALUE=DATE:20250422
DTSTAMP:20260425T212205
CREATED:20250208T055503Z
LAST-MODIFIED:20250208T081942Z
UID:3032-1745193600-1745279999@bungendoreshowground.com.au
SUMMARY:Zone 16 Pony Club Camp - Bump out
DESCRIPTION:
URL:https://bungendoreshowground.com.au/event/zone-16-pony-club-camp-bump-out/
LOCATION:Mathews Lane off Bungendore Rd\, Bungendore\, NSW\, Australia
END:VEVENT
BEGIN:VEVENT
DTSTART;VALUE=DATE:20250412
DTEND;VALUE=DATE:20250421
DTSTAMP:20260425T212205
CREATED:20200315T231936Z
LAST-MODIFIED:20250208T055354Z
UID:2373-1744416000-1745193599@bungendoreshowground.com.au
SUMMARY:Zone 16 Pony Club Camp
DESCRIPTION:[column width=”1/1″ last=”true” title=”” title_type=”single” animation=”none” implicit=”true”] \n  \n[/column]
URL:https://bungendoreshowground.com.au/event/zone-16-pony-club-camp-7-2025-04-12/
LOCATION:Mathews Lane off Bungendore Rd\, Bungendore\, NSW\, Australia
CATEGORIES:Exclusive Use Closed to Casual Camping,Major Event
END:VEVENT
BEGIN:VEVENT
DTSTART;VALUE=DATE:20250411
DTEND;VALUE=DATE:20250412
DTSTAMP:20260425T212205
CREATED:20250208T081813Z
LAST-MODIFIED:20250208T081813Z
UID:3038-1744329600-1744415999@bungendoreshowground.com.au
SUMMARY:Zone 16 Pony Club Camp - Bump In
DESCRIPTION:
URL:https://bungendoreshowground.com.au/event/zone-16-pony-club-camp-bump-in/
LOCATION:Mathews Lane off Bungendore Rd\, Bungendore\, NSW\, Australia
END:VEVENT
BEGIN:VEVENT
DTSTART;VALUE=DATE:20250405
DTEND;VALUE=DATE:20250406
DTSTAMP:20260425T212205
CREATED:20250127T032552Z
LAST-MODIFIED:20250223T072922Z
UID:3022-1743811200-1743897599@bungendoreshowground.com.au
SUMMARY:Bungendore Sheepdog Training Day
DESCRIPTION:
URL:https://bungendoreshowground.com.au/event/sheepdog-trial-2/
LOCATION:Mathews Lane off Bungendore Rd\, Bungendore\, NSW\, Australia
END:VEVENT
BEGIN:VEVENT
DTSTART;VALUE=DATE:20250330
DTEND;VALUE=DATE:20250331
DTSTAMP:20260425T212205
CREATED:20241010T145632Z
LAST-MODIFIED:20241010T145632Z
UID:2896-1743292800-1743379199@bungendoreshowground.com.au
SUMMARY:BRC Rally Day (Covered Arena available)
DESCRIPTION:
URL:https://bungendoreshowground.com.au/event/brc-rally-day-covered-arena-available-2/
LOCATION:Mathews Lane off Bungendore Rd\, Bungendore\, NSW\, Australia
END:VEVENT
BEGIN:VEVENT
DTSTART;VALUE=DATE:20250322
DTEND;VALUE=DATE:20250324
DTSTAMP:20260425T212205
CREATED:20240918T075126Z
LAST-MODIFIED:20240918T075126Z
UID:2881-1742601600-1742774399@bungendoreshowground.com.au
SUMMARY:Australian Stock Horse Society NSW State Youth Show (provisional booking)
DESCRIPTION:
URL:https://bungendoreshowground.com.au/event/australian-stock-horse-society-nsw-state-youth-show-provisional-booking/
LOCATION:Mathews Lane off Bungendore Rd\, Bungendore\, NSW\, Australia
END:VEVENT
BEGIN:VEVENT
DTSTART;TZID=Australia/Sydney:20250315T080000
DTEND;TZID=Australia/Sydney:20250316T170000
DTSTAMP:20260425T212205
CREATED:20220801T194749Z
LAST-MODIFIED:20220801T194749Z
UID:2170-1742025600-1742144400@bungendoreshowground.com.au
SUMMARY:Lake George PoloX Carnival
DESCRIPTION:
URL:https://bungendoreshowground.com.au/event/lake-george-polox-carnival-3-2025-03-15/
LOCATION:Mathews Lane off Bungendore Rd\, Bungendore\, NSW\, Australia
CATEGORIES:5 - Carpark,Major Event
END:VEVENT
BEGIN:VEVENT
DTSTART;VALUE=DATE:20250309
DTEND;VALUE=DATE:20250310
DTSTAMP:20260425T212205
CREATED:20240820T020000Z
LAST-MODIFIED:20240820T020000Z
UID:2816-1741478400-1741564799@bungendoreshowground.com.au
SUMMARY:Bungendore Pony Club Rally Day
DESCRIPTION:
URL:https://bungendoreshowground.com.au/event/bungendore-pony-club-rally-day-10/
LOCATION:Mathews Lane off Bungendore Rd\, Bungendore\, NSW\, Australia
END:VEVENT
BEGIN:VEVENT
DTSTART;VALUE=DATE:20250301
DTEND;VALUE=DATE:20250303
DTSTAMP:20260425T212205
CREATED:20250208T055654Z
LAST-MODIFIED:20250223T072604Z
UID:3035-1740787200-1740959999@bungendoreshowground.com.au
SUMMARY:Mounted Games Association NSW - Northern Paddock
DESCRIPTION:
URL:https://bungendoreshowground.com.au/event/tentative-mounted-games-association-nsw-northern-paddock/
LOCATION:Mathews Lane off Bungendore Rd\, Bungendore\, NSW\, Australia
END:VEVENT
BEGIN:VEVENT
DTSTART;VALUE=DATE:20250301
DTEND;VALUE=DATE:20250303
DTSTAMP:20260425T212205
CREATED:20240912T010320Z
LAST-MODIFIED:20250127T035608Z
UID:2875-1740787200-1740959999@bungendoreshowground.com.au
SUMMARY:Bungendore Penning and Sorting (Covered Arena not available for casual use)
DESCRIPTION:
URL:https://bungendoreshowground.com.au/event/reata-ranch-provisional-booking/
LOCATION:Mathews Lane off Bungendore Rd\, Bungendore\, NSW\, Australia
END:VEVENT
BEGIN:VEVENT
DTSTART;VALUE=DATE:20250223
DTEND;VALUE=DATE:20250224
DTSTAMP:20260425T212205
CREATED:20241010T145524Z
LAST-MODIFIED:20241010T145524Z
UID:2892-1740268800-1740355199@bungendoreshowground.com.au
SUMMARY:BRC Rally Day (Covered Arena available)
DESCRIPTION:
URL:https://bungendoreshowground.com.au/event/brc-rally-day-covered-arena-available/
LOCATION:Mathews Lane off Bungendore Rd\, Bungendore\, NSW\, Australia
END:VEVENT
BEGIN:VEVENT
DTSTART;VALUE=DATE:20250222
DTEND;VALUE=DATE:20250223
DTSTAMP:20260425T212205
CREATED:20241218T222522Z
LAST-MODIFIED:20241218T222522Z
UID:2992-1740182400-1740268799@bungendoreshowground.com.au
SUMMARY:BADSA (Northern Arena unavailable for casual use)
DESCRIPTION:
URL:https://bungendoreshowground.com.au/event/badsa-northern-arena-unavailable-for-casual-use/
LOCATION:Mathews Lane off Bungendore Rd\, Bungendore\, NSW\, Australia
END:VEVENT
END:VCALENDAR