BEGIN:VCALENDAR
VERSION:2.0
PRODID:-//Bungendore Showground - ECPv6.15.17//NONSGML v1.0//EN
CALSCALE:GREGORIAN
METHOD:PUBLISH
X-WR-CALNAME:Bungendore Showground
X-ORIGINAL-URL:https://bungendoreshowground.com.au
X-WR-CALDESC:Events for Bungendore Showground
REFRESH-INTERVAL;VALUE=DURATION:PT1H
X-Robots-Tag:noindex
X-PUBLISHED-TTL:PT1H
BEGIN:VTIMEZONE
TZID:Australia/Sydney
BEGIN:STANDARD
TZOFFSETFROM:+1100
TZOFFSETTO:+1000
TZNAME:AEST
DTSTART:20200404T160000
END:STANDARD
BEGIN:DAYLIGHT
TZOFFSETFROM:+1000
TZOFFSETTO:+1100
TZNAME:AEDT
DTSTART:20201003T160000
END:DAYLIGHT
BEGIN:STANDARD
TZOFFSETFROM:+1100
TZOFFSETTO:+1000
TZNAME:AEST
DTSTART:20210403T160000
END:STANDARD
BEGIN:DAYLIGHT
TZOFFSETFROM:+1000
TZOFFSETTO:+1100
TZNAME:AEDT
DTSTART:20211002T160000
END:DAYLIGHT
BEGIN:STANDARD
TZOFFSETFROM:+1100
TZOFFSETTO:+1000
TZNAME:AEST
DTSTART:20220402T160000
END:STANDARD
BEGIN:DAYLIGHT
TZOFFSETFROM:+1000
TZOFFSETTO:+1100
TZNAME:AEDT
DTSTART:20221001T160000
END:DAYLIGHT
BEGIN:STANDARD
TZOFFSETFROM:+1100
TZOFFSETTO:+1000
TZNAME:AEST
DTSTART:20230401T160000
END:STANDARD
BEGIN:DAYLIGHT
TZOFFSETFROM:+1000
TZOFFSETTO:+1100
TZNAME:AEDT
DTSTART:20230930T160000
END:DAYLIGHT
BEGIN:STANDARD
TZOFFSETFROM:+1100
TZOFFSETTO:+1000
TZNAME:AEST
DTSTART:20240406T160000
END:STANDARD
BEGIN:DAYLIGHT
TZOFFSETFROM:+1000
TZOFFSETTO:+1100
TZNAME:AEDT
DTSTART:20241005T160000
END:DAYLIGHT
BEGIN:STANDARD
TZOFFSETFROM:+1100
TZOFFSETTO:+1000
TZNAME:AEST
DTSTART:20250405T160000
END:STANDARD
BEGIN:DAYLIGHT
TZOFFSETFROM:+1000
TZOFFSETTO:+1100
TZNAME:AEDT
DTSTART:20251004T160000
END:DAYLIGHT
END:VTIMEZONE
BEGIN:VEVENT
DTSTART;TZID=Australia/Sydney:20240120T100000
DTEND;TZID=Australia/Sydney:20240120T170000
DTSTAMP:20260426T051935
CREATED:20231129T202839Z
LAST-MODIFIED:20231129T202839Z
UID:2568-1705744800-1705770000@bungendoreshowground.com.au
SUMMARY:SES Training
DESCRIPTION:
URL:https://bungendoreshowground.com.au/event/ses-training-3-2024-01-20/
LOCATION:Mathews Lane off Bungendore Rd\, Bungendore\, NSW\, Australia
CATEGORIES:5 - Carpark
END:VEVENT
BEGIN:VEVENT
DTSTART;TZID=Australia/Sydney:20240120T100000
DTEND;TZID=Australia/Sydney:20240120T170000
DTSTAMP:20260426T051935
CREATED:20231129T202443Z
LAST-MODIFIED:20231129T202443Z
UID:2558-1705744800-1705770000@bungendoreshowground.com.au
SUMMARY:SES Training
DESCRIPTION:
URL:https://bungendoreshowground.com.au/event/ses-training/
LOCATION:Mathews Lane off Bungendore Rd\, Bungendore\, NSW\, Australia
CATEGORIES:5 - Carpark
END:VEVENT
BEGIN:VEVENT
DTSTART;TZID=Australia/Sydney:20231216T100000
DTEND;TZID=Australia/Sydney:20231216T170000
DTSTAMP:20260426T051935
CREATED:20231129T202839Z
LAST-MODIFIED:20231129T202839Z
UID:2565-1702720800-1702746000@bungendoreshowground.com.au
SUMMARY:SES Training
DESCRIPTION:
URL:https://bungendoreshowground.com.au/event/ses-training-3/
LOCATION:Mathews Lane off Bungendore Rd\, Bungendore\, NSW\, Australia
CATEGORIES:5 - Carpark
END:VEVENT
BEGIN:VEVENT
DTSTART;VALUE=DATE:20231216
DTEND;VALUE=DATE:20231217
DTSTAMP:20260426T051935
CREATED:20230131T223033Z
LAST-MODIFIED:20230131T223033Z
UID:2352-1702684800-1702771199@bungendoreshowground.com.au
SUMMARY:Bungendore Sheepdogs
DESCRIPTION:
URL:https://bungendoreshowground.com.au/event/bungendore-sheepdogs-7-2023-12-16/
LOCATION:Mathews Lane off Bungendore Rd\, Bungendore\, NSW\, Australia
CATEGORIES:5 - Carpark
END:VEVENT
BEGIN:VEVENT
DTSTART;VALUE=DATE:20231125
DTEND;VALUE=DATE:20231126
DTSTAMP:20260426T051935
CREATED:20230131T223033Z
LAST-MODIFIED:20230131T223033Z
UID:2351-1700870400-1700956799@bungendoreshowground.com.au
SUMMARY:Bungendore Sheepdogs
DESCRIPTION:
URL:https://bungendoreshowground.com.au/event/bungendore-sheepdogs-7-2023-11-25/
LOCATION:Mathews Lane off Bungendore Rd\, Bungendore\, NSW\, Australia
CATEGORIES:5 - Carpark
END:VEVENT
BEGIN:VEVENT
DTSTART;VALUE=DATE:20231111
DTEND;VALUE=DATE:20231113
DTSTAMP:20260426T051935
CREATED:20230930T032349Z
LAST-MODIFIED:20231002T063827Z
UID:2514-1699660800-1699833599@bungendoreshowground.com.au
SUMMARY:RFS Training
DESCRIPTION:
URL:https://bungendoreshowground.com.au/event/rfs-training/
LOCATION:Mathews Lane off Bungendore Rd\, Bungendore\, NSW\, Australia
CATEGORIES:5 - Carpark
END:VEVENT
BEGIN:VEVENT
DTSTART;VALUE=DATE:20231028
DTEND;VALUE=DATE:20231029
DTSTAMP:20260426T051935
CREATED:20230131T223033Z
LAST-MODIFIED:20230131T223033Z
UID:2350-1698451200-1698537599@bungendoreshowground.com.au
SUMMARY:Bungendore Sheepdogs
DESCRIPTION:
URL:https://bungendoreshowground.com.au/event/bungendore-sheepdogs-7-2023-10-28/
LOCATION:Mathews Lane off Bungendore Rd\, Bungendore\, NSW\, Australia
CATEGORIES:5 - Carpark
END:VEVENT
BEGIN:VEVENT
DTSTART;VALUE=DATE:20231014
DTEND;VALUE=DATE:20231015
DTSTAMP:20260426T051935
CREATED:20230927T005921Z
LAST-MODIFIED:20230927T005921Z
UID:2448-1697241600-1697327999@bungendoreshowground.com.au
SUMMARY:Bungendore Sheepdogs
DESCRIPTION:
URL:https://bungendoreshowground.com.au/event/bungendore-sheepdogs-8/
LOCATION:Mathews Lane off Bungendore Rd\, Bungendore\, NSW\, Australia
CATEGORIES:5 - Carpark
END:VEVENT
BEGIN:VEVENT
DTSTART;VALUE=DATE:20230923
DTEND;VALUE=DATE:20230924
DTSTAMP:20260426T051935
CREATED:20230131T223033Z
LAST-MODIFIED:20230131T223033Z
UID:2349-1695427200-1695513599@bungendoreshowground.com.au
SUMMARY:Bungendore Sheepdogs
DESCRIPTION:
URL:https://bungendoreshowground.com.au/event/bungendore-sheepdogs-7-2023-09-23/
LOCATION:Mathews Lane off Bungendore Rd\, Bungendore\, NSW\, Australia
CATEGORIES:5 - Carpark
END:VEVENT
BEGIN:VEVENT
DTSTART;VALUE=DATE:20230826
DTEND;VALUE=DATE:20230827
DTSTAMP:20260426T051935
CREATED:20230131T223033Z
LAST-MODIFIED:20230131T223033Z
UID:2348-1693008000-1693094399@bungendoreshowground.com.au
SUMMARY:Bungendore Sheepdogs
DESCRIPTION:
URL:https://bungendoreshowground.com.au/event/bungendore-sheepdogs-7-2023-08-26/
LOCATION:Mathews Lane off Bungendore Rd\, Bungendore\, NSW\, Australia
CATEGORIES:5 - Carpark
END:VEVENT
BEGIN:VEVENT
DTSTART;VALUE=DATE:20230722
DTEND;VALUE=DATE:20230723
DTSTAMP:20260426T051935
CREATED:20230131T223033Z
LAST-MODIFIED:20230131T223033Z
UID:2347-1689984000-1690070399@bungendoreshowground.com.au
SUMMARY:Bungendore Sheepdogs
DESCRIPTION:
URL:https://bungendoreshowground.com.au/event/bungendore-sheepdogs-7-2023-07-22/
LOCATION:Mathews Lane off Bungendore Rd\, Bungendore\, NSW\, Australia
CATEGORIES:5 - Carpark
END:VEVENT
BEGIN:VEVENT
DTSTART;VALUE=DATE:20230624
DTEND;VALUE=DATE:20230626
DTSTAMP:20260426T051935
CREATED:20230131T223033Z
LAST-MODIFIED:20230402T230253Z
UID:2346-1687564800-1687737599@bungendoreshowground.com.au
SUMMARY:Bungendore Sheepdogs
DESCRIPTION:
URL:https://bungendoreshowground.com.au/event/bungendore-sheepdogs-7-2023-06-24/
LOCATION:Mathews Lane off Bungendore Rd\, Bungendore\, NSW\, Australia
CATEGORIES:5 - Carpark
END:VEVENT
BEGIN:VEVENT
DTSTART;VALUE=DATE:20230617
DTEND;VALUE=DATE:20230619
DTSTAMP:20260426T051935
CREATED:20221122T204742Z
LAST-MODIFIED:20221122T204742Z
UID:2233-1686960000-1687132799@bungendoreshowground.com.au
SUMMARY:Bungendore PoloX
DESCRIPTION:
URL:https://bungendoreshowground.com.au/event/bungendore-polox-2/
LOCATION:Mathews Lane off Bungendore Rd\, Bungendore\, NSW\, Australia
CATEGORIES:5 - Carpark,Major Event
END:VEVENT
BEGIN:VEVENT
DTSTART;VALUE=DATE:20230527
DTEND;VALUE=DATE:20230528
DTSTAMP:20260426T051935
CREATED:20230131T223033Z
LAST-MODIFIED:20230131T223033Z
UID:2345-1685145600-1685231999@bungendoreshowground.com.au
SUMMARY:Bungendore Sheepdogs
DESCRIPTION:
URL:https://bungendoreshowground.com.au/event/bungendore-sheepdogs-7-2023-05-27/
LOCATION:Mathews Lane off Bungendore Rd\, Bungendore\, NSW\, Australia
CATEGORIES:5 - Carpark
END:VEVENT
BEGIN:VEVENT
DTSTART;TZID=Australia/Sydney:20230520T080000
DTEND;TZID=Australia/Sydney:20230521T170000
DTSTAMP:20260426T051935
CREATED:20220801T195009Z
LAST-MODIFIED:20220801T195009Z
UID:2173-1684569600-1684688400@bungendoreshowground.com.au
SUMMARY:Canberra Royals PoloX Carnival
DESCRIPTION:
URL:https://bungendoreshowground.com.au/event/canberra-royals-polox-carnival/
LOCATION:Mathews Lane off Bungendore Rd\, Bungendore\, NSW\, Australia
CATEGORIES:5 - Carpark,Major Event
END:VEVENT
BEGIN:VEVENT
DTSTART;VALUE=DATE:20230505
DTEND;VALUE=DATE:20230508
DTSTAMP:20260426T051935
CREATED:20221127T223636Z
LAST-MODIFIED:20221127T223636Z
UID:2269-1683244800-1683503999@bungendoreshowground.com.au
SUMMARY:Sheepdogs Major Event
DESCRIPTION:
URL:https://bungendoreshowground.com.au/event/sheepdogs-major-event/
LOCATION:Mathews Lane off Bungendore Rd\, Bungendore\, NSW\, Australia
CATEGORIES:5 - Carpark
END:VEVENT
BEGIN:VEVENT
DTSTART;VALUE=DATE:20230415
DTEND;VALUE=DATE:20230416
DTSTAMP:20260426T051935
CREATED:20230131T223033Z
LAST-MODIFIED:20230131T223033Z
UID:2344-1681516800-1681603199@bungendoreshowground.com.au
SUMMARY:Bungendore Sheepdogs
DESCRIPTION:
URL:https://bungendoreshowground.com.au/event/bungendore-sheepdogs-7-2023-04-15/
LOCATION:Mathews Lane off Bungendore Rd\, Bungendore\, NSW\, Australia
CATEGORIES:5 - Carpark
END:VEVENT
BEGIN:VEVENT
DTSTART;TZID=Australia/Sydney:20230318T080000
DTEND;TZID=Australia/Sydney:20230319T170000
DTSTAMP:20260426T051935
CREATED:20220801T194749Z
LAST-MODIFIED:20220801T194749Z
UID:2166-1679126400-1679245200@bungendoreshowground.com.au
SUMMARY:Lake George PoloX Carnival
DESCRIPTION:
URL:https://bungendoreshowground.com.au/event/lake-george-polox-carnival-3/
LOCATION:Mathews Lane off Bungendore Rd\, Bungendore\, NSW\, Australia
CATEGORIES:5 - Carpark,Major Event
END:VEVENT
BEGIN:VEVENT
DTSTART;VALUE=DATE:20230311
DTEND;VALUE=DATE:20230313
DTSTAMP:20260426T051935
CREATED:20221222T033742Z
LAST-MODIFIED:20221222T033742Z
UID:2308-1678492800-1678665599@bungendoreshowground.com.au
SUMMARY:Bungendore Sheepdogs
DESCRIPTION:
URL:https://bungendoreshowground.com.au/event/bungendore-sheepdogs-6-2023-03-11/
LOCATION:Mathews Lane off Bungendore Rd\, Bungendore\, NSW\, Australia
CATEGORIES:5 - Carpark
END:VEVENT
BEGIN:VEVENT
DTSTART;VALUE=DATE:20230225
DTEND;VALUE=DATE:20230226
DTSTAMP:20260426T051935
CREATED:20230131T223033Z
LAST-MODIFIED:20230131T223033Z
UID:2341-1677283200-1677369599@bungendoreshowground.com.au
SUMMARY:Bungendore Sheepdogs
DESCRIPTION:
URL:https://bungendoreshowground.com.au/event/bungendore-sheepdogs-7/
LOCATION:Mathews Lane off Bungendore Rd\, Bungendore\, NSW\, Australia
CATEGORIES:5 - Carpark
END:VEVENT
BEGIN:VEVENT
DTSTART;VALUE=DATE:20230211
DTEND;VALUE=DATE:20230213
DTSTAMP:20260426T051935
CREATED:20230131T222049Z
LAST-MODIFIED:20230131T222049Z
UID:2338-1676073600-1676246399@bungendoreshowground.com.au
SUMMARY:Mounted Games
DESCRIPTION:
URL:https://bungendoreshowground.com.au/event/mounted-games/
LOCATION:Mathews Lane off Bungendore Rd\, Bungendore\, NSW\, Australia
CATEGORIES:5 - Carpark
END:VEVENT
BEGIN:VEVENT
DTSTART;VALUE=DATE:20230121
DTEND;VALUE=DATE:20230123
DTSTAMP:20260426T051935
CREATED:20221222T033742Z
LAST-MODIFIED:20221222T033742Z
UID:2305-1674259200-1674431999@bungendoreshowground.com.au
SUMMARY:Bungendore Sheepdogs
DESCRIPTION:
URL:https://bungendoreshowground.com.au/event/bungendore-sheepdogs-6/
LOCATION:Mathews Lane off Bungendore Rd\, Bungendore\, NSW\, Australia
CATEGORIES:5 - Carpark
END:VEVENT
BEGIN:VEVENT
DTSTART;VALUE=DATE:20221210
DTEND;VALUE=DATE:20221211
DTSTAMP:20260426T051935
CREATED:20221115T205626Z
LAST-MODIFIED:20221115T205626Z
UID:2230-1670630400-1670716799@bungendoreshowground.com.au
SUMMARY:Bungendore Sheepdogs
DESCRIPTION:Bungendore Aheepdogs
URL:https://bungendoreshowground.com.au/event/bungendore-sheepdogs-5/
LOCATION:Mathews Lane off Bungendore Rd\, Bungendore\, NSW\, Australia
CATEGORIES:5 - Carpark
END:VEVENT
BEGIN:VEVENT
DTSTART;VALUE=DATE:20221028
DTEND;VALUE=DATE:20221031
DTSTAMP:20260426T051935
CREATED:20220307T052334Z
LAST-MODIFIED:20220307T052334Z
UID:2089-1666915200-1667174399@bungendoreshowground.com.au
SUMMARY:Inter-Schools School Equestrian Competition
DESCRIPTION:[column width=”1/1″ last=”true” title=”” title_type=”single” animation=”none” implicit=”true”] \n  \n[/column]
URL:https://bungendoreshowground.com.au/event/inter-schools-school-equestrian-competition/
LOCATION:Mathews Lane off Bungendore Rd\, Bungendore\, NSW\, Australia
CATEGORIES:5 - Carpark,Major Event = Limited Camping
END:VEVENT
BEGIN:VEVENT
DTSTART;VALUE=DATE:20220716
DTEND;VALUE=DATE:20220718
DTSTAMP:20260426T051935
CREATED:20220519T220733Z
LAST-MODIFIED:20220530T042846Z
UID:2122-1657929600-1658102399@bungendoreshowground.com.au
SUMMARY:Womboin PC Mounted Games Sunday - Set up Saturday
DESCRIPTION:[column width=”1/1″ last=”true” title=”” title_type=”single” animation=”none” implicit=”true”] \n  \n[/column] \n[column width=”1/1″ last=”true” title=”” title_type=”single” animation=”none” implicit=”true”] \n[/column] \n[column width=”1/1″ last=”true” title=”” title_type=”single” animation=”none” implicit=”true”] \n  \n[/column]
URL:https://bungendoreshowground.com.au/event/womboin-pc-mounted-games-sunday-set-up-saturday/
LOCATION:Mathews Lane off Bungendore Rd\, Bungendore\, NSW\, Australia
CATEGORIES:5 - Carpark
END:VEVENT
BEGIN:VEVENT
DTSTART;VALUE=DATE:20220701
DTEND;VALUE=DATE:20220704
DTSTAMP:20260426T051935
CREATED:20220516T014447Z
LAST-MODIFIED:20220516T014447Z
UID:2119-1656633600-1656892799@bungendoreshowground.com.au
SUMMARY:NSW Sheepdog Selection Trials Sat and Sun - Setup on Friday
DESCRIPTION:[column width=”1/1″ last=”true” title=”” title_type=”single” animation=”none” implicit=”true”] \n  \n[/column]
URL:https://bungendoreshowground.com.au/event/nsw-sheepdog-selection-trials-sat-and-sun-setup-on-friday/
LOCATION:Mathews Lane off Bungendore Rd\, Bungendore\, NSW\, Australia
CATEGORIES:5 - Carpark
END:VEVENT
BEGIN:VEVENT
DTSTART;VALUE=DATE:20220319
DTEND;VALUE=DATE:20220320
DTSTAMP:20260426T051935
CREATED:20220314T014512Z
LAST-MODIFIED:20220314T014512Z
UID:2094-1647648000-1647734399@bungendoreshowground.com.au
SUMMARY:Polocrosse Mini Event
DESCRIPTION:[column width=”1/1″ last=”true” title=”” title_type=”single” animation=”none” implicit=”true”] \n  \n[/column]
URL:https://bungendoreshowground.com.au/event/polocrosse-mini-event/
LOCATION:Mathews Lane off Bungendore Rd\, Bungendore\, NSW\, Australia
CATEGORIES:5 - Carpark
END:VEVENT
BEGIN:VEVENT
DTSTART;VALUE=DATE:20211204
DTEND;VALUE=DATE:20211206
DTSTAMP:20260426T051935
CREATED:20200919T223406Z
LAST-MODIFIED:20200919T223406Z
UID:1689-1638576000-1638748799@bungendoreshowground.com.au
SUMMARY:
DESCRIPTION:[column width=”1/1″ last=”true” title=”” title_type=”single” animation=”none” implicit=”true”] \n  \n[/column]
URL:https://bungendoreshowground.com.au/event/1686-2021-12-04/
LOCATION:Mathews Lane off Bungendore Rd\, Bungendore\, NSW\, Australia
CATEGORIES:5 - Carpark
END:VEVENT
BEGIN:VEVENT
DTSTART;VALUE=DATE:20211127
DTEND;VALUE=DATE:20211129
DTSTAMP:20260426T051935
CREATED:20201220T033133Z
LAST-MODIFIED:20211027T204949Z
UID:1786-1637971200-1638143999@bungendoreshowground.com.au
SUMMARY:Australian Mounted Games NSW
DESCRIPTION:[column width=”1/1″ last=”true” title=”” title_type=”single” animation=”none” implicit=”true”] \n  \n[/column] \n[column width=”1/1″ last=”true” title=”” title_type=”single” animation=”none” implicit=”true”] \n[/column] \n[column width=”1/1″ last=”true” title=”” title_type=”single” animation=”none” implicit=”true”] \n  \n[/column]
URL:https://bungendoreshowground.com.au/event/australian-mounted-games-nsw-2-2021-11-20/
LOCATION:Mathews Lane off Bungendore Rd\, Bungendore\, NSW\, Australia
CATEGORIES:5 - Carpark
END:VEVENT
BEGIN:VEVENT
DTSTART;VALUE=DATE:20211030
DTEND;VALUE=DATE:20211101
DTSTAMP:20260426T051935
CREATED:20211027T204449Z
LAST-MODIFIED:20211027T204449Z
UID:1951-1635552000-1635724799@bungendoreshowground.com.au
SUMMARY:Pony Club Mounted Games Training
DESCRIPTION:[column width=”1/1″ last=”true” title=”” title_type=”single” animation=”none” implicit=”true”] \n  \n[/column]
URL:https://bungendoreshowground.com.au/event/pony-club-mounted-games-training/
LOCATION:Mathews Lane off Bungendore Rd\, Bungendore\, NSW\, Australia
CATEGORIES:5 - Carpark
END:VEVENT
END:VCALENDAR