BEGIN:VCALENDAR
VERSION:2.0
PRODID:-//Bungendore Showground - ECPv6.15.17//NONSGML v1.0//EN
CALSCALE:GREGORIAN
METHOD:PUBLISH
X-ORIGINAL-URL:https://bungendoreshowground.com.au
X-WR-CALDESC:Events for Bungendore Showground
REFRESH-INTERVAL;VALUE=DURATION:PT1H
X-Robots-Tag:noindex
X-PUBLISHED-TTL:PT1H
BEGIN:VTIMEZONE
TZID:Australia/Sydney
BEGIN:STANDARD
TZOFFSETFROM:+1100
TZOFFSETTO:+1000
TZNAME:AEST
DTSTART:20220402T160000
END:STANDARD
BEGIN:DAYLIGHT
TZOFFSETFROM:+1000
TZOFFSETTO:+1100
TZNAME:AEDT
DTSTART:20221001T160000
END:DAYLIGHT
BEGIN:STANDARD
TZOFFSETFROM:+1100
TZOFFSETTO:+1000
TZNAME:AEST
DTSTART:20230401T160000
END:STANDARD
BEGIN:DAYLIGHT
TZOFFSETFROM:+1000
TZOFFSETTO:+1100
TZNAME:AEDT
DTSTART:20230930T160000
END:DAYLIGHT
BEGIN:STANDARD
TZOFFSETFROM:+1100
TZOFFSETTO:+1000
TZNAME:AEST
DTSTART:20240406T160000
END:STANDARD
BEGIN:DAYLIGHT
TZOFFSETFROM:+1000
TZOFFSETTO:+1100
TZNAME:AEDT
DTSTART:20241005T160000
END:DAYLIGHT
BEGIN:STANDARD
TZOFFSETFROM:+1100
TZOFFSETTO:+1000
TZNAME:AEST
DTSTART:20250405T160000
END:STANDARD
BEGIN:DAYLIGHT
TZOFFSETFROM:+1000
TZOFFSETTO:+1100
TZNAME:AEDT
DTSTART:20251004T160000
END:DAYLIGHT
BEGIN:STANDARD
TZOFFSETFROM:+1100
TZOFFSETTO:+1000
TZNAME:AEST
DTSTART:20260404T160000
END:STANDARD
BEGIN:DAYLIGHT
TZOFFSETFROM:+1000
TZOFFSETTO:+1100
TZNAME:AEDT
DTSTART:20261003T160000
END:DAYLIGHT
BEGIN:STANDARD
TZOFFSETFROM:+1100
TZOFFSETTO:+1000
TZNAME:AEST
DTSTART:20270403T160000
END:STANDARD
BEGIN:DAYLIGHT
TZOFFSETFROM:+1000
TZOFFSETTO:+1100
TZNAME:AEDT
DTSTART:20271002T160000
END:DAYLIGHT
END:VTIMEZONE
BEGIN:VEVENT
DTSTART;VALUE=DATE:20260314
DTEND;VALUE=DATE:20260316
DTSTAMP:20260426T004334
CREATED:20220801T194749Z
LAST-MODIFIED:20260222T214626Z
UID:2171-1773446400-1773619199@bungendoreshowground.com.au
SUMMARY:Lake George PoloX Carnival
DESCRIPTION:
URL:https://bungendoreshowground.com.au/event/lake-george-polox-carnival-3-2026-03-21/
LOCATION:NSW
CATEGORIES:1 - Main Arena,14 - North/West Camping Area,15 - Northern Camping Area,17 - Equestrian Parking,19 - Horse Yards South East,2 - Equestrian Parking,31 - Outdoor Bar,32 - Southern Toilet/Showers,42 - Equestrian Parking,43 - Northern Horse Yards,5 - Carpark,Major Event
END:VEVENT
BEGIN:VEVENT
DTSTART;VALUE=DATE:20250802
DTEND;VALUE=DATE:20250804
DTSTAMP:20260426T004334
CREATED:20240211T053608Z
LAST-MODIFIED:20250306T203345Z
UID:2641-1754092800-1754265599@bungendoreshowground.com.au
SUMMARY:Polocrosse State Championship
DESCRIPTION:
URL:https://bungendoreshowground.com.au/event/nsw-state-polx-championship/
LOCATION:Mathews Lane off Bungendore Rd\, Bungendore\, NSW\, Australia
CATEGORIES:5 - Carpark,Exclusive Use Closed to Casual Camping,Weekend Major Event - closed to casual camping
END:VEVENT
BEGIN:VEVENT
DTSTART;TZID=Australia/Sydney:20250315T080000
DTEND;TZID=Australia/Sydney:20250316T170000
DTSTAMP:20260426T004334
CREATED:20220801T194749Z
LAST-MODIFIED:20220801T194749Z
UID:2170-1742025600-1742144400@bungendoreshowground.com.au
SUMMARY:Lake George PoloX Carnival
DESCRIPTION:
URL:https://bungendoreshowground.com.au/event/lake-george-polox-carnival-3-2025-03-15/
LOCATION:Mathews Lane off Bungendore Rd\, Bungendore\, NSW\, Australia
CATEGORIES:5 - Carpark,Major Event
END:VEVENT
BEGIN:VEVENT
DTSTART;VALUE=DATE:20241214
DTEND;VALUE=DATE:20241215
DTSTAMP:20260426T004334
CREATED:20230927T011205Z
LAST-MODIFIED:20240807T041802Z
UID:2525-1734134400-1734220799@bungendoreshowground.com.au
SUMMARY:Bungendore Sheepdogs (northern arena and sheepyards closed to casual use)
DESCRIPTION:
URL:https://bungendoreshowground.com.au/event/bungendore-sheepdogs-9-2024-12-14/
LOCATION:Mathews Lane off Bungendore Rd\, Bungendore\, NSW\, Australia
CATEGORIES:5 - Carpark
END:VEVENT
BEGIN:VEVENT
DTSTART;VALUE=DATE:20241130
DTEND;VALUE=DATE:20241201
DTSTAMP:20260426T004334
CREATED:20230927T011205Z
LAST-MODIFIED:20240807T041802Z
UID:2524-1732924800-1733011199@bungendoreshowground.com.au
SUMMARY:Bungendore Sheepdogs (northern arena and sheepyards closed to casual use)
DESCRIPTION:
URL:https://bungendoreshowground.com.au/event/bungendore-sheepdogs-9-2024-11-30/
LOCATION:Mathews Lane off Bungendore Rd\, Bungendore\, NSW\, Australia
CATEGORIES:5 - Carpark
END:VEVENT
BEGIN:VEVENT
DTSTART;VALUE=DATE:20241129
DTEND;VALUE=DATE:20241202
DTSTAMP:20260426T004334
CREATED:20240203T205601Z
LAST-MODIFIED:20240203T205601Z
UID:2634-1732838400-1733097599@bungendoreshowground.com.au
SUMMARY:Society for Creative Anachronism
DESCRIPTION:
URL:https://bungendoreshowground.com.au/event/society-for-creative-anachronism/
LOCATION:Mathews Lane off Bungendore Rd\, Bungendore\, NSW\, Australia
CATEGORIES:5 - Carpark
END:VEVENT
BEGIN:VEVENT
DTSTART;VALUE=DATE:20240928
DTEND;VALUE=DATE:20240929
DTSTAMP:20260426T004334
CREATED:20230927T011205Z
LAST-MODIFIED:20240807T041800Z
UID:2522-1727481600-1727567999@bungendoreshowground.com.au
SUMMARY:Bungendore Sheepdogs (northern arena and sheepyards closed to casual use)
DESCRIPTION:
URL:https://bungendoreshowground.com.au/event/bungendore-sheepdogs-9-2024-09-28/
LOCATION:Mathews Lane off Bungendore Rd\, Bungendore\, NSW\, Australia
CATEGORIES:5 - Carpark
END:VEVENT
BEGIN:VEVENT
DTSTART;VALUE=DATE:20240824
DTEND;VALUE=DATE:20240825
DTSTAMP:20260426T004334
CREATED:20230927T011205Z
LAST-MODIFIED:20240807T041800Z
UID:2521-1724457600-1724543999@bungendoreshowground.com.au
SUMMARY:Bungendore Sheepdogs (northern arena and sheepyards closed to casual use)
DESCRIPTION:
URL:https://bungendoreshowground.com.au/event/bungendore-sheepdogs-9-2024-08-24/
LOCATION:Mathews Lane off Bungendore Rd\, Bungendore\, NSW\, Australia
CATEGORIES:5 - Carpark
END:VEVENT
BEGIN:VEVENT
DTSTART;VALUE=DATE:20240727
DTEND;VALUE=DATE:20240728
DTSTAMP:20260426T004334
CREATED:20230927T011205Z
LAST-MODIFIED:20240807T041759Z
UID:2520-1722038400-1722124799@bungendoreshowground.com.au
SUMMARY:Bungendore Sheepdogs (northern arena and sheepyards closed to casual use)
DESCRIPTION:
URL:https://bungendoreshowground.com.au/event/bungendore-sheepdogs-9-2024-07-27/
LOCATION:Mathews Lane off Bungendore Rd\, Bungendore\, NSW\, Australia
CATEGORIES:5 - Carpark
END:VEVENT
BEGIN:VEVENT
DTSTART;VALUE=DATE:20240712
DTEND;VALUE=DATE:20240714
DTSTAMP:20260426T004334
CREATED:20230927T014618Z
LAST-MODIFIED:20240321T003716Z
UID:2493-1720742400-1720915199@bungendoreshowground.com.au
SUMMARY:Bungendore and Palerang Dog Show
DESCRIPTION:
URL:https://bungendoreshowground.com.au/event/bungendore-and-palerang-dog-show-2/
LOCATION:Mathews Lane off Bungendore Rd\, Bungendore\, NSW\, Australia
CATEGORIES:5 - Carpark
END:VEVENT
BEGIN:VEVENT
DTSTART;VALUE=DATE:20240622
DTEND;VALUE=DATE:20240624
DTSTAMP:20260426T004334
CREATED:20230927T011353Z
LAST-MODIFIED:20230927T011353Z
UID:2456-1719014400-1719187199@bungendoreshowground.com.au
SUMMARY:Bungendore Sheepdogs Major Event
DESCRIPTION:
URL:https://bungendoreshowground.com.au/event/bungendore-sheepdogs-major-event/
LOCATION:Mathews Lane off Bungendore Rd\, Bungendore\, NSW\, Australia
CATEGORIES:5 - Carpark
END:VEVENT
BEGIN:VEVENT
DTSTART;VALUE=DATE:20240525
DTEND;VALUE=DATE:20240526
DTSTAMP:20260426T004334
CREATED:20230927T011205Z
LAST-MODIFIED:20240807T041759Z
UID:2455-1716595200-1716681599@bungendoreshowground.com.au
SUMMARY:Bungendore Sheepdogs (northern arena and sheepyards closed to casual use)
DESCRIPTION:
URL:https://bungendoreshowground.com.au/event/bungendore-sheepdogs-9-2024-05-25/
LOCATION:Mathews Lane off Bungendore Rd\, Bungendore\, NSW\, Australia
CATEGORIES:5 - Carpark
END:VEVENT
BEGIN:VEVENT
DTSTART;VALUE=DATE:20240413
DTEND;VALUE=DATE:20240414
DTSTAMP:20260426T004334
CREATED:20230927T011205Z
LAST-MODIFIED:20240807T041758Z
UID:2454-1712966400-1713052799@bungendoreshowground.com.au
SUMMARY:Bungendore Sheepdogs (northern arena and sheepyards closed to casual use)
DESCRIPTION:
URL:https://bungendoreshowground.com.au/event/bungendore-sheepdogs-9-2024-04-13/
LOCATION:Mathews Lane off Bungendore Rd\, Bungendore\, NSW\, Australia
CATEGORIES:5 - Carpark
END:VEVENT
BEGIN:VEVENT
DTSTART;VALUE=DATE:20240404
DTEND;VALUE=DATE:20240408
DTSTAMP:20260426T004334
CREATED:20231130T033212Z
LAST-MODIFIED:20231130T034033Z
UID:2569-1712188800-1712534399@bungendoreshowground.com.au
SUMMARY:Patrons Sheepdog Trial
DESCRIPTION:
URL:https://bungendoreshowground.com.au/event/sheepdog-carnival/
LOCATION:Mathews Lane off Bungendore Rd\, Bungendore\, NSW\, Australia
CATEGORIES:5 - Carpark,Major Event = Limited Camping
END:VEVENT
BEGIN:VEVENT
DTSTART;TZID=Australia/Sydney:20240325T183000
DTEND;TZID=Australia/Sydney:20240325T220000
DTSTAMP:20260426T004334
CREATED:20231129T202623Z
LAST-MODIFIED:20231129T202623Z
UID:2564-1711391400-1711404000@bungendoreshowground.com.au
SUMMARY:SES Training
DESCRIPTION:
URL:https://bungendoreshowground.com.au/event/ses-training-2-2024-03-25/
LOCATION:Mathews Lane off Bungendore Rd\, Bungendore\, NSW\, Australia
CATEGORIES:5 - Carpark
END:VEVENT
BEGIN:VEVENT
DTSTART;TZID=Australia/Sydney:20240316T080000
DTEND;TZID=Australia/Sydney:20240317T170000
DTSTAMP:20260426T004334
CREATED:20220801T194749Z
LAST-MODIFIED:20220801T194749Z
UID:2169-1710576000-1710694800@bungendoreshowground.com.au
SUMMARY:Lake George PoloX Carnival
DESCRIPTION:
URL:https://bungendoreshowground.com.au/event/lake-george-polox-carnival-3-2024-03-16/
LOCATION:Mathews Lane off Bungendore Rd\, Bungendore\, NSW\, Australia
CATEGORIES:5 - Carpark,Major Event
END:VEVENT
BEGIN:VEVENT
DTSTART;VALUE=DATE:20240301
DTEND;VALUE=DATE:20240302
DTSTAMP:20260426T004334
CREATED:20231222T203322Z
LAST-MODIFIED:20231222T203751Z
UID:2603-1709251200-1709337599@bungendoreshowground.com.au
SUMMARY:QPRC WHS Day
DESCRIPTION:
URL:https://bungendoreshowground.com.au/event/qprc-whs-day-2/
LOCATION:Mathews Lane off Bungendore Rd\, Bungendore\, NSW\, Australia
CATEGORIES:5 - Carpark
END:VEVENT
BEGIN:VEVENT
DTSTART;VALUE=DATE:20240229
DTEND;VALUE=DATE:20240301
DTSTAMP:20260426T004334
CREATED:20231222T203529Z
LAST-MODIFIED:20231222T203617Z
UID:2606-1709164800-1709251199@bungendoreshowground.com.au
SUMMARY:QPRC WHS Day -Setup
DESCRIPTION:
URL:https://bungendoreshowground.com.au/event/qprc-whs-day-setup/
LOCATION:Mathews Lane off Bungendore Rd\, Bungendore\, NSW\, Australia
CATEGORIES:5 - Carpark
END:VEVENT
BEGIN:VEVENT
DTSTART;TZID=Australia/Sydney:20240226T183000
DTEND;TZID=Australia/Sydney:20240226T220000
DTSTAMP:20260426T004334
CREATED:20231129T202623Z
LAST-MODIFIED:20231129T202623Z
UID:2561-1708972200-1708984800@bungendoreshowground.com.au
SUMMARY:SES Training
DESCRIPTION:
URL:https://bungendoreshowground.com.au/event/ses-training-2/
LOCATION:Mathews Lane off Bungendore Rd\, Bungendore\, NSW\, Australia
CATEGORIES:5 - Carpark
END:VEVENT
BEGIN:VEVENT
DTSTART;VALUE=DATE:20240224
DTEND;VALUE=DATE:20240225
DTSTAMP:20260426T004334
CREATED:20230927T011205Z
LAST-MODIFIED:20240807T041758Z
UID:2451-1708732800-1708819199@bungendoreshowground.com.au
SUMMARY:Bungendore Sheepdogs (northern arena and sheepyards closed to casual use)
DESCRIPTION:
URL:https://bungendoreshowground.com.au/event/bungendore-sheepdogs-9/
LOCATION:Mathews Lane off Bungendore Rd\, Bungendore\, NSW\, Australia
CATEGORIES:5 - Carpark
END:VEVENT
BEGIN:VEVENT
DTSTART;TZID=Australia/Sydney:20240120T100000
DTEND;TZID=Australia/Sydney:20240120T170000
DTSTAMP:20260426T004334
CREATED:20231129T202839Z
LAST-MODIFIED:20231129T202839Z
UID:2568-1705744800-1705770000@bungendoreshowground.com.au
SUMMARY:SES Training
DESCRIPTION:
URL:https://bungendoreshowground.com.au/event/ses-training-3-2024-01-20/
LOCATION:Mathews Lane off Bungendore Rd\, Bungendore\, NSW\, Australia
CATEGORIES:5 - Carpark
END:VEVENT
BEGIN:VEVENT
DTSTART;TZID=Australia/Sydney:20240120T100000
DTEND;TZID=Australia/Sydney:20240120T170000
DTSTAMP:20260426T004334
CREATED:20231129T202443Z
LAST-MODIFIED:20231129T202443Z
UID:2558-1705744800-1705770000@bungendoreshowground.com.au
SUMMARY:SES Training
DESCRIPTION:
URL:https://bungendoreshowground.com.au/event/ses-training/
LOCATION:Mathews Lane off Bungendore Rd\, Bungendore\, NSW\, Australia
CATEGORIES:5 - Carpark
END:VEVENT
BEGIN:VEVENT
DTSTART;TZID=Australia/Sydney:20231216T100000
DTEND;TZID=Australia/Sydney:20231216T170000
DTSTAMP:20260426T004334
CREATED:20231129T202839Z
LAST-MODIFIED:20231129T202839Z
UID:2565-1702720800-1702746000@bungendoreshowground.com.au
SUMMARY:SES Training
DESCRIPTION:
URL:https://bungendoreshowground.com.au/event/ses-training-3/
LOCATION:Mathews Lane off Bungendore Rd\, Bungendore\, NSW\, Australia
CATEGORIES:5 - Carpark
END:VEVENT
BEGIN:VEVENT
DTSTART;VALUE=DATE:20231216
DTEND;VALUE=DATE:20231217
DTSTAMP:20260426T004334
CREATED:20230131T223033Z
LAST-MODIFIED:20230131T223033Z
UID:2352-1702684800-1702771199@bungendoreshowground.com.au
SUMMARY:Bungendore Sheepdogs
DESCRIPTION:
URL:https://bungendoreshowground.com.au/event/bungendore-sheepdogs-7-2023-12-16/
LOCATION:Mathews Lane off Bungendore Rd\, Bungendore\, NSW\, Australia
CATEGORIES:5 - Carpark
END:VEVENT
BEGIN:VEVENT
DTSTART;VALUE=DATE:20231125
DTEND;VALUE=DATE:20231126
DTSTAMP:20260426T004334
CREATED:20230131T223033Z
LAST-MODIFIED:20230131T223033Z
UID:2351-1700870400-1700956799@bungendoreshowground.com.au
SUMMARY:Bungendore Sheepdogs
DESCRIPTION:
URL:https://bungendoreshowground.com.au/event/bungendore-sheepdogs-7-2023-11-25/
LOCATION:Mathews Lane off Bungendore Rd\, Bungendore\, NSW\, Australia
CATEGORIES:5 - Carpark
END:VEVENT
BEGIN:VEVENT
DTSTART;VALUE=DATE:20231111
DTEND;VALUE=DATE:20231113
DTSTAMP:20260426T004334
CREATED:20230930T032349Z
LAST-MODIFIED:20231002T063827Z
UID:2514-1699660800-1699833599@bungendoreshowground.com.au
SUMMARY:RFS Training
DESCRIPTION:
URL:https://bungendoreshowground.com.au/event/rfs-training/
LOCATION:Mathews Lane off Bungendore Rd\, Bungendore\, NSW\, Australia
CATEGORIES:5 - Carpark
END:VEVENT
BEGIN:VEVENT
DTSTART;VALUE=DATE:20231028
DTEND;VALUE=DATE:20231029
DTSTAMP:20260426T004334
CREATED:20230131T223033Z
LAST-MODIFIED:20230131T223033Z
UID:2350-1698451200-1698537599@bungendoreshowground.com.au
SUMMARY:Bungendore Sheepdogs
DESCRIPTION:
URL:https://bungendoreshowground.com.au/event/bungendore-sheepdogs-7-2023-10-28/
LOCATION:Mathews Lane off Bungendore Rd\, Bungendore\, NSW\, Australia
CATEGORIES:5 - Carpark
END:VEVENT
BEGIN:VEVENT
DTSTART;VALUE=DATE:20231014
DTEND;VALUE=DATE:20231015
DTSTAMP:20260426T004334
CREATED:20230927T005921Z
LAST-MODIFIED:20230927T005921Z
UID:2448-1697241600-1697327999@bungendoreshowground.com.au
SUMMARY:Bungendore Sheepdogs
DESCRIPTION:
URL:https://bungendoreshowground.com.au/event/bungendore-sheepdogs-8/
LOCATION:Mathews Lane off Bungendore Rd\, Bungendore\, NSW\, Australia
CATEGORIES:5 - Carpark
END:VEVENT
BEGIN:VEVENT
DTSTART;VALUE=DATE:20230923
DTEND;VALUE=DATE:20230924
DTSTAMP:20260426T004334
CREATED:20230131T223033Z
LAST-MODIFIED:20230131T223033Z
UID:2349-1695427200-1695513599@bungendoreshowground.com.au
SUMMARY:Bungendore Sheepdogs
DESCRIPTION:
URL:https://bungendoreshowground.com.au/event/bungendore-sheepdogs-7-2023-09-23/
LOCATION:Mathews Lane off Bungendore Rd\, Bungendore\, NSW\, Australia
CATEGORIES:5 - Carpark
END:VEVENT
BEGIN:VEVENT
DTSTART;VALUE=DATE:20230826
DTEND;VALUE=DATE:20230827
DTSTAMP:20260426T004334
CREATED:20230131T223033Z
LAST-MODIFIED:20230131T223033Z
UID:2348-1693008000-1693094399@bungendoreshowground.com.au
SUMMARY:Bungendore Sheepdogs
DESCRIPTION:
URL:https://bungendoreshowground.com.au/event/bungendore-sheepdogs-7-2023-08-26/
LOCATION:Mathews Lane off Bungendore Rd\, Bungendore\, NSW\, Australia
CATEGORIES:5 - Carpark
END:VEVENT
END:VCALENDAR