BEGIN:VCALENDAR
VERSION:2.0
PRODID:-//Bungendore Showground - ECPv6.15.17//NONSGML v1.0//EN
CALSCALE:GREGORIAN
METHOD:PUBLISH
X-WR-CALNAME:Bungendore Showground
X-ORIGINAL-URL:https://bungendoreshowground.com.au
X-WR-CALDESC:Events for Bungendore Showground
REFRESH-INTERVAL;VALUE=DURATION:PT1H
X-Robots-Tag:noindex
X-PUBLISHED-TTL:PT1H
BEGIN:VTIMEZONE
TZID:Australia/Sydney
BEGIN:STANDARD
TZOFFSETFROM:+1100
TZOFFSETTO:+1000
TZNAME:AEST
DTSTART:20260404T160000
END:STANDARD
BEGIN:DAYLIGHT
TZOFFSETFROM:+1000
TZOFFSETTO:+1100
TZNAME:AEDT
DTSTART:20261003T160000
END:DAYLIGHT
BEGIN:STANDARD
TZOFFSETFROM:+1100
TZOFFSETTO:+1000
TZNAME:AEST
DTSTART:20270403T160000
END:STANDARD
BEGIN:DAYLIGHT
TZOFFSETFROM:+1000
TZOFFSETTO:+1100
TZNAME:AEDT
DTSTART:20271002T160000
END:DAYLIGHT
BEGIN:STANDARD
TZOFFSETFROM:+1100
TZOFFSETTO:+1000
TZNAME:AEST
DTSTART:20280401T160000
END:STANDARD
BEGIN:DAYLIGHT
TZOFFSETFROM:+1000
TZOFFSETTO:+1100
TZNAME:AEDT
DTSTART:20280930T160000
END:DAYLIGHT
END:VTIMEZONE
BEGIN:VEVENT
DTSTART;TZID=Australia/Sydney:20270320T080000
DTEND;TZID=Australia/Sydney:20270321T170000
DTSTAMP:20260426T004305
CREATED:20220801T194749Z
LAST-MODIFIED:20220801T194749Z
UID:2172-1805529600-1805648400@bungendoreshowground.com.au
SUMMARY:Lake George PoloX Carnival
DESCRIPTION:
URL:https://bungendoreshowground.com.au/event/lake-george-polox-carnival-3-2027-03-20/
LOCATION:Mathews Lane off Bungendore Rd\, Bungendore\, NSW\, Australia
CATEGORIES:5 - Carpark,Major Event
END:VEVENT
END:VCALENDAR